BEGIN:VCALENDAR
VERSION:2.0
PRODID:-//Christ Church United Reformed Church, Petts Wood - ECPv6.15.20//NONSGML v1.0//EN
CALSCALE:GREGORIAN
METHOD:PUBLISH
X-WR-CALNAME:Christ Church United Reformed Church, Petts Wood
X-ORIGINAL-URL:https://christchurchpettswood.org.uk
X-WR-CALDESC:Events for Christ Church United Reformed Church, Petts Wood
REFRESH-INTERVAL;VALUE=DURATION:PT1H
X-Robots-Tag:noindex
X-PUBLISHED-TTL:PT1H
BEGIN:VTIMEZONE
TZID:Europe/London
BEGIN:DAYLIGHT
TZOFFSETFROM:+0000
TZOFFSETTO:+0100
TZNAME:BST
DTSTART:20220327T010000
END:DAYLIGHT
BEGIN:STANDARD
TZOFFSETFROM:+0100
TZOFFSETTO:+0000
TZNAME:GMT
DTSTART:20221030T010000
END:STANDARD
BEGIN:DAYLIGHT
TZOFFSETFROM:+0000
TZOFFSETTO:+0100
TZNAME:BST
DTSTART:20230326T010000
END:DAYLIGHT
BEGIN:STANDARD
TZOFFSETFROM:+0100
TZOFFSETTO:+0000
TZNAME:GMT
DTSTART:20231029T010000
END:STANDARD
BEGIN:DAYLIGHT
TZOFFSETFROM:+0000
TZOFFSETTO:+0100
TZNAME:BST
DTSTART:20240331T010000
END:DAYLIGHT
BEGIN:STANDARD
TZOFFSETFROM:+0100
TZOFFSETTO:+0000
TZNAME:GMT
DTSTART:20241027T010000
END:STANDARD
END:VTIMEZONE
BEGIN:VEVENT
DTSTART;TZID=Europe/London:20230122T160000
DTEND;TZID=Europe/London:20230122T180000
DTSTAMP:20260423T063345
CREATED:20230121T112749Z
LAST-MODIFIED:20230121T112749Z
UID:10459-1674403200-1674410400@christchurchpettswood.org.uk
SUMMARY:Messy Church
DESCRIPTION:Join us from 4pm for a fun Messy Blast Off! a lovely variety of Crafts\, activities\, worship and party-style tea. \nFind out more about Messy Church here 
URL:https://christchurchpettswood.org.uk/event/messy-church/
LOCATION:Christ Church Petts Wood\, Tudor Way\, Orpington\, BR5 1LH\, United Kingdom
CATEGORIES:Children & Youth,Church Events
ATTACH;FMTTYPE=image/jpeg:https://christchurchpettswood.org.uk/wp-content/uploads/2023/01/messy-church-jan-23-updated.jpg
END:VEVENT
END:VCALENDAR