BEGIN:VCALENDAR
VERSION:2.0
PRODID:-//Christ Church United Reformed Church, Petts Wood - ECPv6.15.20//NONSGML v1.0//EN
CALSCALE:GREGORIAN
METHOD:PUBLISH
X-ORIGINAL-URL:https://christchurchpettswood.org.uk
X-WR-CALDESC:Events for Christ Church United Reformed Church, Petts Wood
REFRESH-INTERVAL;VALUE=DURATION:PT1H
X-Robots-Tag:noindex
X-PUBLISHED-TTL:PT1H
BEGIN:VTIMEZONE
TZID:Europe/London
BEGIN:DAYLIGHT
TZOFFSETFROM:+0000
TZOFFSETTO:+0100
TZNAME:BST
DTSTART:20210328T010000
END:DAYLIGHT
BEGIN:STANDARD
TZOFFSETFROM:+0100
TZOFFSETTO:+0000
TZNAME:GMT
DTSTART:20211031T010000
END:STANDARD
BEGIN:DAYLIGHT
TZOFFSETFROM:+0000
TZOFFSETTO:+0100
TZNAME:BST
DTSTART:20220327T010000
END:DAYLIGHT
BEGIN:STANDARD
TZOFFSETFROM:+0100
TZOFFSETTO:+0000
TZNAME:GMT
DTSTART:20221030T010000
END:STANDARD
BEGIN:DAYLIGHT
TZOFFSETFROM:+0000
TZOFFSETTO:+0100
TZNAME:BST
DTSTART:20230326T010000
END:DAYLIGHT
BEGIN:STANDARD
TZOFFSETFROM:+0100
TZOFFSETTO:+0000
TZNAME:GMT
DTSTART:20231029T010000
END:STANDARD
END:VTIMEZONE
BEGIN:VEVENT
DTSTART;TZID=Europe/London:20221224T233000
DTEND;TZID=Europe/London:20221225T003000
DTSTAMP:20260421T012408
CREATED:20221223T174614Z
LAST-MODIFIED:20221223T174614Z
UID:10357-1671924600-1671928200@christchurchpettswood.org.uk
SUMMARY:Midnight service
DESCRIPTION:Join us in person and online for our\nMidnight Communion\n24 December 2022 from 11.30pm\n\nOrder of service:\nCall to worship\nHYMN R&S 162 In the bleak mid-winter\nPrayer\nHYMN R&S 153 On Christmas night\nScripture reading Luke 2:1-7 – Martin Leonard\nAddress\nHYMN R&S 147 Silent night\nHoly Communion\nLighting of Christmas candle\nPrayer\nHYMNS R&S 159 Hark the herald angels sing\nBlessing\nGrace\nThere will be a retiring offering
URL:https://christchurchpettswood.org.uk/event/midnight-service/
LOCATION:Christ Church Petts Wood\, Tudor Way\, Orpington\, BR5 1LH\, United Kingdom
CATEGORIES:Church Events
ATTACH;FMTTYPE=image/jpeg:https://christchurchpettswood.org.uk/wp-content/uploads/2022/11/Christmas-Eve-Service.jpg
END:VEVENT
END:VCALENDAR