BEGIN:VCALENDAR
VERSION:2.0
PRODID:-//Christ Church United Reformed Church, Petts Wood - ECPv6.15.20//NONSGML v1.0//EN
CALSCALE:GREGORIAN
METHOD:PUBLISH
X-ORIGINAL-URL:https://christchurchpettswood.org.uk
X-WR-CALDESC:Events for Christ Church United Reformed Church, Petts Wood
REFRESH-INTERVAL;VALUE=DURATION:PT1H
X-Robots-Tag:noindex
X-PUBLISHED-TTL:PT1H
BEGIN:VTIMEZONE
TZID:Europe/London
BEGIN:DAYLIGHT
TZOFFSETFROM:+0000
TZOFFSETTO:+0100
TZNAME:BST
DTSTART:20210328T010000
END:DAYLIGHT
BEGIN:STANDARD
TZOFFSETFROM:+0100
TZOFFSETTO:+0000
TZNAME:GMT
DTSTART:20211031T010000
END:STANDARD
BEGIN:DAYLIGHT
TZOFFSETFROM:+0000
TZOFFSETTO:+0100
TZNAME:BST
DTSTART:20220327T010000
END:DAYLIGHT
BEGIN:STANDARD
TZOFFSETFROM:+0100
TZOFFSETTO:+0000
TZNAME:GMT
DTSTART:20221030T010000
END:STANDARD
BEGIN:DAYLIGHT
TZOFFSETFROM:+0000
TZOFFSETTO:+0100
TZNAME:BST
DTSTART:20230326T010000
END:DAYLIGHT
BEGIN:STANDARD
TZOFFSETFROM:+0100
TZOFFSETTO:+0000
TZNAME:GMT
DTSTART:20231029T010000
END:STANDARD
END:VTIMEZONE
BEGIN:VEVENT
DTSTART;TZID=Europe/London:20220501T103000
DTEND;TZID=Europe/London:20220501T113000
DTSTAMP:20260419T194948
CREATED:20220429T141830Z
LAST-MODIFIED:20220429T141830Z
UID:9896-1651401000-1651404600@christchurchpettswood.org.uk
SUMMARY:Sunday Worship with Holy Communion
DESCRIPTION:This service is led by our Minister\, Revd. Nadene Snyman from 10.30am\nAll welcome\nIn person and streamed to YouTube\nOrder of service:\nCall to worship & Welcome\nPrayer\nChildren’s address\nNotices\nHymn R&S 195 Lord of the dance\n*Children leave for Church of Youth and craft activities*\nReadings Acts 9: 1-6 & John 21.1-19\nHymn R&S 560 Glorious things of thee /you spoken\nSermon\nChoir Anthem\nCommunion\nHymn R&S 657 Rejoice the lord is king\nPrayers of Intercession and The Lord’s Prayer\nHymn R&S 558 Will you come and follow me\nBlessing & Grace\nJoin us for tea & coffee after the service
URL:https://christchurchpettswood.org.uk/event/sunday-worship-with-holy-communion-9/
LOCATION:Christ Church Petts Wood\, Tudor Way\, Orpington\, BR5 1LH\, United Kingdom
CATEGORIES:Church Events
ATTACH;FMTTYPE=image/png:https://christchurchpettswood.org.uk/wp-content/uploads/2022/04/Welcome-_-Advert.png
END:VEVENT
BEGIN:VEVENT
DTSTART;TZID=Europe/London:20220502T200000
DTEND;TZID=Europe/London:20220502T213000
DTSTAMP:20260419T194948
CREATED:20220410T134738Z
LAST-MODIFIED:20220501T145055Z
UID:9781-1651521600-1651527000@christchurchpettswood.org.uk
SUMMARY:Evening Book Club - Essex Serpent
DESCRIPTION:For May book Club we will be discussing The Essex Serpent by Sarah Perry\, an award winning novel which encourages all to test their allegiance to faith or reason in an age of rapid scientific advancement. \nBook Club takes place on the first Monday of the month at 8pm and the first Thursday of the month at 2pm. The evening book club is going ahead on 2nd of May despite it being the Bank Holiday\, see you at Fiona’s house from 8pm – if you don’t have the address please get in touch. \nNew members very welcome\, please email bookclub@ccpw.org.uk 
URL:https://christchurchpettswood.org.uk/event/daytime-book-club-essex-serpent/
CATEGORIES:Church Events
ATTACH;FMTTYPE=image/jpeg:https://christchurchpettswood.org.uk/wp-content/uploads/2022/04/Essex-Serpent.jpg
END:VEVENT
BEGIN:VEVENT
DTSTART;TZID=Europe/London:20220505T140000
DTEND;TZID=Europe/London:20220505T153000
DTSTAMP:20260419T194948
CREATED:20220410T135236Z
LAST-MODIFIED:20220501T145144Z
UID:9784-1651759200-1651764600@christchurchpettswood.org.uk
SUMMARY:Daytime book club - The Essex Serpent
DESCRIPTION:For May book Club we will be discussing The Essex Serpent by Sarah Perry\, an award winning novel which encourages all to test their allegiance to faith or reason in an age of rapid scientific advancement. \nBook Club takes place on the first Monday of the month at 8pm and the first Thursday of the month at 2pm. \nNew members very welcome\, please email bookclub@ccpw.org.uk 
URL:https://christchurchpettswood.org.uk/event/daytime-book-club-the-essex-serpent/
CATEGORIES:Church Events
ATTACH;FMTTYPE=image/jpeg:https://christchurchpettswood.org.uk/wp-content/uploads/2022/04/Essex-Serpent.jpg
END:VEVENT
BEGIN:VEVENT
DTSTART;TZID=Europe/London:20220508T103000
DTEND;TZID=Europe/London:20220508T113000
DTSTAMP:20260419T194948
CREATED:20220501T145908Z
LAST-MODIFIED:20220502T090153Z
UID:9900-1652005800-1652009400@christchurchpettswood.org.uk
SUMMARY:Sunday Family Worship
DESCRIPTION:Please join us for Worship from 10.30am on Sunday. As our Minister is leading the service at Beckenham URC\, this service will be led by Mrs Marion Bayley. This service will be in person and also livestreamed to YouTube. \nOrder of service: \nWelcome/Notices \nCall to Worship \nHymn R&S 38 Thou whose almighty Word \nPrayers Adoration & Approach; Confession & Assurance of Pardon \nFamily Time – Farmer Brown and his flock of sheep \nHymn SOF 1030 The Lord’s my shepherd (Townend) \nReadings John 10: 22-30 & Revelation 7: 9-17 \nHymn: SOF 1187 Before the throne of God above \nSermon \nHymn R&S 364 Just as I am\, without one plea \nPrayers : Thanksgiving\, Intercession\, Petition\nThe Lord’s Prayer \nHymn SOF 465 Praise him\, praise him \nBlessing
URL:https://christchurchpettswood.org.uk/event/sunday-family-worship-37/
LOCATION:Christ Church Petts Wood\, Tudor Way\, Orpington\, BR5 1LH\, United Kingdom
CATEGORIES:Church Events
ATTACH;FMTTYPE=image/png:https://christchurchpettswood.org.uk/wp-content/uploads/2022/05/8-May-Advert.png
END:VEVENT
BEGIN:VEVENT
DTSTART;TZID=Europe/London:20220522T103000
DTEND;TZID=Europe/London:20220522T113000
DTSTAMP:20260419T194948
CREATED:20220520T181110Z
LAST-MODIFIED:20220520T181110Z
UID:9922-1653215400-1653219000@christchurchpettswood.org.uk
SUMMARY:Parade Service
DESCRIPTION:Please join us for a Brownie & Guide Parade service on the theme of\n“Loving & serving your neighbour”\n22nd May 2022 10.30am\nIn person only – a different service will be available on our YouTube channel \nCall to worship\nHymn SoF 362: Shine Jesus shine\nOpening Prayers\nNotices\nTheme introduction – ‘Horton hears a who!’\nReading: Luke 10:25-37\nHymn: Come & Praise 70: Cross over the road\nSketch ‘Inn Trouble’\nChoir: Such Love\nOur Brownie & Guide\, Promise & Law Introduction\nSigning the Promise\nOffertory\nHymn: SoF 1604: When I needed a Neighbour\nReflection\nSong ‘Tomorrow’\nPrayers for others & the Lord’s Prayer\nHymn – R&S 523: Give me Joy in my heart\nBlessing & Grace\nJoin us for tea & coffee after the service
URL:https://christchurchpettswood.org.uk/event/parade-service-3/
CATEGORIES:Children & Youth,Church Events
ATTACH;FMTTYPE=image/png:https://christchurchpettswood.org.uk/wp-content/uploads/2022/05/Brownie-and-Guide-Parade-Advert-May-22-2022.png
END:VEVENT
BEGIN:VEVENT
DTSTART;TZID=Europe/London:20220527T103000
DTEND;TZID=Europe/London:20220527T120000
DTSTAMP:20260419T194948
CREATED:20220526T210931Z
LAST-MODIFIED:20220526T210931Z
UID:9936-1653647400-1653652800@christchurchpettswood.org.uk
SUMMARY:Coffee Stop
DESCRIPTION:Join us for a a cup of tea or coffee and a delicious slice of cake\, more importantly\, meet up for a chat and friendship. Held in the Lounge\, access from the Willett Way car park. There is no coffee stop on Friday 3rd of June due to the Jubilee holiday.
URL:https://christchurchpettswood.org.uk/event/coffee-stop-43/
LOCATION:Christ Church Petts Wood\, Tudor Way\, Orpington\, BR5 1LH\, United Kingdom
CATEGORIES:Church Events
ATTACH;FMTTYPE=image/png:https://christchurchpettswood.org.uk/wp-content/uploads/2022/02/Screenshot-2022-02-15-at-23.26.03.png
END:VEVENT
BEGIN:VEVENT
DTSTART;TZID=Europe/London:20220529T103000
DTEND;TZID=Europe/London:20220529T170000
DTSTAMP:20260419T194948
CREATED:20220526T210638Z
LAST-MODIFIED:20220526T210638Z
UID:9933-1653820200-1653843600@christchurchpettswood.org.uk
SUMMARY:Sunday Worship
DESCRIPTION:Sunday Worship is being led by Mrs Rachel Millington. The service will be in person from 10.30am and also broadcast to YouTube\nWelcome and notices (Church Secretary)\nCall to worship\nHymn: There is a Redeemer SOF 544\nPrayers of praise and confession Mary\nHymn: Lord\, I lift your name on high – SOF 897\nWatsan video\nOffertory\, offertory prayer\nHymn: I will offer up my life SOF 851\nReading Matthew 22: 15 – 22\nSermon\nHymn: For I am building a people of Power SOF 111\nPrayers of intercession\nHymn: Love Divine SOF 377. Tune Blaenwern R&S 95\nBlessing and The Grace\n\nJoin us for tea & coffee after the service
URL:https://christchurchpettswood.org.uk/event/sunday-worship-6/
LOCATION:Christ Church Petts Wood\, Tudor Way\, Orpington\, BR5 1LH\, United Kingdom
CATEGORIES:Church Events
ATTACH;FMTTYPE=image/png:https://christchurchpettswood.org.uk/wp-content/uploads/2022/05/29-May.png
END:VEVENT
END:VCALENDAR