BEGIN:VCALENDAR
VERSION:2.0
PRODID:-//Christ Church United Reformed Church, Petts Wood - ECPv6.15.20//NONSGML v1.0//EN
CALSCALE:GREGORIAN
METHOD:PUBLISH
X-WR-CALNAME:Christ Church United Reformed Church, Petts Wood
X-ORIGINAL-URL:https://christchurchpettswood.org.uk
X-WR-CALDESC:Events for Christ Church United Reformed Church, Petts Wood
REFRESH-INTERVAL;VALUE=DURATION:PT1H
X-Robots-Tag:noindex
X-PUBLISHED-TTL:PT1H
BEGIN:VTIMEZONE
TZID:Europe/London
BEGIN:DAYLIGHT
TZOFFSETFROM:+0000
TZOFFSETTO:+0100
TZNAME:BST
DTSTART:20210328T010000
END:DAYLIGHT
BEGIN:STANDARD
TZOFFSETFROM:+0100
TZOFFSETTO:+0000
TZNAME:GMT
DTSTART:20211031T010000
END:STANDARD
BEGIN:DAYLIGHT
TZOFFSETFROM:+0000
TZOFFSETTO:+0100
TZNAME:BST
DTSTART:20220327T010000
END:DAYLIGHT
BEGIN:STANDARD
TZOFFSETFROM:+0100
TZOFFSETTO:+0000
TZNAME:GMT
DTSTART:20221030T010000
END:STANDARD
BEGIN:DAYLIGHT
TZOFFSETFROM:+0000
TZOFFSETTO:+0100
TZNAME:BST
DTSTART:20230326T010000
END:DAYLIGHT
BEGIN:STANDARD
TZOFFSETFROM:+0100
TZOFFSETTO:+0000
TZNAME:GMT
DTSTART:20231029T010000
END:STANDARD
END:VTIMEZONE
BEGIN:VEVENT
DTSTART;TZID=Europe/London:20220403T103000
DTEND;TZID=Europe/London:20220403T113000
DTSTAMP:20260419T213022
CREATED:20220324T092056Z
LAST-MODIFIED:20220401T194703Z
UID:9751-1648981800-1648985400@christchurchpettswood.org.uk
SUMMARY:Family Worship with Holy Communion
DESCRIPTION:Join us for a service of Worship from 10.30am which includes Holy Communion. The children will have the opportunity to do fun craft activities in Church of Youth. \nIn person & streamed to YouTube \nOrder of service \nCall to worship & Welcome \nChildren’s address \nHymn: SoF 124 Give thanks with a grateful heart  \nThe children leave for CoY for crafts \nPrayer and the Lord’s Prayer \nNotices \nHymn: R&S 717 Give praise and thanks unto the Lord \nReadings: Isaiah 43.16-21 and John 12.1-8 \nSermon \nHymn: R&S 72 Now thank we all our God \nCommunion \nPrayers of Intercession \nHymn: R&S 489 Be thou my vision\, O Lord of my heart  \nBlessing & Grace \n  \nJoin us for tea & coffee after the service  \n 
URL:https://christchurchpettswood.org.uk/event/family-worship-with-holy-communion-12/
LOCATION:Christ Church Petts Wood\, Tudor Way\, Orpington\, BR5 1LH\, United Kingdom
CATEGORIES:Church Events
ATTACH;FMTTYPE=image/png:https://christchurchpettswood.org.uk/wp-content/uploads/2022/03/ThumbnailWelcome.png
END:VEVENT
BEGIN:VEVENT
DTSTART;TZID=Europe/London:20220404T200000
DTEND;TZID=Europe/London:20220404T213000
DTSTAMP:20260419T213022
CREATED:20220401T195200Z
LAST-MODIFIED:20220401T195200Z
UID:9763-1649102400-1649107800@christchurchpettswood.org.uk
SUMMARY:Book Club - Poachers Pilgrimage
DESCRIPTION:Book Club is discussing \nPoachers Pilgrimage by Alistair Macintosh\nA 12 day pilgrimage in the Outer Hebrides in appalling weather. A walk through space and time across a physical landscape and into a spiritual one. \nBook Club takes place the first Monday of the month at 8pm and the first Thursday of the month at 2pm. Please message bookclub@ccpw.org.uk for information on meeting location
URL:https://christchurchpettswood.org.uk/event/book-club-poachers-pilgrimage/
CATEGORIES:Church Events
ATTACH;FMTTYPE=image/jpeg:https://christchurchpettswood.org.uk/wp-content/uploads/2022/02/Book-Club-2022b.jpg
END:VEVENT
BEGIN:VEVENT
DTSTART;TZID=Europe/London:20220407T140000
DTEND;TZID=Europe/London:20220407T153000
DTSTAMP:20260419T213022
CREATED:20220401T195321Z
LAST-MODIFIED:20220401T195321Z
UID:9765-1649340000-1649345400@christchurchpettswood.org.uk
SUMMARY:Book Club - Poachers Pilgrimage
DESCRIPTION:Book Club is discussing \nPoachers Pilgrimage by Alistair Macintosh\nA 12 day pilgrimage in the Outer Hebrides in appalling weather. A walk through space and time across a physical landscape and into a spiritual one. \nBook Club takes place the first Monday of the month at 8pm and the first Thursday of the month at 2pm. Please message bookclub@ccpw.org.uk for information on meeting location
URL:https://christchurchpettswood.org.uk/event/book-club-poachers-pilgrimage-2/
CATEGORIES:Church Events
ATTACH;FMTTYPE=image/jpeg:https://christchurchpettswood.org.uk/wp-content/uploads/2022/02/Book-Club-2022b.jpg
END:VEVENT
BEGIN:VEVENT
DTSTART;TZID=Europe/London:20220410T103000
DTEND;TZID=Europe/London:20220410T113000
DTSTAMP:20260419T213022
CREATED:20220405T195943Z
LAST-MODIFIED:20220405T195943Z
UID:9767-1649586600-1649590200@christchurchpettswood.org.uk
SUMMARY:Palm Sunday Family Worship
DESCRIPTION:Join us from 10.30am this Sunday for Worship\, led by our Minister\, Rev’d Nadene Snyman for Palm Sunday.\n\nOrder of service: \nCall to worship & Welcome\nHymn R&S 141 Make Way\, make way for Christ the King\,\nOpening Prayer\nChildren’s address\nNotices\nHymn R&S 210 We have a king who rides a donkey\nReading Isaiah 50.4-9a\nReading Luke 19.28-40\nSermon\nHymn R&S 209 Ride on\, ride on in majesty\nPrayers of Intercession and The Lord’s Prayer\nHymn SoF 390 Meekness and Majesty\nBlessing & Grace\n\nThe service will also be livestreamed to YouTube
URL:https://christchurchpettswood.org.uk/event/palm-sunday-family-worship/
LOCATION:Christ Church Petts Wood\, Tudor Way\, Orpington\, BR5 1LH\, United Kingdom
CATEGORIES:Church Events
ATTACH;FMTTYPE=image/png:https://christchurchpettswood.org.uk/wp-content/uploads/2022/02/PalmSunday.png
END:VEVENT
BEGIN:VEVENT
DTSTART;TZID=Europe/London:20220414T190000
DTEND;TZID=Europe/London:20220414T203000
DTSTAMP:20260419T213022
CREATED:20220228T194415Z
LAST-MODIFIED:20220228T194415Z
UID:9695-1649962800-1649968200@christchurchpettswood.org.uk
SUMMARY:Maundy Thursday bring & share meal
DESCRIPTION:Join us for a bring and share meal and Maundy Thursday service from 7pm on Thursday 14th of April. No booking required.
URL:https://christchurchpettswood.org.uk/event/maundy-thursday-bring-share-meal/
LOCATION:Christ Church Petts Wood\, Tudor Way\, Orpington\, BR5 1LH\, United Kingdom
CATEGORIES:Church Events
ATTACH;FMTTYPE=image/png:https://christchurchpettswood.org.uk/wp-content/uploads/2022/02/MaundayThursday-.png
END:VEVENT
BEGIN:VEVENT
DTSTART;TZID=Europe/London:20220417T091500
DTEND;TZID=Europe/London:20220417T101500
DTSTAMP:20260419T213022
CREATED:20220410T124047Z
LAST-MODIFIED:20220410T124047Z
UID:9773-1650186900-1650190500@christchurchpettswood.org.uk
SUMMARY:Easter Breakfast
DESCRIPTION:Join us for Easter Breakfast on Sunday 17th April from 9.15am\, tickets £3\, email welcome@ccpw.org.uk
URL:https://christchurchpettswood.org.uk/event/easter-breakfast-2/
LOCATION:Christ Church Petts Wood\, Tudor Way\, Orpington\, BR5 1LH\, United Kingdom
CATEGORIES:Church Events
ATTACH;FMTTYPE=image/png:https://christchurchpettswood.org.uk/wp-content/uploads/2022/02/Breakfaast.png
END:VEVENT
BEGIN:VEVENT
DTSTART;TZID=Europe/London:20220417T103000
DTEND;TZID=Europe/London:20220417T113000
DTSTAMP:20260419T213022
CREATED:20220410T124224Z
LAST-MODIFIED:20220410T132756Z
UID:9775-1650191400-1650195000@christchurchpettswood.org.uk
SUMMARY:Easter Sunday service
DESCRIPTION:Join us on Easter Sunday from 10.30am for a service led by Mr Martin Leonard. Holy Communion will also be served. Please bring a flower with you to fill our wooden cross with life.
URL:https://christchurchpettswood.org.uk/event/easter-sunday-service-2/
LOCATION:Christ Church Petts Wood\, Tudor Way\, Orpington\, BR5 1LH\, United Kingdom
CATEGORIES:Church Events
ATTACH;FMTTYPE=image/png:https://christchurchpettswood.org.uk/wp-content/uploads/2022/02/Easter-Sunday.png
END:VEVENT
BEGIN:VEVENT
DTSTART;TZID=Europe/London:20220422T103000
DTEND;TZID=Europe/London:20220422T120000
DTSTAMP:20260419T213022
CREATED:20220410T140623Z
LAST-MODIFIED:20220410T140623Z
UID:9791-1650623400-1650628800@christchurchpettswood.org.uk
SUMMARY:Coffee Stop
DESCRIPTION:Coffee Stop takes place every Friday (but not on Good Friday or Public Holidays) in the Lounge (access from the Willet Way Car Park) from 10.30am to noon. You can pop in or stay for the whole time\, it is upto you.\nYou will be warmly welcomed.
URL:https://christchurchpettswood.org.uk/event/coffee-stop-42/
LOCATION:Christ Church Petts Wood\, Tudor Way\, Orpington\, BR5 1LH\, United Kingdom
CATEGORIES:Church Events
ATTACH;FMTTYPE=image/png:https://christchurchpettswood.org.uk/wp-content/uploads/2022/02/Screenshot-2022-02-15-at-23.26.03.png
END:VEVENT
BEGIN:VEVENT
DTSTART;TZID=Europe/London:20220424T103000
DTEND;TZID=Europe/London:20220424T113000
DTSTAMP:20260419T213022
CREATED:20220419T172150Z
LAST-MODIFIED:20220419T172150Z
UID:9802-1650796200-1650799800@christchurchpettswood.org.uk
SUMMARY:Sunday Family Worship
DESCRIPTION:Join us on Sunday 24th of April from 10.30am to hear the Good News! Led by our Minister\, Rev’d Nadene Snyman. In person or also livestreamed to YouTube \nOrder of Service: \nCall to worship \nWelcome \nPrayer \nHymn Light of the World \nNotices \nReading Psalm 118.14-29 \nReading John 20.19-31 \nHymn Jesus Christ – once again \nSermon \nHymn The Lord’s my Shepherd \nPrayers of Intercession and The Lord’s Prayer \nHymn When the music fades \nBlessing \nGrace
URL:https://christchurchpettswood.org.uk/event/sunday-family-worship-36/
LOCATION:Christ Church Petts Wood\, Tudor Way\, Orpington\, BR5 1LH\, United Kingdom
CATEGORIES:Church Events
ATTACH;FMTTYPE=image/png:https://christchurchpettswood.org.uk/wp-content/uploads/2022/04/WelcomeAdvert.png
END:VEVENT
BEGIN:VEVENT
DTSTART;TZID=Europe/London:20220424T160000
DTEND;TZID=Europe/London:20220424T180000
DTSTAMP:20260419T213022
CREATED:20220410T124820Z
LAST-MODIFIED:20220410T124820Z
UID:9777-1650816000-1650823200@christchurchpettswood.org.uk
SUMMARY:Messy Church - Messy Baptism
DESCRIPTION:Join us from 4pm on Sunday 24th of April for a special Messy Church when one of our Messy Church children is baptised. There will be the a wide range craft activities\, then a service including a baptism\, followed by a party-style tea. All welcome.
URL:https://christchurchpettswood.org.uk/event/messy-church-messy-baptism/
LOCATION:Christ Church Petts Wood\, Tudor Way\, Orpington\, BR5 1LH\, United Kingdom
CATEGORIES:Church Events
ATTACH;FMTTYPE=image/jpeg:https://christchurchpettswood.org.uk/wp-content/uploads/2022/04/Messy-Baptism-pic.jpg
END:VEVENT
END:VCALENDAR