BEGIN:VCALENDAR
VERSION:2.0
PRODID:-//Christ Church United Reformed Church, Petts Wood - ECPv6.15.20//NONSGML v1.0//EN
CALSCALE:GREGORIAN
METHOD:PUBLISH
X-ORIGINAL-URL:https://christchurchpettswood.org.uk
X-WR-CALDESC:Events for Christ Church United Reformed Church, Petts Wood
REFRESH-INTERVAL;VALUE=DURATION:PT1H
X-Robots-Tag:noindex
X-PUBLISHED-TTL:PT1H
BEGIN:VTIMEZONE
TZID:Europe/London
BEGIN:DAYLIGHT
TZOFFSETFROM:+0000
TZOFFSETTO:+0100
TZNAME:BST
DTSTART:20200329T010000
END:DAYLIGHT
BEGIN:STANDARD
TZOFFSETFROM:+0100
TZOFFSETTO:+0000
TZNAME:GMT
DTSTART:20201025T010000
END:STANDARD
BEGIN:DAYLIGHT
TZOFFSETFROM:+0000
TZOFFSETTO:+0100
TZNAME:BST
DTSTART:20210328T010000
END:DAYLIGHT
BEGIN:STANDARD
TZOFFSETFROM:+0100
TZOFFSETTO:+0000
TZNAME:GMT
DTSTART:20211031T010000
END:STANDARD
BEGIN:DAYLIGHT
TZOFFSETFROM:+0000
TZOFFSETTO:+0100
TZNAME:BST
DTSTART:20220327T010000
END:DAYLIGHT
BEGIN:STANDARD
TZOFFSETFROM:+0100
TZOFFSETTO:+0000
TZNAME:GMT
DTSTART:20221030T010000
END:STANDARD
END:VTIMEZONE
BEGIN:VEVENT
DTSTART;TZID=Europe/London:20211101T200000
DTEND;TZID=Europe/London:20211101T213000
DTSTAMP:20260420T051153
CREATED:20211017T134451Z
LAST-MODIFIED:20211017T134451Z
UID:9199-1635796800-1635802200@christchurchpettswood.org.uk
SUMMARY:Book Club: The Year of Magical Thinking
DESCRIPTION:For November our book is \nThe year of magical thinking by Joan Didion \nWhile Joan’s only child lie critically ill her husband died suddenly. Eventually she wrote a book of the first 12 months of bereavement and the vigil for her child. Raw\, insightful and challenging\, it is a rich and graceful document \nWe will meet in the home of one of our membership\, if you can’t make the evening Book Club – do consider our daytime bookclub \nWe meet the first Monday of the month at 8pm and the first Thursday of the month at 2pm
URL:https://christchurchpettswood.org.uk/event/book-club-the-year-of-magical-thinking/
CATEGORIES:Church Events
ATTACH;FMTTYPE=image/jpeg:https://christchurchpettswood.org.uk/wp-content/uploads/2021/10/YearMagicalThinking-scaled.jpg
END:VEVENT
BEGIN:VEVENT
DTSTART;TZID=Europe/London:20211104T140000
DTEND;TZID=Europe/London:20211104T153000
DTSTAMP:20260420T051153
CREATED:20211017T134805Z
LAST-MODIFIED:20211017T134805Z
UID:9201-1636034400-1636039800@christchurchpettswood.org.uk
SUMMARY:Daytime book club: The year of magical thinking
DESCRIPTION:For November our book is \nThe year of magical thinking by Joan Didion \nWhile Joan’s only child lie critically ill her husband died suddenly. Eventually she wrote a book of the first 12 months of bereavement and the vigil for her child. Raw\, insightful and challenging\, it is a rich and graceful document \nWe will meet in the home of one of our membership\, if you can’t make the daytime Book Club – do consider our evening bookclub \nWe meet the first Monday of the month at 8pm and the first Thursday of the month at 2pm
URL:https://christchurchpettswood.org.uk/event/daytime-book-club-the-year-of-magical-thinking/
CATEGORIES:Church Events
ATTACH;FMTTYPE=image/jpeg:https://christchurchpettswood.org.uk/wp-content/uploads/2021/10/YearMagicalThinking-scaled.jpg
END:VEVENT
BEGIN:VEVENT
DTSTART;TZID=Europe/London:20211107T103000
DTEND;TZID=Europe/London:20211107T113000
DTSTAMP:20260420T051153
CREATED:20211106T081106Z
LAST-MODIFIED:20211106T081106Z
UID:9301-1636281000-1636284600@christchurchpettswood.org.uk
SUMMARY:Sunday Worship with Holy Communion
DESCRIPTION:Join us for worship and Holy Communion led by Mrs Katherine Copley. Our Church of Youth will have their craft activities to do too so fun for all ages. \nOrder of Service – Sunday 7th November 2021 \nWelcome \nCall to Worship \nHymn: R&S 72: Now Thank we all our God \nPrayers of Thanksgiving & Confession & The Lord’s Prayer – Ivy & Kat \nBible Reading: Mark 12.38-44 – Rachel Millington \nAll Age Talk – Fiona \nSong: Love is something if you give it away \nNotices – Fiona \nOffertory Prayer & children leave for COY \nHymn: R&S 492 Dear Lord and Father of Mankind \nReflection – Kat \nChoir: Let us break bread together \nCommunion – Kat \nPrayers of Intercession – Kerry \nHymn: R&S 620: For the Healing of the Nations \nBlessing \nGrace \nJoin us for tea and coffee after the service \nIf you are unable to join us in person this service is also live streamed to YouTube
URL:https://christchurchpettswood.org.uk/event/sunday-worship-with-holy-communion-7/
LOCATION:Christ Church Petts Wood\, Tudor Way\, Orpington\, BR5 1LH\, United Kingdom
CATEGORIES:Church Events
ATTACH;FMTTYPE=image/jpeg:https://christchurchpettswood.org.uk/wp-content/uploads/2021/11/Giving-Your-All-Advert-final.jpg
END:VEVENT
BEGIN:VEVENT
DTSTART;TZID=Europe/London:20211107T160000
DTEND;TZID=Europe/London:20211107T170000
DTSTAMP:20260420T051153
CREATED:20211017T133516Z
LAST-MODIFIED:20211017T133516Z
UID:9197-1636300800-1636304400@christchurchpettswood.org.uk
SUMMARY:Café Church
DESCRIPTION:Join us for Café Church once a month at 4pm on the first Sunday of the month. This is aimed at all ages\, a relaxed service will take place in the Church Sanctuary where you are welcome to pop to the hatch to the kitchen at any time to grab a tea or coffee\, no need to stay seated. Afterward there will be events more aimed at the younger generation with uni-hoc\, table tennis and whatever sport gets the highest vote and we have the equipment for!
URL:https://christchurchpettswood.org.uk/event/cafe-church-2/
LOCATION:Christ Church Petts Wood\, Tudor Way\, Orpington\, BR5 1LH\, United Kingdom
CATEGORIES:Children & Youth,Church Events
ATTACH;FMTTYPE=image/png:https://christchurchpettswood.org.uk/wp-content/uploads/2021/08/Main-Cafe-Church-Advert-2.png
END:VEVENT
BEGIN:VEVENT
DTSTART;TZID=Europe/London:20211121T103000
DTEND;TZID=Europe/London:20211121T113000
DTSTAMP:20260420T051153
CREATED:20211120T090725Z
LAST-MODIFIED:20211120T090725Z
UID:9325-1637490600-1637494200@christchurchpettswood.org.uk
SUMMARY:Sunday Family Worship
DESCRIPTION:Rev Bill Bowman leads our worship this Sunday from 10.30am\, do join us for worship and then tea and coffee after the service\, all welcome.\nThis service will also be live streamed to YouTube\nOrder of service:\nNotices\nCall to worship\nHymn – 681 R&S “Ye gates\, lift up your heads on high”\nPrayers (including Offertory Prayer)\nThe Lord’s Prayer\nReading – Daniel 7: 9-10 & 13-14\nAll age talk\n141 R&S “Make way\, make way for Christ the King.”\nChurch of Youth leave? (Prayer)\nReading – John 18:33-40\nSermon\nHymn – 264 R&S “He is Lord”\nPrayers of Intercession\nHymn – “Our eyes have seen the glory”\nBlessing
URL:https://christchurchpettswood.org.uk/event/sunday-family-worship-33/
LOCATION:Christ Church Petts Wood\, Tudor Way\, Orpington\, BR5 1LH\, United Kingdom
CATEGORIES:Church Events
ATTACH;FMTTYPE=image/jpeg:https://christchurchpettswood.org.uk/wp-content/uploads/2021/11/Sunday-21st-November-21-Advert-Final.jpg
END:VEVENT
BEGIN:VEVENT
DTSTART;TZID=Europe/London:20211126T103000
DTEND;TZID=Europe/London:20211126T120000
DTSTAMP:20260420T051153
CREATED:20211120T090935Z
LAST-MODIFIED:20211120T090935Z
UID:9327-1637922600-1637928000@christchurchpettswood.org.uk
SUMMARY:Coffee Stop
DESCRIPTION:Coffee Stop takes place every Friday in the Lounge (access from the Willet Way Car Park) from 10.30am to noon. You can pop in or stay for the whole time\, it is upto you. Tea\, coffee\, cakes and conversation. \nYou will be warmly welcomed.
URL:https://christchurchpettswood.org.uk/event/coffee-stop-32/
LOCATION:Christ Church Petts Wood\, Tudor Way\, Orpington\, BR5 1LH\, United Kingdom
CATEGORIES:Church Events
ATTACH;FMTTYPE=image/jpeg:https://christchurchpettswood.org.uk/wp-content/uploads/2019/03/Coffee-and-cake-1920x1200.jpg
END:VEVENT
END:VCALENDAR