BEGIN:VCALENDAR
VERSION:2.0
PRODID:-//Christ Church United Reformed Church, Petts Wood - ECPv6.15.20//NONSGML v1.0//EN
CALSCALE:GREGORIAN
METHOD:PUBLISH
X-ORIGINAL-URL:https://christchurchpettswood.org.uk
X-WR-CALDESC:Events for Christ Church United Reformed Church, Petts Wood
REFRESH-INTERVAL;VALUE=DURATION:PT1H
X-Robots-Tag:noindex
X-PUBLISHED-TTL:PT1H
BEGIN:VTIMEZONE
TZID:Europe/London
BEGIN:DAYLIGHT
TZOFFSETFROM:+0000
TZOFFSETTO:+0100
TZNAME:BST
DTSTART:20200329T010000
END:DAYLIGHT
BEGIN:STANDARD
TZOFFSETFROM:+0100
TZOFFSETTO:+0000
TZNAME:GMT
DTSTART:20201025T010000
END:STANDARD
BEGIN:DAYLIGHT
TZOFFSETFROM:+0000
TZOFFSETTO:+0100
TZNAME:BST
DTSTART:20210328T010000
END:DAYLIGHT
BEGIN:STANDARD
TZOFFSETFROM:+0100
TZOFFSETTO:+0000
TZNAME:GMT
DTSTART:20211031T010000
END:STANDARD
BEGIN:DAYLIGHT
TZOFFSETFROM:+0000
TZOFFSETTO:+0100
TZNAME:BST
DTSTART:20220327T010000
END:DAYLIGHT
BEGIN:STANDARD
TZOFFSETFROM:+0100
TZOFFSETTO:+0000
TZNAME:GMT
DTSTART:20221030T010000
END:STANDARD
END:VTIMEZONE
BEGIN:VEVENT
DTSTART;TZID=Europe/London:20210902T130000
DTEND;TZID=Europe/London:20210902T143000
DTSTAMP:20260422T123914
CREATED:20210831T190522Z
LAST-MODIFIED:20210831T190522Z
UID:9106-1630587600-1630593000@christchurchpettswood.org.uk
SUMMARY:Lunch Club
DESCRIPTION:The Lunch Club is there for the ‘mature of years’ or those who are feeling isolated. It is an opportunity to get together\, eat good food and share time with others. You will be made welcome.\nIt takes place in the Marlborough Hall.\nPlease contact welcome@ccpw.org.uk for more information
URL:https://christchurchpettswood.org.uk/event/lunch-club-3/
LOCATION:Christ Church Petts Wood\, Tudor Way\, Orpington\, BR5 1LH\, United Kingdom
CATEGORIES:Church Events
ATTACH;FMTTYPE=image/png:https://christchurchpettswood.org.uk/wp-content/uploads/2021/08/Lunch-Club-Advert-Screens.png
END:VEVENT
BEGIN:VEVENT
DTSTART;TZID=Europe/London:20210902T140000
DTEND;TZID=Europe/London:20210902T170000
DTSTAMP:20260422T123914
CREATED:20210831T193314Z
LAST-MODIFIED:20210831T193314Z
UID:9115-1630591200-1630602000@christchurchpettswood.org.uk
SUMMARY:Daytime Book Club - American Dirt
DESCRIPTION:Join us for a discussion of American Dirt by Jeanine Cummins\nA novel about the ordeal of a Mexican woman who had to leave behind her life and escape as an undocumented immigrant to the United States with her son\nMore details via bookclub@ccpw.org.uk 
URL:https://christchurchpettswood.org.uk/event/daytime-book-club-american-dirt/
CATEGORIES:Church Events
ATTACH;FMTTYPE=image/jpeg:https://christchurchpettswood.org.uk/wp-content/uploads/2021/08/AmericanDirt.jpg
END:VEVENT
BEGIN:VEVENT
DTSTART;TZID=Europe/London:20210903T103000
DTEND;TZID=Europe/London:20210903T120000
DTSTAMP:20260422T123914
CREATED:20210831T192636Z
LAST-MODIFIED:20210831T192636Z
UID:9111-1630665000-1630670400@christchurchpettswood.org.uk
SUMMARY:Coffee Stop
DESCRIPTION:Coffee Stop takes place every Friday in the Lounge (access from the Willet Way Car Park) from 10.30am to noon. You can pop in or stay for the whole time\, it is upto you. \nYou will be warmly welcomed.
URL:https://christchurchpettswood.org.uk/event/coffee-stop-25/
LOCATION:Christ Church Petts Wood\, Tudor Way\, Orpington\, BR5 1LH\, United Kingdom
CATEGORIES:Church Events
ATTACH;FMTTYPE=image/jpeg:https://christchurchpettswood.org.uk/wp-content/uploads/2019/03/Coffee-and-cake-1920x1200.jpg
END:VEVENT
BEGIN:VEVENT
DTSTART;TZID=Europe/London:20210905T103000
DTEND;TZID=Europe/London:20210905T111500
DTSTAMP:20260422T123914
CREATED:20210831T170345Z
LAST-MODIFIED:20210831T170345Z
UID:9101-1630837800-1630840500@christchurchpettswood.org.uk
SUMMARY:Sunday Worship with Holy Communion
DESCRIPTION:You are very welcome to our service on Sunday 5th September 2021 from 10.30am led by our Minister\, Rev Nadene Snyman. Do join us for refreshments after the service. \nIn person and broadcast on YouTube from the Church \nOrder of service \nStand for the entrance of the bible \nWelcome & Call to Worship \nHymn: SoF 377 Love Divine \nOpening Prayer                              Fiona \nNotices                                              Kat \nJob 42: 1-6 & 10-17                       John R \nHymn: SoF 390 Meekness and Majesty \nMark 10: 46-52                               Diane \nSermon                                             Nadene \nHymn: SoF 362 Lord\, the light of your love \nCommunion \nIntercessory & Lord’s Prayer      Kat \nHymn: SoF 367 Lord Jesus Christ \nBlessing & Grace \nIf you do not want to be seen on YouTube look for the signs that tell you areas which are not visible to the cameras or ask a steward for directions
URL:https://christchurchpettswood.org.uk/event/sunday-worship-with-holy-communion-6/
CATEGORIES:Church Events
ATTACH;FMTTYPE=image/png:https://christchurchpettswood.org.uk/wp-content/uploads/2021/08/Advert-for-the-5th.png
END:VEVENT
BEGIN:VEVENT
DTSTART;TZID=Europe/London:20210905T160000
DTEND;TZID=Europe/London:20210905T180000
DTSTAMP:20260422T123914
CREATED:20210812T185121Z
LAST-MODIFIED:20210812T185245Z
UID:9034-1630857600-1630864800@christchurchpettswood.org.uk
SUMMARY:Café church - first Sunday of the month
DESCRIPTION:Join us for Café Church once a month at 4pm on the first Sunday of the month. This is aimed at all ages\, a relaxed service will take place in the Church Sanctuary where you are welcome to pop to the hatch to the kitchen at any time to grab a tea or coffee\, no need to stay seated. Afterward there will be events more aimed at the younger generation with uni-hoc\, table tennis and whatever sport gets the highest vote and we have the equipment for!
URL:https://christchurchpettswood.org.uk/event/cafe-church-first-sunday-of-the-month/
LOCATION:Christ Church Petts Wood\, Tudor Way\, Orpington\, BR5 1LH\, United Kingdom
CATEGORIES:Church Events
ATTACH;FMTTYPE=image/png:https://christchurchpettswood.org.uk/wp-content/uploads/2021/08/Cafe-Church-Advert-1.png
END:VEVENT
BEGIN:VEVENT
DTSTART;TZID=Europe/London:20210906T200000
DTEND;TZID=Europe/London:20210906T210000
DTSTAMP:20260422T123914
CREATED:20210831T193454Z
LAST-MODIFIED:20210831T193640Z
UID:9118-1630958400-1630962000@christchurchpettswood.org.uk
SUMMARY:Evening Book Club - American Dirt
DESCRIPTION:Join us for a discussion of American Dirt by Jeanine Cummins at 13 Fieldway from 8pm on Monday 6th September\nA novel about the ordeal of a Mexican woman who had to leave behind her life and escape as an undocumented immigrant to the United States with her son\nMore details via bookclub@ccpw.org.uk 
URL:https://christchurchpettswood.org.uk/event/evening-bookclub-american-dirt/
LOCATION:13 Fieldway\, BR5 1JP
CATEGORIES:Church Events
ATTACH;FMTTYPE=image/jpeg:https://christchurchpettswood.org.uk/wp-content/uploads/2021/08/AmericanDirt.jpg
END:VEVENT
BEGIN:VEVENT
DTSTART;TZID=Europe/London:20210910T103000
DTEND;TZID=Europe/London:20210910T120000
DTSTAMP:20260422T123914
CREATED:20210831T192805Z
LAST-MODIFIED:20210831T192805Z
UID:9113-1631269800-1631275200@christchurchpettswood.org.uk
SUMMARY:Coffee Stop
DESCRIPTION:Coffee Stop takes place every Friday in the Lounge (access from the Willet Way Car Park) from 10.30am to noon. You can pop in or stay for the whole time\, it is upto you. \nYou will be warmly welcomed.
URL:https://christchurchpettswood.org.uk/event/coffee-stop-26/
LOCATION:Christ Church Petts Wood\, Tudor Way\, Orpington\, BR5 1LH\, United Kingdom
CATEGORIES:Church Events
ATTACH;FMTTYPE=image/jpeg:https://christchurchpettswood.org.uk/wp-content/uploads/2019/03/Coffee-and-cake-1920x1200.jpg
END:VEVENT
BEGIN:VEVENT
DTSTART;TZID=Europe/London:20210912T103000
DTEND;TZID=Europe/London:20210912T111500
DTSTAMP:20260422T123914
CREATED:20210905T204345Z
LAST-MODIFIED:20210905T204345Z
UID:9131-1631442600-1631445300@christchurchpettswood.org.uk
SUMMARY:Sunday worship with Church of Youth
DESCRIPTION:Join us for Sunday Family worship\, led by Rev Bill Bowman and with Church of Youth. You will be warmly welcomed.\n\nWe are now serving refreshments and we invite you to also join us for a chat & a cuppa. If you would prefer you can still join us on our YouTube channel as the service is streamed live.\n\nNo booking required for the Sunday service\, but please book for Church of Youth\, links at https://christchurchpettswood.org.uk/children-youth/
URL:https://christchurchpettswood.org.uk/event/sunday-worship-with-church-of-youth-5/
LOCATION:Christ Church Petts Wood\, Tudor Way\, Orpington\, BR5 1LH\, United Kingdom
CATEGORIES:Church Events
ATTACH;FMTTYPE=image/jpeg:https://christchurchpettswood.org.uk/wp-content/uploads/2021/09/Sunday-12th-September-Advert-Final.jpg
END:VEVENT
BEGIN:VEVENT
DTSTART;TZID=Europe/London:20210917T103000
DTEND;TZID=Europe/London:20210917T120000
DTSTAMP:20260422T123914
CREATED:20210915T074613Z
LAST-MODIFIED:20210915T074613Z
UID:9148-1631874600-1631880000@christchurchpettswood.org.uk
SUMMARY:Coffee Stop
DESCRIPTION:Coffee Stop takes place every Friday in the Lounge (access from the Willet Way Car Park) from 10.30am to noon. You can pop in or stay for the whole time\, it is upto you. \nYou will be warmly welcomed.
URL:https://christchurchpettswood.org.uk/event/coffee-stop-28/
LOCATION:Christ Church Petts Wood\, Tudor Way\, Orpington\, BR5 1LH\, United Kingdom
CATEGORIES:Church Events
ATTACH;FMTTYPE=image/jpeg:https://christchurchpettswood.org.uk/wp-content/uploads/2019/03/Coffee-and-cake-1920x1200.jpg
END:VEVENT
BEGIN:VEVENT
DTSTART;TZID=Europe/London:20210919T103000
DTEND;TZID=Europe/London:20210919T113000
DTSTAMP:20260422T123914
CREATED:20210915T074415Z
LAST-MODIFIED:20210915T074415Z
UID:9146-1632047400-1632051000@christchurchpettswood.org.uk
SUMMARY:Sunday Family Worship with Church of Youth
DESCRIPTION:Join us for Worship\, led by Mr Martin Fosten. There is no need to book\, just turn up or watch live on YouTube.\nThere will be a Church of Youth where you can book – link here https://christchurchpettswood.org.uk/children-youth/\nWe would love you to join us also for a cup of tea or coffee after the service
URL:https://christchurchpettswood.org.uk/event/sunday-family-worship-with-church-of-youth/
LOCATION:Christ Church Petts Wood\, Tudor Way\, Orpington\, BR5 1LH\, United Kingdom
CATEGORIES:Church Events
ATTACH;FMTTYPE=image/jpeg:https://christchurchpettswood.org.uk/wp-content/uploads/2021/09/Advert-Sunday-19th-September-JPEG.jpg
END:VEVENT
BEGIN:VEVENT
DTSTART;TZID=Europe/London:20210919T120000
DTEND;TZID=Europe/London:20210919T133000
DTSTAMP:20260422T123914
CREATED:20210812T184017Z
LAST-MODIFIED:20210812T184017Z
UID:9030-1632052800-1632058200@christchurchpettswood.org.uk
SUMMARY:Big Green Week - Vegetarian Lunch
DESCRIPTION:Bring along your own Vegetarian or Vegan lunch as part of our wider participation in the Great Big Green Week. If for personal or financial reasons you are unable to bring your own lunch please still come along as there is bound to be plenty\, but if you feel comfortable letting us know on welcome@ccpw.org.uk that will help us plan. From noon (after the Sunday service) on 19th September.
URL:https://christchurchpettswood.org.uk/event/big-green-week-vegetarian-lunch/
LOCATION:Christ Church Petts Wood\, Tudor Way\, Orpington\, BR5 1LH\, United Kingdom
CATEGORIES:Church Events
ATTACH;FMTTYPE=image/png:https://christchurchpettswood.org.uk/wp-content/uploads/2021/08/Lunch-advert.png
END:VEVENT
BEGIN:VEVENT
DTSTART;TZID=Europe/London:20210924T103000
DTEND;TZID=Europe/London:20210924T120000
DTSTAMP:20260422T123914
CREATED:20210915T074709Z
LAST-MODIFIED:20210915T074709Z
UID:9150-1632479400-1632484800@christchurchpettswood.org.uk
SUMMARY:Coffee Stop
DESCRIPTION:Coffee Stop takes place every Friday in the Lounge (access from the Willet Way Car Park) from 10.30am to noon. You can pop in or stay for the whole time\, it is upto you. \nYou will be warmly welcomed.
URL:https://christchurchpettswood.org.uk/event/coffee-stop-29/
LOCATION:Christ Church Petts Wood\, Tudor Way\, Orpington\, BR5 1LH\, United Kingdom
CATEGORIES:Church Events
ATTACH;FMTTYPE=image/jpeg:https://christchurchpettswood.org.uk/wp-content/uploads/2019/03/Coffee-and-cake-1920x1200.jpg
END:VEVENT
BEGIN:VEVENT
DTSTART;TZID=Europe/London:20210926T160000
DTEND;TZID=Europe/London:20210926T180000
DTSTAMP:20260422T123914
CREATED:20210831T172058Z
LAST-MODIFIED:20210831T172058Z
UID:9103-1632672000-1632679200@christchurchpettswood.org.uk
SUMMARY:Messy 'We Are Family'
DESCRIPTION:Messy Church is back at last! Join us on Sunday 26th September between 4pm and 6pm for crafts and activities on the theme of family.\nNo need to book\, just turn up for family craft time\, worship and a party tea.\nSuggested donation of £1.50 per child.\nYou are part of our family and we cannot wait to welcome you back to Messy Church.\nFor more information or questions email welcome@ccpw.org.uk
URL:https://christchurchpettswood.org.uk/event/messy-we-are-family/
LOCATION:Christ Church Petts Wood\, Tudor Way\, Orpington\, BR5 1LH\, United Kingdom
CATEGORIES:Children & Youth,Church Events
ATTACH;FMTTYPE=image/jpeg:https://christchurchpettswood.org.uk/wp-content/uploads/2021/08/Messy-Church-26-Sep-21.jpg
END:VEVENT
END:VCALENDAR