BEGIN:VCALENDAR
VERSION:2.0
PRODID:-//Christ Church United Reformed Church, Petts Wood - ECPv6.15.20//NONSGML v1.0//EN
CALSCALE:GREGORIAN
METHOD:PUBLISH
X-ORIGINAL-URL:https://christchurchpettswood.org.uk
X-WR-CALDESC:Events for Christ Church United Reformed Church, Petts Wood
REFRESH-INTERVAL;VALUE=DURATION:PT1H
X-Robots-Tag:noindex
X-PUBLISHED-TTL:PT1H
BEGIN:VTIMEZONE
TZID:Europe/London
BEGIN:DAYLIGHT
TZOFFSETFROM:+0000
TZOFFSETTO:+0100
TZNAME:BST
DTSTART:20200329T010000
END:DAYLIGHT
BEGIN:STANDARD
TZOFFSETFROM:+0100
TZOFFSETTO:+0000
TZNAME:GMT
DTSTART:20201025T010000
END:STANDARD
BEGIN:DAYLIGHT
TZOFFSETFROM:+0000
TZOFFSETTO:+0100
TZNAME:BST
DTSTART:20210328T010000
END:DAYLIGHT
BEGIN:STANDARD
TZOFFSETFROM:+0100
TZOFFSETTO:+0000
TZNAME:GMT
DTSTART:20211031T010000
END:STANDARD
BEGIN:DAYLIGHT
TZOFFSETFROM:+0000
TZOFFSETTO:+0100
TZNAME:BST
DTSTART:20220327T010000
END:DAYLIGHT
BEGIN:STANDARD
TZOFFSETFROM:+0100
TZOFFSETTO:+0000
TZNAME:GMT
DTSTART:20221030T010000
END:STANDARD
END:VTIMEZONE
BEGIN:VEVENT
DTSTART;TZID=Europe/London:20210801T103000
DTEND;TZID=Europe/London:20210801T111500
DTSTAMP:20260422T135432
CREATED:20210727T200237Z
LAST-MODIFIED:20210727T200237Z
UID:8994-1627813800-1627816500@christchurchpettswood.org.uk
SUMMARY:Sunday Worship & Holy Communion
DESCRIPTION:Join us in person or on YouTube for Sunday Worship from 10.30am led by Rev Nadene Snyman \nOrder of Service: \nStand for entrance of the bible \nCall to Worship & Welcome \nHymn: R&S 452: Let us break bread together \nOpening Prayer \nNotices \nReading Exodus 16: 2-4 & 9-15 Marion B \nHymn: SOF 200 I am the bread of life \nReading John 6: 24-35 \nSermon \nHymn: Taizé chant Eat this bread \nCommunion served in your seats \nIntercessory prayers & Lord’s prayer \nHymn: Longing for light\, we wait in darkness \nBlessing & Grace
URL:https://christchurchpettswood.org.uk/event/sunday-worship-holy-communion/
LOCATION:Christ Church Petts Wood\, Tudor Way\, Orpington\, BR5 1LH\, United Kingdom
CATEGORIES:Church Events
ATTACH;FMTTYPE=image/png:https://christchurchpettswood.org.uk/wp-content/uploads/2021/07/Advert-thumbnail1-Aug.png
END:VEVENT
BEGIN:VEVENT
DTSTART;TZID=Europe/London:20210806T103000
DTEND;TZID=Europe/London:20210806T120000
DTSTAMP:20260422T135432
CREATED:20210804T195624Z
LAST-MODIFIED:20210804T195624Z
UID:9007-1628245800-1628251200@christchurchpettswood.org.uk
SUMMARY:Coffee Stop
DESCRIPTION:It is delightful that we can once again hold our August Coffee Stops in people’s homes. The hosts warmly invite you from 10.30am each Friday. This Friday\, we are very grateful to Kat for hosting Coffee Stop. Details of host and address are in the church bulletin\, Contact & Care\, or email welcome@ccpw.org.uk\n\nDonations given at each Coffee Stop will go to Watsan Uganda which raise money to bring water to schools which helps the to attract the best staff and create the right learning environment for the pupils
URL:https://christchurchpettswood.org.uk/event/coffee-stop-21/
CATEGORIES:Church Events
ATTACH;FMTTYPE=image/jpeg:https://christchurchpettswood.org.uk/wp-content/uploads/2021/03/Teapot.jpg
END:VEVENT
BEGIN:VEVENT
DTSTART;TZID=Europe/London:20210808T103000
DTEND;TZID=Europe/London:20210808T111500
DTSTAMP:20260422T135432
CREATED:20210804T194822Z
LAST-MODIFIED:20210804T194822Z
UID:9004-1628418600-1628421300@christchurchpettswood.org.uk
SUMMARY:Sunday Family Worship
DESCRIPTION:Join us for Sunday Family Worship\, led by Our Minister\, Rev Nadene Snyman. \nIn person and on our YouTube channel \nOrder of service: \nSunday 8 August 2021 @ 10.30am \nStand for the entrance of the bible \nCall to worship \nWelcome \nOpening prayer \nHymn R&S 413 What a friend we have in Jesus \nNotices \nReading 1 Kings 19.4-8 \nHymn R&S 371 Take my life and let it be \nReading John 6.35 and 41-51 \nSermon \nHymn R&S 492 Dear Lord and Father of mankind \nIntercessory Prayers and the Lord’s Prayer \nHymn R&S 367 I want to walk with Jesus Christ \nBlessing \nGrace
URL:https://christchurchpettswood.org.uk/event/sunday-family-worship-27/
LOCATION:Christ Church Petts Wood\, Tudor Way\, Orpington\, BR5 1LH\, United Kingdom
CATEGORIES:Church Events
ATTACH;FMTTYPE=image/png:https://christchurchpettswood.org.uk/wp-content/uploads/2021/08/AdvertThumbnail.png
END:VEVENT
BEGIN:VEVENT
DTSTART;TZID=Europe/London:20210813T103000
DTEND;TZID=Europe/London:20210813T120000
DTSTAMP:20260422T135432
CREATED:20210812T182458Z
LAST-MODIFIED:20210812T182458Z
UID:9020-1628850600-1628856000@christchurchpettswood.org.uk
SUMMARY:Coffee Stop
DESCRIPTION:Coffee Stop during August is being hosted by members of our fellowship. Hilary is kindly hosting this Friday\, 13th of August from 10.30am. \nDonations are invited (but not obligatory) and will be going towards our August Coffee Stop fund for Watsun Uganda that raises funds for bringing good water supplies to schools. \nFurther details of the venue are in Contact & Care or message us via welcome@ccpw.org.uk
URL:https://christchurchpettswood.org.uk/event/coffee-stop-22/
CATEGORIES:Church Events
ATTACH;FMTTYPE=image/jpeg:https://christchurchpettswood.org.uk/wp-content/uploads/2021/07/CoffeeJulyAug2021.jpg
END:VEVENT
BEGIN:VEVENT
DTSTART;TZID=Europe/London:20210815T103000
DTEND;TZID=Europe/London:20210815T111500
DTSTAMP:20260422T135432
CREATED:20210812T183248Z
LAST-MODIFIED:20210812T183248Z
UID:9026-1629023400-1629026100@christchurchpettswood.org.uk
SUMMARY:Sunday Family Worship
DESCRIPTION:You are warmly welcomed to join us for Sunday Worship\, led by our Minister\, Rev Nadene Snyman\, from 10.30am on Sunday 15th August. You can join in in person\, via YouTube or if you know someone with limited technology please email us on welcome@ccpw.org.uk with a telephone number and we can give them details of how to dial in via a telephone. \nOrder of service: \nStand for the entrance of the bible\nCall to worship & Welcome\nOpening prayer\nHymn R&S 512: Seek ye first the kingdom of God\nNotices\nReading Proverbs 9:1-6\nHymn:  SOF 664: Beauty for Brokenness\nReading John 6: 51-58\nSermon\nHymn: R&S 583: The church is wherever\nIntercessory & the Lord’s Prayer\nHymn: R&S 603: Lord for the Years\nBlessing & Grace
URL:https://christchurchpettswood.org.uk/event/sunday-family-worship-28/
LOCATION:Christ Church Petts Wood\, Tudor Way\, Orpington\, BR5 1LH\, United Kingdom
CATEGORIES:Church Events
ATTACH;FMTTYPE=image/png:https://christchurchpettswood.org.uk/wp-content/uploads/2021/08/Advert_Thumbnail.png
END:VEVENT
BEGIN:VEVENT
DTSTART;TZID=Europe/London:20210820T103000
DTEND;TZID=Europe/London:20210820T120000
DTSTAMP:20260422T135432
CREATED:20210812T182648Z
LAST-MODIFIED:20210812T182648Z
UID:9022-1629455400-1629460800@christchurchpettswood.org.uk
SUMMARY:Coffee Stop
DESCRIPTION:Coffee Stop during August is being hosted by members of our fellowship. Pat P is kindly hosting on Friday\, 20th of August from 10.30am. \nDonations are invited (but not obligatory) and will be going towards our August Coffee Stop fund for Watsun Uganda that raises funds for bringing good water supplies to schools. \nFurther details of the venue are in Contact & Care or message us via welcome@ccpw.org.uk \nDo come along for some friendship and hospitality
URL:https://christchurchpettswood.org.uk/event/coffee-stop-23/
CATEGORIES:Church Events
ATTACH;FMTTYPE=image/jpeg:https://christchurchpettswood.org.uk/wp-content/uploads/2021/07/CoffeeJulyAug2021.jpg
END:VEVENT
BEGIN:VEVENT
DTSTART;TZID=Europe/London:20210822T103000
DTEND;TZID=Europe/London:20210822T111500
DTSTAMP:20260422T135432
CREATED:20210818T204016Z
LAST-MODIFIED:20210818T204016Z
UID:9041-1629628200-1629630900@christchurchpettswood.org.uk
SUMMARY:Sunday Family Worship
DESCRIPTION:Please join us for Sunday 22nd August 2021 from 10.30am led by Rev Nadene Snyman. We would also love for you to join us for tea and coffee after the service. \nIn person and broadcast on YouTube from the Church \nOrder of service \nStand for the entrance of the bible \nCall to worship & Welcome \nOpening prayer \nHymn R&S 366 And can it be that I should gain \nNotices \nReading Ephesians 6: 10-20 \nHymn R&S 522 From heaven you came\, helpless babe \nReading John 6: 56-69 \nSermon \nHymn R&S 590 In heavenly love abiding \nIntercessory & the Lord’s Prayer \nHymn R&S 277 How sweet the name of Jesus sounds \nBlessing & Grace \nDepart or to the church halls to share in refreshments \n 
URL:https://christchurchpettswood.org.uk/event/sunday-family-worship-29/
LOCATION:Christ Church Petts Wood\, Tudor Way\, Orpington\, BR5 1LH\, United Kingdom
CATEGORIES:Church Events
ATTACH;FMTTYPE=image/png:https://christchurchpettswood.org.uk/wp-content/uploads/2021/08/Advert-22-.png
END:VEVENT
BEGIN:VEVENT
DTSTART;TZID=Europe/London:20210827T103000
DTEND;TZID=Europe/London:20210827T120000
DTSTAMP:20260422T135432
CREATED:20210812T182743Z
LAST-MODIFIED:20210812T182743Z
UID:9024-1630060200-1630065600@christchurchpettswood.org.uk
SUMMARY:Coffee Stop
DESCRIPTION:Coffee Stop during August is being hosted by members of our fellowship. Janet D is kindly hosting on Friday\, 27th of August from 10.30am. \nDonations are invited (but not obligatory) and will be going towards our August Coffee Stop fund for Watsun Uganda that raises funds for bringing good water supplies to schools. \nFurther details of the venue are in Contact & Care or message us via welcome@ccpw.org.uk \nDo come along for some friendship and hospitality
URL:https://christchurchpettswood.org.uk/event/coffee-stop-24/
CATEGORIES:Church Events
ATTACH;FMTTYPE=image/jpeg:https://christchurchpettswood.org.uk/wp-content/uploads/2021/07/CoffeeJulyAug2021.jpg
END:VEVENT
BEGIN:VEVENT
DTSTART;TZID=Europe/London:20210829T103000
DTEND;TZID=Europe/London:20210829T111400
DTSTAMP:20260422T135432
CREATED:20210826T080849Z
LAST-MODIFIED:20210826T080849Z
UID:9090-1630233000-1630235640@christchurchpettswood.org.uk
SUMMARY:Sunday Family Worship
DESCRIPTION:While our Minister is on holiday we are delighted that the Rev Jacob Bali has agreed to lead us in Worship on Sunday 29th August from 10.30am. Please join us for tea & coffee after the service. \nSunday 29th August 2021 \n10.30am led by Rev Jacob Bali \nIn person and broadcast on YouTube from the Church \nStand for the entrance of the bible \nWelcome & Notices                       Kat \nCall to worship                                Jacob \nHymn: R&S 74 Praise the Lord\, the Almighty \nTheme Introduction \nHymn: R&S 489 Be thou my vision \nReadings:      Ezekiel 13: 1-8\nLuke 17: 5-10 \nSermon \nHymn: R&S 629 Make me a channel of your peace \nIntercessory & the Lord’s Prayer\nCall: God of heaven and earth.\nResponse: Hear us in your steadfast love \nHymn: R&S 345 Guide me\, O thou great Jehovah \nBlessing & Grace
URL:https://christchurchpettswood.org.uk/event/sunday-family-worship-30/
LOCATION:Christ Church Petts Wood\, Tudor Way\, Orpington\, BR5 1LH\, United Kingdom
CATEGORIES:Church Events
ATTACH;FMTTYPE=image/png:https://christchurchpettswood.org.uk/wp-content/uploads/2021/08/AdvertThumbnail-4.png
END:VEVENT
END:VCALENDAR