BEGIN:VCALENDAR
VERSION:2.0
PRODID:-//Christ Church United Reformed Church, Petts Wood - ECPv6.15.20//NONSGML v1.0//EN
CALSCALE:GREGORIAN
METHOD:PUBLISH
X-WR-CALNAME:Christ Church United Reformed Church, Petts Wood
X-ORIGINAL-URL:https://christchurchpettswood.org.uk
X-WR-CALDESC:Events for Christ Church United Reformed Church, Petts Wood
REFRESH-INTERVAL;VALUE=DURATION:PT1H
X-Robots-Tag:noindex
X-PUBLISHED-TTL:PT1H
BEGIN:VTIMEZONE
TZID:Europe/London
BEGIN:DAYLIGHT
TZOFFSETFROM:+0000
TZOFFSETTO:+0100
TZNAME:BST
DTSTART:20200329T010000
END:DAYLIGHT
BEGIN:STANDARD
TZOFFSETFROM:+0100
TZOFFSETTO:+0000
TZNAME:GMT
DTSTART:20201025T010000
END:STANDARD
BEGIN:DAYLIGHT
TZOFFSETFROM:+0000
TZOFFSETTO:+0100
TZNAME:BST
DTSTART:20210328T010000
END:DAYLIGHT
BEGIN:STANDARD
TZOFFSETFROM:+0100
TZOFFSETTO:+0000
TZNAME:GMT
DTSTART:20211031T010000
END:STANDARD
BEGIN:DAYLIGHT
TZOFFSETFROM:+0000
TZOFFSETTO:+0100
TZNAME:BST
DTSTART:20220327T010000
END:DAYLIGHT
BEGIN:STANDARD
TZOFFSETFROM:+0100
TZOFFSETTO:+0000
TZNAME:GMT
DTSTART:20221030T010000
END:STANDARD
END:VTIMEZONE
BEGIN:VEVENT
DTSTART;TZID=Europe/London:20210704T103000
DTEND;TZID=Europe/London:20210704T111500
DTSTAMP:20260422T175646
CREATED:20210630T163434Z
LAST-MODIFIED:20210630T170554Z
UID:8880-1625394600-1625397300@christchurchpettswood.org.uk
SUMMARY:Sunday Worship with Holy Communion
DESCRIPTION:Join us for worship with Holy Communion\, please bring your own bread and wine/juice. The service will be led by Our Minister\, Rev Nadene Snyman\nAll welcome.\nIf you would rather watch from home then join us on YouTube
URL:https://christchurchpettswood.org.uk/event/sunday-worship-with-holy-communion-5/
LOCATION:Christ Church Petts Wood\, Tudor Way\, Orpington\, BR5 1LH\, United Kingdom
CATEGORIES:Church Events
ATTACH;FMTTYPE=image/png:https://christchurchpettswood.org.uk/wp-content/uploads/2021/06/Advert-for-4-July.png
END:VEVENT
BEGIN:VEVENT
DTSTART;TZID=Europe/London:20210705T200000
DTEND;TZID=Europe/London:20210705T210000
DTSTAMP:20260422T175646
CREATED:20210608T194029Z
LAST-MODIFIED:20210608T194029Z
UID:8817-1625515200-1625518800@christchurchpettswood.org.uk
SUMMARY:Book Club - Prodigal God
DESCRIPTION:To discuss on Monday 5th of July from 8pm we are reading: The Prodigal God by Timothy Keller\nIn The Prodigal God\, New York pastor Timothy Keller uses the story of the Prodigal Son to shine a light on the central\, beautiful message of Jesus: The gospel of grace\, hope and salvation.\nKeller argues that the parable of the prodigal son\, while Jesus’ best-known parable\, is also his least understood.\nNew book club members welcome\, email bookclub@ccpw.org.uk
URL:https://christchurchpettswood.org.uk/event/book-club-prodigal-god/
LOCATION:13 Fieldway\, BR5 1JP
CATEGORIES:Church Events
ATTACH;FMTTYPE=image/jpeg:https://christchurchpettswood.org.uk/wp-content/uploads/2021/06/the-prodigal-god-Timothy-keller.jpg
END:VEVENT
BEGIN:VEVENT
DTSTART;TZID=Europe/London:20210711T103000
DTEND;TZID=Europe/London:20210711T111500
DTSTAMP:20260422T175646
CREATED:20210708T165546Z
LAST-MODIFIED:20210708T165546Z
UID:8923-1625999400-1626002100@christchurchpettswood.org.uk
SUMMARY:Sunday worship with Church of Youth
DESCRIPTION:Our service this Sunday is led by our Minister Rev Nadene Snyman. The Church of Youth will be doing crafts to support our Little Library launch that is taking place later in the day. The service is in person and also on YouTube. \nThe Church meeting will take place after a brief interval after the service. \nYou do not need to book to come along to the Sunday service but for Church of Youth please book at:\nhttps://www.eventbrite.co.uk/e/church-of-youth-sunday-11th-july-2021-tickets-162206222177 \nDo join us\, everyone welcome
URL:https://christchurchpettswood.org.uk/event/sunday-worship-with-church-of-youth-3/
LOCATION:Christ Church Petts Wood\, Tudor Way\, Orpington\, BR5 1LH\, United Kingdom
CATEGORIES:Church Events
ATTACH;FMTTYPE=image/png:https://christchurchpettswood.org.uk/wp-content/uploads/2021/07/Advert-for-Sunday.png
END:VEVENT
BEGIN:VEVENT
DTSTART;TZID=Europe/London:20210711T130000
DTEND;TZID=Europe/London:20210711T150000
DTSTAMP:20260422T175646
CREATED:20210608T195244Z
LAST-MODIFIED:20210608T195244Z
UID:8820-1626008400-1626015600@christchurchpettswood.org.uk
SUMMARY:Little Library - launch party
DESCRIPTION:Bring a picnic and join us in the gardens at Christ Church Petts Wood\, on the corner of Willett Way and Tudor Way for the launch party of our Little Library from 1pm on Sunday 11th July \nThe Little Library is where you can take a book and leave book\, it is open all hours.
URL:https://christchurchpettswood.org.uk/event/little-library-launch-party/
LOCATION:Christ Church Petts Wood\, Tudor Way\, Orpington\, BR5 1LH\, United Kingdom
CATEGORIES:Church Events
ATTACH;FMTTYPE=image/png:https://christchurchpettswood.org.uk/wp-content/uploads/2021/06/Library-Launch-Party.png
END:VEVENT
BEGIN:VEVENT
DTSTART;TZID=Europe/London:20210718T103000
DTEND;TZID=Europe/London:20210718T111500
DTSTAMP:20260422T175646
CREATED:20210714T075850Z
LAST-MODIFIED:20210714T075850Z
UID:8970-1626604200-1626606900@christchurchpettswood.org.uk
SUMMARY:Sunday Worship with Church of Youth
DESCRIPTION:Join us for Sunday Worship\, led by Mr Martin Leonard. Our Church of Youth will also have their activities. No need to book for the main service but for Church of Youth please use https://www.eventbrite.co.uk/e/church-of-youth-sunday-18th-july-2021-tickets-162206264303
URL:https://christchurchpettswood.org.uk/event/sunday-worship-with-church-of-youth-4/
LOCATION:Christ Church Petts Wood\, Tudor Way\, Orpington\, BR5 1LH\, United Kingdom
CATEGORIES:Church Events
ATTACH;FMTTYPE=image/png:https://christchurchpettswood.org.uk/wp-content/uploads/2021/07/18th-July.png
END:VEVENT
BEGIN:VEVENT
DTSTART;TZID=Europe/London:20210718T170000
DTEND;TZID=Europe/London:20210718T174500
DTSTAMP:20260422T175646
CREATED:20210708T192519Z
LAST-MODIFIED:20230202T174113Z
UID:8926-1626627600-1626630300@christchurchpettswood.org.uk
SUMMARY:Taizé
DESCRIPTION:Join us for a Taizé service at Christ Church URC Petts Wood from 5pm on Sunday 18th July. \nUpdate Jan 2023 if anyone is looking at past events\, we are not currently holding Taize services but are considering another form of quiet worship called ‘Solace’\, to find out about these and express interest if they restart please email welcome@ccpw.org.uk 
URL:https://christchurchpettswood.org.uk/event/taize/
LOCATION:Christ Church Petts Wood\, Tudor Way\, Orpington\, BR5 1LH\, United Kingdom
CATEGORIES:Church Events
ATTACH;FMTTYPE=image/png:https://christchurchpettswood.org.uk/wp-content/uploads/2021/07/Taize-July-21.png
END:VEVENT
BEGIN:VEVENT
DTSTART;TZID=Europe/London:20210723T103000
DTEND;TZID=Europe/London:20210723T120000
DTSTAMP:20260422T175646
CREATED:20210720T192832Z
LAST-MODIFIED:20210720T193438Z
UID:8982-1627036200-1627041600@christchurchpettswood.org.uk
SUMMARY:Coffee Stop
DESCRIPTION:Coffee Stop will take place in the Kingsbury Hall on Friday 23rd of July from 10.30am until noon\, come along for a natter\, tea or coffee and a slice of cake.
URL:https://christchurchpettswood.org.uk/event/coffee-stop-19/
LOCATION:Christ Church Petts Wood\, Tudor Way\, Orpington\, BR5 1LH\, United Kingdom
CATEGORIES:Church Events
ATTACH;FMTTYPE=image/jpeg:https://christchurchpettswood.org.uk/wp-content/uploads/2021/07/CoffeeJulyAug2021.jpg
END:VEVENT
BEGIN:VEVENT
DTSTART;TZID=Europe/London:20210725T103000
DTEND;TZID=Europe/London:20210725T111500
DTSTAMP:20260422T175646
CREATED:20210720T192614Z
LAST-MODIFIED:20210720T192614Z
UID:8979-1627209000-1627211700@christchurchpettswood.org.uk
SUMMARY:Sunday Family Worship
DESCRIPTION:Join us for Worship led by our Minister Rev Nadene Snyman. \nWe will be delighted to be singing hymns as a congregation for the first time in over a year. \nThere will still be areas in the church for social distancing as well as areas for those who feel comfortable being closer to others. The service will also be livestreamed on YouTube.
URL:https://christchurchpettswood.org.uk/event/sunday-family-worship-26/
LOCATION:Christ Church Petts Wood\, Tudor Way\, Orpington\, BR5 1LH\, United Kingdom
CATEGORIES:Church Events
ATTACH;FMTTYPE=image/png:https://christchurchpettswood.org.uk/wp-content/uploads/2021/07/AdvertThumbnail-25th-July-.png
END:VEVENT
BEGIN:VEVENT
DTSTART;TZID=Europe/London:20210730T103000
DTEND;TZID=Europe/London:20210730T120000
DTSTAMP:20260422T175646
CREATED:20210720T193555Z
LAST-MODIFIED:20210720T193555Z
UID:8985-1627641000-1627646400@christchurchpettswood.org.uk
SUMMARY:Coffee Stop
DESCRIPTION:Coffee Stop will take place in the Kingsbury Hall on Friday 30th of July from 10.30am until noon\, come along for a natter\, tea or coffee and a slice of cake.
URL:https://christchurchpettswood.org.uk/event/coffee-stop-20/
LOCATION:Christ Church Petts Wood\, Tudor Way\, Orpington\, BR5 1LH\, United Kingdom
CATEGORIES:Church Events
ATTACH;FMTTYPE=image/jpeg:https://christchurchpettswood.org.uk/wp-content/uploads/2021/07/CoffeeJulyAug2021.jpg
END:VEVENT
END:VCALENDAR