BEGIN:VCALENDAR
VERSION:2.0
PRODID:-//Christ Church United Reformed Church, Petts Wood - ECPv6.15.20//NONSGML v1.0//EN
CALSCALE:GREGORIAN
METHOD:PUBLISH
X-WR-CALNAME:Christ Church United Reformed Church, Petts Wood
X-ORIGINAL-URL:https://christchurchpettswood.org.uk
X-WR-CALDESC:Events for Christ Church United Reformed Church, Petts Wood
REFRESH-INTERVAL;VALUE=DURATION:PT1H
X-Robots-Tag:noindex
X-PUBLISHED-TTL:PT1H
BEGIN:VTIMEZONE
TZID:Europe/London
BEGIN:DAYLIGHT
TZOFFSETFROM:+0000
TZOFFSETTO:+0100
TZNAME:BST
DTSTART:20180325T010000
END:DAYLIGHT
BEGIN:STANDARD
TZOFFSETFROM:+0100
TZOFFSETTO:+0000
TZNAME:GMT
DTSTART:20181028T010000
END:STANDARD
BEGIN:DAYLIGHT
TZOFFSETFROM:+0000
TZOFFSETTO:+0100
TZNAME:BST
DTSTART:20190331T010000
END:DAYLIGHT
BEGIN:STANDARD
TZOFFSETFROM:+0100
TZOFFSETTO:+0000
TZNAME:GMT
DTSTART:20191027T010000
END:STANDARD
BEGIN:DAYLIGHT
TZOFFSETFROM:+0000
TZOFFSETTO:+0100
TZNAME:BST
DTSTART:20200329T010000
END:DAYLIGHT
BEGIN:STANDARD
TZOFFSETFROM:+0100
TZOFFSETTO:+0000
TZNAME:GMT
DTSTART:20201025T010000
END:STANDARD
BEGIN:DAYLIGHT
TZOFFSETFROM:+0000
TZOFFSETTO:+0100
TZNAME:BST
DTSTART:20210328T010000
END:DAYLIGHT
BEGIN:STANDARD
TZOFFSETFROM:+0100
TZOFFSETTO:+0000
TZNAME:GMT
DTSTART:20211031T010000
END:STANDARD
END:VTIMEZONE
BEGIN:VEVENT
DTSTART;TZID=Europe/London:20200223T123000
DTEND;TZID=Europe/London:20200223T140000
DTSTAMP:20260424T051140
CREATED:20200112T172947Z
LAST-MODIFIED:20200112T172947Z
UID:5529-1582461000-1582466400@christchurchpettswood.org.uk
SUMMARY:French-themed lunch
DESCRIPTION:Join us for a French themed lunch after the service – more details to follow…
URL:https://christchurchpettswood.org.uk/event/french-themed-lunch/
LOCATION:Christ Church Petts Wood\, Tudor Way\, Orpington\, BR5 1LH\, United Kingdom
CATEGORIES:Children & Youth,Church Events
ATTACH;FMTTYPE=image/png:https://christchurchpettswood.org.uk/wp-content/uploads/2020/01/French-lunch.png
END:VEVENT
BEGIN:VEVENT
DTSTART;TZID=Europe/London:20200223T103000
DTEND;TZID=Europe/London:20200223T113000
DTSTAMP:20260424T051140
CREATED:20200212T224947Z
LAST-MODIFIED:20200212T224947Z
UID:5692-1582453800-1582457400@christchurchpettswood.org.uk
SUMMARY:Sunday Worship
DESCRIPTION:The service on Sunday 23rd February will be led by our Minister\, Revd Nadene Snyman. Children are invited to join in the activities in our church of youth. Refreshments will be available after the service. All welcome
URL:https://christchurchpettswood.org.uk/event/sunday-worship/
LOCATION:Christ Church Petts Wood\, Tudor Way\, Orpington\, BR5 1LH\, United Kingdom
CATEGORIES:Church Events
ATTACH;FMTTYPE=image/jpeg:https://christchurchpettswood.org.uk/wp-content/uploads/2019/03/Church.jpg
END:VEVENT
BEGIN:VEVENT
DTSTART;TZID=Europe/London:20200217T100000
DTEND;TZID=Europe/London:20200217T120000
DTSTAMP:20260424T051140
CREATED:20200114T212720Z
LAST-MODIFIED:20200114T212720Z
UID:5560-1581933600-1581940800@christchurchpettswood.org.uk
SUMMARY:Bereavement Help Point
DESCRIPTION:Churches Together In Petts Wood are contributing volunteers for the Bereavement Help Point. These volunteers have attended training and will be there to support the difficult experience of bereavement. If you have lost someone and need someone to talk to please pop along to the Petts Wood Methodist Church (on Queensway) any Monday between 10am and noon.
URL:https://christchurchpettswood.org.uk/event/bereavement-help-point-3/
CATEGORIES:Church Events
ATTACH;FMTTYPE=image/png:https://christchurchpettswood.org.uk/wp-content/uploads/2020/01/Bereavement-1.png
END:VEVENT
BEGIN:VEVENT
DTSTART;TZID=Europe/London:20200216T170000
DTEND;TZID=Europe/London:20200216T170000
DTSTAMP:20260424T051140
CREATED:20200112T164706Z
LAST-MODIFIED:20200112T164706Z
UID:5513-1581872400-1581872400@christchurchpettswood.org.uk
SUMMARY:Taizé Service at St Francis
DESCRIPTION:Please join us on the 3rd Sunday of the month for a quiet reflective Taizé Service alternating between Christ Church (URC) & St Francis Petts Wood. Refreshments will be served after the service. The February service will be held at St Francis. More information on our website here: https://christchurchpettswood.org.uk/taize-services-at-christ-church-urc-and-st-francis/
URL:https://christchurchpettswood.org.uk/event/taize-service-at-st-francis/
LOCATION:St Francis Church\, Petts Wood\, BR5 1QE
CATEGORIES:Church Events
ATTACH;FMTTYPE=image/jpeg:https://christchurchpettswood.org.uk/wp-content/uploads/2019/12/Taize-images.jpg
END:VEVENT
BEGIN:VEVENT
DTSTART;TZID=Europe/London:20200216T103000
DTEND;TZID=Europe/London:20200216T113000
DTSTAMP:20260424T051140
CREATED:20200112T171819Z
LAST-MODIFIED:20200112T171819Z
UID:5526-1581849000-1581852600@christchurchpettswood.org.uk
SUMMARY:Family Worship & Leprosy Mission Service
DESCRIPTION:Our Family Worship & Leprosy Mission Service this Sunday 16th February at 10.30am is being led by our Minister Rev Nadene Snyman & Mr Jarrett Wilson from the Leprosy Mission. All are very welcome!
URL:https://christchurchpettswood.org.uk/event/family-worship-leprosy-mission-service/
LOCATION:Christ Church Petts Wood\, Tudor Way\, Orpington\, BR5 1LH\, United Kingdom
CATEGORIES:Church Events
ATTACH;FMTTYPE=image/jpeg:https://christchurchpettswood.org.uk/wp-content/uploads/2020/01/Leprosy.jpg
END:VEVENT
BEGIN:VEVENT
DTSTART;TZID=Europe/London:20200211T200000
DTEND;TZID=Europe/London:20200211T210000
DTSTAMP:20260424T051140
CREATED:20190928T103056Z
LAST-MODIFIED:20200112T173718Z
UID:5335-1581451200-1581454800@christchurchpettswood.org.uk
SUMMARY:Solace
DESCRIPTION:Christ Church URC is delighted to  announce a new monthly service.\n\n\nSolace is a contemplative service to be held the second Tuesday of the month  @ 8pm\n\n\nAlternating between Christ Church URC (Petts Wood) and St Johns URC (Orpington)\n\nDATES for 2020 are below:
URL:https://christchurchpettswood.org.uk/event/solace/
LOCATION:Christ Church Petts Wood\, Tudor Way\, Orpington\, BR5 1LH\, United Kingdom
CATEGORIES:Church Events
ATTACH;FMTTYPE=image/png:https://christchurchpettswood.org.uk/wp-content/uploads/2019/09/Solace-logo.png
END:VEVENT
BEGIN:VEVENT
DTSTART;TZID=Europe/London:20200210T100000
DTEND;TZID=Europe/London:20200210T120000
DTSTAMP:20260424T051140
CREATED:20200114T212611Z
LAST-MODIFIED:20200114T212611Z
UID:5558-1581328800-1581336000@christchurchpettswood.org.uk
SUMMARY:Bereavement Help Point
DESCRIPTION:Churches Together In Petts Wood are contributing volunteers for the Bereavement Help Point. These volunteers have attended training and will be there to support the difficult experience of bereavement. If you have lost someone and need someone to talk to please pop along to the Petts Wood Methodist Church (on Queensway) any Monday between 10am and noon.
URL:https://christchurchpettswood.org.uk/event/bereavement-help-point-2/
CATEGORIES:Church Events
ATTACH;FMTTYPE=image/png:https://christchurchpettswood.org.uk/wp-content/uploads/2020/01/Bereavement-1.png
END:VEVENT
BEGIN:VEVENT
DTSTART;TZID=Europe/London:20200209T143000
DTEND;TZID=Europe/London:20200209T163000
DTSTAMP:20260424T051140
CREATED:20191228T191546Z
LAST-MODIFIED:20200112T173342Z
UID:5447-1581258600-1581265800@christchurchpettswood.org.uk
SUMMARY:Church Bake-off
DESCRIPTION:Church Bake-Off – this is at the home of one of our fellowship – please keep an eye on Notes & News for more details!
URL:https://christchurchpettswood.org.uk/event/church-bake-off/
CATEGORIES:Children & Youth,Church Events
ATTACH;FMTTYPE=image/jpeg:https://christchurchpettswood.org.uk/wp-content/uploads/2019/03/Lunch-Club-3.jpeg
END:VEVENT
BEGIN:VEVENT
DTSTART;TZID=Europe/London:20200209T103000
DTEND;TZID=Europe/London:20200209T113000
DTSTAMP:20260424T051140
CREATED:20200112T171435Z
LAST-MODIFIED:20200112T171435Z
UID:5524-1581244200-1581247800@christchurchpettswood.org.uk
SUMMARY:Family Worship
DESCRIPTION:Our Family Worship on Sunday 9th February at 10.30am is being led by our Minister Rev Nadene Snyman. All are very welcome!\n\n\n 
URL:https://christchurchpettswood.org.uk/event/family-worship-10/
LOCATION:Christ Church Petts Wood\, Tudor Way\, Orpington\, BR5 1LH\, United Kingdom
CATEGORIES:Church Events
ATTACH;FMTTYPE=image/jpeg:https://christchurchpettswood.org.uk/wp-content/uploads/2018/06/DSC_0314.jpg
END:VEVENT
BEGIN:VEVENT
DTSTART;TZID=Europe/London:20200206T140000
DTEND;TZID=Europe/London:20200206T153000
DTSTAMP:20260424T051140
CREATED:20200112T163744Z
LAST-MODIFIED:20200112T163744Z
UID:5506-1580997600-1581003000@christchurchpettswood.org.uk
SUMMARY:Daytime book club - The Bluest Eye
DESCRIPTION:Do join from 8pm on Monday 3rd February us for our monthly book club where we will be discussing Toni Morrison’s The Bluest Eye. This is held in the home of one of our fellowship\, as advertised in Notes & News\, or do message us for address details. If you cannot make a Monday evening\, how about our daytime group that is held on a Thursday?
URL:https://christchurchpettswood.org.uk/event/daytime-book-club-the-bluest-eye/
CATEGORIES:Church Events
ATTACH;FMTTYPE=image/jpeg:https://christchurchpettswood.org.uk/wp-content/uploads/2020/01/Bluest-eye-e1578846942602.jpg
END:VEVENT
BEGIN:VEVENT
DTSTART;TZID=Europe/London:20200203T200000
DTEND;TZID=Europe/London:20200203T213000
DTSTAMP:20260424T051140
CREATED:20200112T163642Z
LAST-MODIFIED:20200112T163642Z
UID:5503-1580760000-1580765400@christchurchpettswood.org.uk
SUMMARY:Evening book club - The Bluest Eye
DESCRIPTION:Do join from 8pm on Monday 3rd February us for our monthly book club where we will be discussing Toni Morrison’s The Bluest Eye. This is held in the home of one of our fellowship\, as advertised in Notes & News\, or do message us for address details. If you cannot make a Monday evening\, how about our daytime group that is held on a Thursday?
URL:https://christchurchpettswood.org.uk/event/evening-book-club-the-bluest-eye/
CATEGORIES:Church Events
ATTACH;FMTTYPE=image/jpeg:https://christchurchpettswood.org.uk/wp-content/uploads/2020/01/Bluest-eye-e1578846942602.jpg
END:VEVENT
BEGIN:VEVENT
DTSTART;TZID=Europe/London:20200203T080000
DTEND;TZID=Europe/London:20200203T170000
DTSTAMP:20260424T051140
CREATED:20200114T211259Z
LAST-MODIFIED:20200114T211259Z
UID:5555-1580716800-1580749200@christchurchpettswood.org.uk
SUMMARY:Bereavement Help Point
DESCRIPTION:Churches Together In Petts Wood are contributing volunteers for the Bereavement Help Point. These volunteers have attended training and will be there to support the difficult experience of bereavement. If you have lost someone and need someone to talk to please pop along to the Petts Wood Methodist Church (on Queensway) any Monday between 10am and noon.
URL:https://christchurchpettswood.org.uk/event/bereavement-help-point/
CATEGORIES:Church Events
ATTACH;FMTTYPE=image/png:https://christchurchpettswood.org.uk/wp-content/uploads/2020/01/Bereavement-1.png
END:VEVENT
BEGIN:VEVENT
DTSTART;TZID=Europe/London:20200202T103000
DTEND;TZID=Europe/London:20200202T113000
DTSTAMP:20260424T051140
CREATED:20191228T185519Z
LAST-MODIFIED:20191228T185519Z
UID:5439-1580639400-1580643000@christchurchpettswood.org.uk
SUMMARY:Family worship with Holy Communion
DESCRIPTION:We invite you this service of Worship and Holy Communion\, led by our Minister\, Revd Nadene Snyman. Refreshments will be available after the service
URL:https://christchurchpettswood.org.uk/event/family-worship-with-holy-communion-10/
LOCATION:Christ Church Petts Wood\, Tudor Way\, Orpington\, BR5 1LH\, United Kingdom
CATEGORIES:Church Events
ATTACH;FMTTYPE=image/jpeg:https://christchurchpettswood.org.uk/wp-content/uploads/2019/04/cup-and-cross.jpg
END:VEVENT
BEGIN:VEVENT
DTSTART;TZID=Europe/London:20200131T103000
DTEND;TZID=Europe/London:20200131T120000
DTSTAMP:20260424T051140
CREATED:20200112T170907Z
LAST-MODIFIED:20200112T170907Z
UID:5522-1580466600-1580472000@christchurchpettswood.org.uk
SUMMARY:Coffee Stop
DESCRIPTION:Please drop in for a cup of tea or coffee and homemade cake from 10.30 am until noon. An opportunity to chat and relax. If you are looking to make friends\, this is the place to come. Taking place in the Lounge\, the entrance to the Lounge is from the Willett Way car park.
URL:https://christchurchpettswood.org.uk/event/coffee-stop-7/
LOCATION:Christ Church Petts Wood\, Tudor Way\, Orpington\, BR5 1LH\, United Kingdom
CATEGORIES:Church Events
ATTACH;FMTTYPE=image/jpeg:https://christchurchpettswood.org.uk/wp-content/uploads/2019/03/Coffee-and-cake-1920x1200.jpg
END:VEVENT
BEGIN:VEVENT
DTSTART;TZID=Europe/London:20200126T160000
DTEND;TZID=Europe/London:20200126T180000
DTSTAMP:20260424T051140
CREATED:20191228T182210Z
LAST-MODIFIED:20191228T190240Z
UID:5422-1580054400-1580061600@christchurchpettswood.org.uk
SUMMARY:Messy 10th birthday party
DESCRIPTION:We look forward to celebrating 10 years of Messy Church at Christ Church (URC) Petts Wood & would like to invite all our Messy Church friends (whenever you have attended!) to join us for a special party on Sunday 26th January from 4-6pm.
URL:https://christchurchpettswood.org.uk/event/messy-10th-birthday-party/
LOCATION:Christ Church Petts Wood\, Tudor Way\, Orpington\, BR5 1LH\, United Kingdom
CATEGORIES:Children & Youth,Church Events
ATTACH;FMTTYPE=image/jpeg:https://christchurchpettswood.org.uk/wp-content/uploads/2019/12/Messy10th.jpg
END:VEVENT
BEGIN:VEVENT
DTSTART;TZID=Europe/London:20200126T103000
DTEND;TZID=Europe/London:20200126T113000
DTSTAMP:20260424T051140
CREATED:20191228T184950Z
LAST-MODIFIED:20191228T184950Z
UID:5437-1580034600-1580038200@christchurchpettswood.org.uk
SUMMARY:Family Worship
DESCRIPTION:Join us for worship. Led by our good friend\, Bill Bowman. Our young people are welcome to join our church of youth activities. Refreshments served after the service.
URL:https://christchurchpettswood.org.uk/event/family-worship-9/
LOCATION:Christ Church Petts Wood\, Tudor Way\, Orpington\, BR5 1LH\, United Kingdom
CATEGORIES:Church Events
ATTACH;FMTTYPE=image/jpeg:https://christchurchpettswood.org.uk/wp-content/uploads/2018/06/DSC03146-2.jpg
END:VEVENT
BEGIN:VEVENT
DTSTART;TZID=Europe/London:20200124T103000
DTEND;TZID=Europe/London:20200124T120000
DTSTAMP:20260424T051140
CREATED:20200112T170603Z
LAST-MODIFIED:20200112T170603Z
UID:5520-1579861800-1579867200@christchurchpettswood.org.uk
SUMMARY:Coffee Stop
DESCRIPTION:Please drop in for a cup of tea or coffee and homemade cake from 10.30 am until noon. An opportunity to chat and relax. If you are looking to make friends\, this is the place to come. Taking place in the Lounge\, the entrance to the Lounge is from the Willett Way car park.
URL:https://christchurchpettswood.org.uk/event/coffee-stop-6/
LOCATION:Christ Church Petts Wood\, Tudor Way\, Orpington\, BR5 1LH\, United Kingdom
CATEGORIES:Church Events
ATTACH;FMTTYPE=image/jpeg:https://christchurchpettswood.org.uk/wp-content/uploads/2019/03/Coffee-and-cake-1920x1200.jpg
END:VEVENT
BEGIN:VEVENT
DTSTART;TZID=Europe/London:20200119T170000
DTEND;TZID=Europe/London:20200119T180000
DTSTAMP:20260424T051140
CREATED:20200112T164418Z
LAST-MODIFIED:20200112T164446Z
UID:5510-1579453200-1579456800@christchurchpettswood.org.uk
SUMMARY:Taizé service
DESCRIPTION:Please come and join us on the 3rd Sunday of the month from 5pm for a quiet reflective Taizé Service alternating between Christ Church (URC) & St Francis Petts Wood. Refreshments will be served after the service. The January service will be held at Christ Church. More information on our website here: https://christchurchpettswood.org.uk/taize-services-at-christ-church-urc-and-st-francis/
URL:https://christchurchpettswood.org.uk/event/taize-service/
LOCATION:Christ Church Petts Wood\, Tudor Way\, Orpington\, BR5 1LH\, United Kingdom
CATEGORIES:Church Events
ATTACH;FMTTYPE=image/jpeg:https://christchurchpettswood.org.uk/wp-content/uploads/2019/12/Taize-images.jpg
END:VEVENT
BEGIN:VEVENT
DTSTART;TZID=Europe/London:20200119T103000
DTEND;TZID=Europe/London:20200119T113000
DTSTAMP:20260424T051140
CREATED:20191228T184503Z
LAST-MODIFIED:20191228T184503Z
UID:5435-1579429800-1579433400@christchurchpettswood.org.uk
SUMMARY:Family Worship
DESCRIPTION:Join us for fellowship\, worship and joy. Led by our Minister\, Revd Nadene Snyman. Our young people are welcome to join our church of youth activities. Refreshments served after the service.
URL:https://christchurchpettswood.org.uk/event/family-worship-8/
LOCATION:Christ Church Petts Wood\, Tudor Way\, Orpington\, BR5 1LH\, United Kingdom
CATEGORIES:Church Events
ATTACH;FMTTYPE=image/jpeg:https://christchurchpettswood.org.uk/wp-content/uploads/2017/08/DSC03146.jpg
END:VEVENT
BEGIN:VEVENT
DTSTART;TZID=Europe/London:20200117T103000
DTEND;TZID=Europe/London:20200117T120000
DTSTAMP:20260424T051140
CREATED:20200112T170500Z
LAST-MODIFIED:20200112T170500Z
UID:5518-1579257000-1579262400@christchurchpettswood.org.uk
SUMMARY:Coffee Stop
DESCRIPTION:Please drop in for a cup of tea or coffee and homemade cake from 10.30 am until noon. An opportunity to chat and relax. If you are looking to make friends\, this is the place to come. Taking place in the Lounge\, the entrance to the Lounge is from the Willett Way car park.
URL:https://christchurchpettswood.org.uk/event/coffee-stop-5/
LOCATION:Christ Church Petts Wood\, Tudor Way\, Orpington\, BR5 1LH\, United Kingdom
CATEGORIES:Church Events
ATTACH;FMTTYPE=image/jpeg:https://christchurchpettswood.org.uk/wp-content/uploads/2019/03/Coffee-and-cake-1920x1200.jpg
END:VEVENT
BEGIN:VEVENT
DTSTART;TZID=Europe/London:20200112T103000
DTEND;TZID=Europe/London:20200112T113000
DTSTAMP:20260424T051140
CREATED:20191228T184043Z
LAST-MODIFIED:20191228T184043Z
UID:5433-1578825000-1578828600@christchurchpettswood.org.uk
SUMMARY:Family Worship
DESCRIPTION:Join us for Family Worship\, led by Mrs Katherine Copley and the Worship team. Any young people are welcome to join our Church of youth for activities and crafts. Refreshments will be served after the service.
URL:https://christchurchpettswood.org.uk/event/family-worship-7/
LOCATION:Christ Church Petts Wood\, Tudor Way\, Orpington\, BR5 1LH\, United Kingdom
CATEGORIES:Church Events
ATTACH;FMTTYPE=image/jpeg:https://christchurchpettswood.org.uk/wp-content/uploads/2017/08/DSC03148.jpg
END:VEVENT
BEGIN:VEVENT
DTSTART;TZID=Europe/London:20200109T140000
DTEND;TZID=Europe/London:20200109T153000
DTSTAMP:20260424T051140
CREATED:20191228T183640Z
LAST-MODIFIED:20191228T183640Z
UID:5431-1578578400-1578583800@christchurchpettswood.org.uk
SUMMARY:Daytime book club
DESCRIPTION:Join us to discuss our January book which we will (hopefully!) have been reading during December\, John Sentamu’s Faith Stories. Address has been advertised in Notes & News\, or contact us via this page to get address details.
URL:https://christchurchpettswood.org.uk/event/daytime-book-club-5/
CATEGORIES:Church Events
ATTACH;FMTTYPE=image/jpeg:https://christchurchpettswood.org.uk/wp-content/uploads/2019/12/Sentamu.jpg
END:VEVENT
BEGIN:VEVENT
DTSTART;TZID=Europe/London:20200106T200000
DTEND;TZID=Europe/London:20200106T213000
DTSTAMP:20260424T051140
CREATED:20191228T183552Z
LAST-MODIFIED:20191228T183552Z
UID:5428-1578340800-1578346200@christchurchpettswood.org.uk
SUMMARY:Evening book club
DESCRIPTION:Join us to discuss our January book which we will (hopefully!) have been reading during December\, John Sentamu’s Faith Stories. Address has been advertised in Notes & News\, or contact us via this page to get address details.
URL:https://christchurchpettswood.org.uk/event/evening-book-club-4/
CATEGORIES:Church Events
ATTACH;FMTTYPE=image/jpeg:https://christchurchpettswood.org.uk/wp-content/uploads/2019/12/Sentamu.jpg
END:VEVENT
BEGIN:VEVENT
DTSTART;TZID=Europe/London:20200105T103000
DTEND;TZID=Europe/London:20200105T113000
DTSTAMP:20260424T051140
CREATED:20191228T182845Z
LAST-MODIFIED:20191228T182845Z
UID:5425-1578220200-1578223800@christchurchpettswood.org.uk
SUMMARY:Family service\, holy communion & new members
DESCRIPTION:At this service we welcome our new members and also ordain a new Elder. We invite you to this very special service led by our Minister\, Revd Nadene Snyman. Refreshments will be available after the service.
URL:https://christchurchpettswood.org.uk/event/family-service-holy-communion-new-members/
LOCATION:Christ Church Petts Wood\, Tudor Way\, Orpington\, BR5 1LH\, United Kingdom
CATEGORIES:Church Events
ATTACH;FMTTYPE=image/png:https://christchurchpettswood.org.uk/wp-content/uploads/2019/12/Join-the-family-cover-500x500-1.png
END:VEVENT
BEGIN:VEVENT
DTSTART;TZID=Europe/London:20191229T103000
DTEND;TZID=Europe/London:20191229T113000
DTSTAMP:20260424T051140
CREATED:20191228T181649Z
LAST-MODIFIED:20191228T181649Z
UID:5419-1577615400-1577619000@christchurchpettswood.org.uk
SUMMARY:Beckenham and Petts Wood combined service
DESCRIPTION:Please join us for a service where we welcome our friends from Beckenham URC\, led by the minister for both Churches\, Revd Nadene Snyman.
URL:https://christchurchpettswood.org.uk/event/beckenham-and-petts-wood-combined-service/
LOCATION:Christ Church Petts Wood\, Tudor Way\, Orpington\, BR5 1LH\, United Kingdom
CATEGORIES:Church Events
ATTACH;FMTTYPE=image/jpeg:https://christchurchpettswood.org.uk/wp-content/uploads/2019/12/cross-Beck-PW2.jpg
END:VEVENT
BEGIN:VEVENT
DTSTART;TZID=Europe/London:20191225T100000
DTEND;TZID=Europe/London:20191225T110000
DTSTAMP:20260424T051140
CREATED:20191110T155822Z
LAST-MODIFIED:20191110T155822Z
UID:5405-1577268000-1577271600@christchurchpettswood.org.uk
SUMMARY:Christmas Family Service
DESCRIPTION:Join us at 10am\, slightly earlier than usual\, for this family worship led by our Minister\, Revd Nadene Snyman
URL:https://christchurchpettswood.org.uk/event/christmas-family-service/
LOCATION:Christ Church Petts Wood\, Tudor Way\, Orpington\, BR5 1LH\, United Kingdom
CATEGORIES:Church Events
ATTACH;FMTTYPE=image/jpeg:https://christchurchpettswood.org.uk/wp-content/uploads/2019/10/NAtivity-Christmas.jpg
END:VEVENT
BEGIN:VEVENT
DTSTART;TZID=Europe/London:20191224T233000
DTEND;TZID=Europe/London:20191225T001500
DTSTAMP:20260424T051140
CREATED:20191110T155621Z
LAST-MODIFIED:20191110T155621Z
UID:5403-1577230200-1577232900@christchurchpettswood.org.uk
SUMMARY:Christmas Eve Midnight Service with Communion 11:30pm
DESCRIPTION:All welcome to this special service lasting about 45 min
URL:https://christchurchpettswood.org.uk/event/christmas-eve-midnight-service-with-communion-1130pm/
LOCATION:Christ Church Petts Wood\, Tudor Way\, Orpington\, BR5 1LH\, United Kingdom
CATEGORIES:Church Events
ATTACH;FMTTYPE=image/jpeg:https://christchurchpettswood.org.uk/wp-content/uploads/2019/10/Christmas-Eve-Service.jpg
END:VEVENT
BEGIN:VEVENT
DTSTART;TZID=Europe/London:20191224T150000
DTEND;TZID=Europe/London:20191224T160000
DTSTAMP:20260424T051140
CREATED:20191110T165219Z
LAST-MODIFIED:20191110T165219Z
UID:5407-1577199600-1577203200@christchurchpettswood.org.uk
SUMMARY:Messy Christmas Eve
DESCRIPTION:We would love to welcome you to our family Messy Christmas Eve Service\n  \n24 December\n3pm\n\nIt is an informal service with Carol Singing and crafts and lots of fun for the whole family
URL:https://christchurchpettswood.org.uk/event/messy-christmas-eve-3/
LOCATION:Christ Church Petts Wood\, Tudor Way\, Orpington\, BR5 1LH\, United Kingdom
CATEGORIES:Church Events
ATTACH;FMTTYPE=image/jpeg:https://christchurchpettswood.org.uk/wp-content/uploads/2019/09/A-Messy-Christmas.jpg
END:VEVENT
BEGIN:VEVENT
DTSTART;TZID=Europe/London:20191222T183000
DTEND;TZID=Europe/London:20191222T193000
DTSTAMP:20260424T051140
CREATED:20190928T101503Z
LAST-MODIFIED:20190928T101503Z
UID:5331-1577039400-1577043000@christchurchpettswood.org.uk
SUMMARY:9 Lessons & Carols
DESCRIPTION:Join us for this early evening service\, mulled wine and mince pies served after the service.
URL:https://christchurchpettswood.org.uk/event/9-lessons-carols/
LOCATION:Christ Church Petts Wood\, Tudor Way\, Orpington\, BR5 1LH\, United Kingdom
CATEGORIES:Church Events
ATTACH;FMTTYPE=image/jpeg:https://christchurchpettswood.org.uk/wp-content/uploads/2019/09/9-lessons-and-carols.jpg
END:VEVENT
BEGIN:VEVENT
DTSTART;TZID=Europe/London:20191222T103000
DTEND;TZID=Europe/London:20191222T113000
DTSTAMP:20260424T051140
CREATED:20190928T100441Z
LAST-MODIFIED:20190928T100441Z
UID:5329-1577010600-1577014200@christchurchpettswood.org.uk
SUMMARY:Nativity Play service
DESCRIPTION:Everyone is welcome to the\nChurch of Youth’s Nativity Service\n\n22 December\n10:30am\nCome and see our children in their nativity play\n\nIt is one of the highlights of the year and the children would love to see you there
URL:https://christchurchpettswood.org.uk/event/nativity-play-service/
LOCATION:Christ Church Petts Wood\, Tudor Way\, Orpington\, BR5 1LH\, United Kingdom
CATEGORIES:Church Events
ATTACH;FMTTYPE=image/jpeg:https://christchurchpettswood.org.uk/wp-content/uploads/2019/09/Nativity-Scene.jpg
END:VEVENT
END:VCALENDAR