BEGIN:VCALENDAR
VERSION:2.0
PRODID:-//Christ Church United Reformed Church, Petts Wood - ECPv6.15.20//NONSGML v1.0//EN
CALSCALE:GREGORIAN
METHOD:PUBLISH
X-WR-CALNAME:Christ Church United Reformed Church, Petts Wood
X-ORIGINAL-URL:https://christchurchpettswood.org.uk
X-WR-CALDESC:Events for Christ Church United Reformed Church, Petts Wood
REFRESH-INTERVAL;VALUE=DURATION:PT1H
X-Robots-Tag:noindex
X-PUBLISHED-TTL:PT1H
BEGIN:VTIMEZONE
TZID:Europe/London
BEGIN:DAYLIGHT
TZOFFSETFROM:+0000
TZOFFSETTO:+0100
TZNAME:BST
DTSTART:20190331T010000
END:DAYLIGHT
BEGIN:STANDARD
TZOFFSETFROM:+0100
TZOFFSETTO:+0000
TZNAME:GMT
DTSTART:20191027T010000
END:STANDARD
BEGIN:DAYLIGHT
TZOFFSETFROM:+0000
TZOFFSETTO:+0100
TZNAME:BST
DTSTART:20200329T010000
END:DAYLIGHT
BEGIN:STANDARD
TZOFFSETFROM:+0100
TZOFFSETTO:+0000
TZNAME:GMT
DTSTART:20201025T010000
END:STANDARD
BEGIN:DAYLIGHT
TZOFFSETFROM:+0000
TZOFFSETTO:+0100
TZNAME:BST
DTSTART:20210328T010000
END:DAYLIGHT
BEGIN:STANDARD
TZOFFSETFROM:+0100
TZOFFSETTO:+0000
TZNAME:GMT
DTSTART:20211031T010000
END:STANDARD
END:VTIMEZONE
BEGIN:VEVENT
DTSTART;TZID=Europe/London:20200825T103000
DTEND;TZID=Europe/London:20200825T111500
DTSTAMP:20260421T044925
CREATED:20200825T183231Z
LAST-MODIFIED:20200825T183231Z
UID:6257-1598351400-1598354100@christchurchpettswood.org.uk
SUMMARY:Sunday worship online
DESCRIPTION:Join us for Sunday worship\, led by our Minister Rev Nadene Snyman on the theme of Pick up your cross. Watch on YouTube\, or if you know someone who does not have digital technology then please message us and we can provide telephone numbers to dial in for the audio. All welcome.
URL:https://christchurchpettswood.org.uk/event/sunday-worship-online-3/
CATEGORIES:Church Events
ATTACH;FMTTYPE=image/png:https://christchurchpettswood.org.uk/wp-content/uploads/2020/08/Advertising-30-Aug.png
END:VEVENT
BEGIN:VEVENT
DTSTART;TZID=Europe/London:20200824T110000
DTEND;TZID=Europe/London:20200824T140000
DTSTAMP:20260421T044925
CREATED:20200819T082809Z
LAST-MODIFIED:20200819T082809Z
UID:6248-1598266800-1598277600@christchurchpettswood.org.uk
SUMMARY:Private prayer
DESCRIPTION:We are open for socially distanced Private Prayer every Monday from 11am to 2pm and Thursday from 7pm to 9pm. There will be sanitizer\, one way systems and a record of who arrives to keep us all safe. Watch our video to learn more about what to expect. You do not have to be a member to pop in\, whether it is for five minutes\, half an hour or the full session. There will be images on the screen to help you focus your thoughts and prayers. Please bring your own pen to be able to sign the register.
URL:https://christchurchpettswood.org.uk/event/private-prayer-4/
LOCATION:Christ Church Petts Wood\, Tudor Way\, Orpington\, BR5 1LH\, United Kingdom
CATEGORIES:Church Events
ATTACH;FMTTYPE=image/jpeg:https://christchurchpettswood.org.uk/wp-content/uploads/2020/07/OpenforPrayer.jpg
END:VEVENT
BEGIN:VEVENT
DTSTART;TZID=Europe/London:20200823T103000
DTEND;TZID=Europe/London:20200823T111500
DTSTAMP:20260421T044925
CREATED:20200731T092653Z
LAST-MODIFIED:20200731T092653Z
UID:6231-1598178600-1598181300@christchurchpettswood.org.uk
SUMMARY:Sunday Worship
DESCRIPTION:Join us for a Zoom service (link to be emailed)\, or also watch on the Christ Church YouTube Channel. This service is being led by the Revd Ian Fosten.
URL:https://christchurchpettswood.org.uk/event/sunday-worship-5/
CATEGORIES:Church Events
ATTACH;FMTTYPE=image/png:https://christchurchpettswood.org.uk/wp-content/uploads/2020/07/Advertising-graphic-for-23.png
END:VEVENT
BEGIN:VEVENT
DTSTART;TZID=Europe/London:20200820T190000
DTEND;TZID=Europe/London:20200820T210000
DTSTAMP:20260421T044925
CREATED:20200819T082656Z
LAST-MODIFIED:20200819T082709Z
UID:6246-1597950000-1597957200@christchurchpettswood.org.uk
SUMMARY:Private prayer
DESCRIPTION:We are open for socially distanced Private Prayer every Monday from 11am to 2pm and Thursday from 7pm to 9pm. There will be sanitizer\, one way systems and a record of who arrives to keep us all safe. Watch our video to learn more about what to expect. You do not have to be a member to pop in\, whether it is for five minutes\, half an hour or the full session. There will be images on the screen to help you focus your thoughts and prayers. Please bring your own pen to be able to sign the register.
URL:https://christchurchpettswood.org.uk/event/private-prayer-3/
LOCATION:Christ Church Petts Wood\, Tudor Way\, Orpington\, BR5 1LH\, United Kingdom
CATEGORIES:Church Events
ATTACH;FMTTYPE=image/jpeg:https://christchurchpettswood.org.uk/wp-content/uploads/2020/07/OpenforPrayer.jpg
END:VEVENT
BEGIN:VEVENT
DTSTART;TZID=Europe/London:20200809T103000
DTEND;TZID=Europe/London:20200809T111500
DTSTAMP:20260421T044925
CREATED:20200731T091156Z
LAST-MODIFIED:20200731T091252Z
UID:6224-1596969000-1596971700@christchurchpettswood.org.uk
SUMMARY:Sunday Worship - Jesus walks on water
DESCRIPTION:Please join us via You Tube for our family worship this Sunday at 10.30am on the theme of ‘Jesus Walks on Water’. Led by our Minister\, Rev’d Nadene Snyman. \nWe look forward to welcoming you to our family worship.
URL:https://christchurchpettswood.org.uk/event/sunday-worship-jesus-walks-on-water/
CATEGORIES:Church Events
ATTACH;FMTTYPE=image/png:https://christchurchpettswood.org.uk/wp-content/uploads/2020/07/Advert-9th-Aug.png
END:VEVENT
BEGIN:VEVENT
DTSTART;TZID=Europe/London:20200806T190000
DTEND;TZID=Europe/London:20200806T210000
DTSTAMP:20260421T044925
CREATED:20200716T201327Z
LAST-MODIFIED:20200721T203101Z
UID:6189-1596740400-1596747600@christchurchpettswood.org.uk
SUMMARY:Private Prayer
DESCRIPTION:From August we will be open for socially distanced Private Prayer every Monday from 11am to 2pm and Thursday from 7pm to 9pm. There will be santizer\, one way systems and a record of who arrives to keep us all safe. Watch our video to learn more about what to expect. You do not have to be a member to pop in\, whether it is for five minutes\, half an hour or the full session. There will be images on the screen to help you focus your thoughts and prayers. Please bring your own pen to be able to sign the register.
URL:https://christchurchpettswood.org.uk/event/private-prayer-2/
LOCATION:Christ Church Petts Wood\, Tudor Way\, Orpington\, BR5 1LH\, United Kingdom
CATEGORIES:Church Events
ATTACH;FMTTYPE=image/jpeg:https://christchurchpettswood.org.uk/wp-content/uploads/2020/07/OpenforPrayer.jpg
END:VEVENT
BEGIN:VEVENT
DTSTART;TZID=Europe/London:20200803T110000
DTEND;TZID=Europe/London:20200803T140000
DTSTAMP:20260421T044925
CREATED:20200716T185559Z
LAST-MODIFIED:20200721T203037Z
UID:6186-1596452400-1596463200@christchurchpettswood.org.uk
SUMMARY:Private prayer
DESCRIPTION:From August we will be open for socially distanced Private Prayer every Monday from 11am to 2pm and Thursday from 7pm to 9pm. There will be santizer\, one way systems and a record of who arrives to keep us all safe. Watch our video to learn more about what to expect. You do not have to be a member to pop in\, whether it is for five minutes\, half an hour or the full session. There will be images on the screen to help you focus your thoughts and prayers. Please bring your own pen to be able to sign the register.
URL:https://christchurchpettswood.org.uk/event/private-prayer/
LOCATION:Christ Church Petts Wood\, Tudor Way\, Orpington\, BR5 1LH\, United Kingdom
CATEGORIES:Church Events
ATTACH;FMTTYPE=image/jpeg:https://christchurchpettswood.org.uk/wp-content/uploads/2020/07/OpenforPrayer.jpg
END:VEVENT
BEGIN:VEVENT
DTSTART;TZID=Europe/London:20200802T103000
DTEND;TZID=Europe/London:20200802T111500
DTSTAMP:20260421T044925
CREATED:20200731T085959Z
LAST-MODIFIED:20200731T090148Z
UID:6221-1596364200-1596366900@christchurchpettswood.org.uk
SUMMARY:Sunday worship - Jesus feeds the 5000
DESCRIPTION:Please Join us on YouTube for our family worship this Sunday at 10.30am on the theme of ‘Jesus Feeds the 5000’. \nWe look forward to welcoming you to our family worship.
URL:https://christchurchpettswood.org.uk/event/sunday-worship-jesus-feeds-the-5000/
CATEGORIES:Church Events
ATTACH;FMTTYPE=image/png:https://christchurchpettswood.org.uk/wp-content/uploads/2020/07/ADVERT-FOR-2ND-AUG.png
END:VEVENT
BEGIN:VEVENT
DTSTART;TZID=Europe/London:20200731T080000
DTEND;TZID=Europe/London:20200731T170000
DTSTAMP:20260421T044925
CREATED:20200731T092107Z
LAST-MODIFIED:20200731T092107Z
UID:6228-1596182400-1596214800@christchurchpettswood.org.uk
SUMMARY:Sunday worship
DESCRIPTION:Join us for a  Zoom service (link to be emailed)\, or also watch on the Christ Church YouTube Channel. This service is being led by the Revd Bill Bowman.
URL:https://christchurchpettswood.org.uk/event/sunday-worship-4/
CATEGORIES:Church Events
ATTACH;FMTTYPE=image/png:https://christchurchpettswood.org.uk/wp-content/uploads/2020/07/Opening-pic-for-16th.png
END:VEVENT
BEGIN:VEVENT
DTSTART;TZID=Europe/London:20200726T103000
DTEND;TZID=Europe/London:20200726T111500
DTSTAMP:20260421T044925
CREATED:20200721T191630Z
LAST-MODIFIED:20200721T191630Z
UID:6203-1595759400-1595762100@christchurchpettswood.org.uk
SUMMARY:Sunday Worship - the Mustard Seed
DESCRIPTION:Join us for an online service which will be live via Zoom and also broadcast on our YouTube channel.  \nThis service is led by our Minister.
URL:https://christchurchpettswood.org.uk/event/sunday-worship-the-mustard-seed/
CATEGORIES:Church Events
ATTACH;FMTTYPE=image/png:https://christchurchpettswood.org.uk/wp-content/uploads/2020/07/Advertising-.png
END:VEVENT
BEGIN:VEVENT
DTSTART;TZID=Europe/London:20200724T103000
DTEND;TZID=Europe/London:20200724T120000
DTSTAMP:20260421T044925
CREATED:20200721T191855Z
LAST-MODIFIED:20200721T191855Z
UID:6206-1595586600-1595592000@christchurchpettswood.org.uk
SUMMARY:Coffee Stop via Zoom
DESCRIPTION:Join us from 10.30am each Friday morning for Coffee Stop. Whilst we are not able to meet physically we will be meeting via Zoom. The link will be shared by email. If you know someone who does not have access to Zoom do let them know they can now dial in\, please contact us for more details.
URL:https://christchurchpettswood.org.uk/event/coffee-stop-via-zoom-9/
CATEGORIES:Church Events
ATTACH;FMTTYPE=image/jpeg:https://christchurchpettswood.org.uk/wp-content/uploads/2020/04/tyler-nix-j3FidswVdQk-unsplash-scaled.jpg
END:VEVENT
BEGIN:VEVENT
DTSTART;TZID=Europe/London:20200719T103000
DTEND;TZID=Europe/London:20200719T111500
DTSTAMP:20260421T044925
CREATED:20200716T202119Z
LAST-MODIFIED:20200716T202156Z
UID:6194-1595154600-1595157300@christchurchpettswood.org.uk
SUMMARY:Sunday worship - Weeds & the Wheat
DESCRIPTION:Join us for our service on Sunday 19th July on the theme of the Parable of the Weeds & Wheat\, led by our Minister\, Rev Nadene Snyman. The service will be held on Zoom (link emailed to church members) and also on our YouTube channel. There will be a breakout room for our church of youth\, all ages very very welcome!
URL:https://christchurchpettswood.org.uk/event/sunday-worship-weeds-the-wheat/
CATEGORIES:Church Events
ATTACH;FMTTYPE=image/png:https://christchurchpettswood.org.uk/wp-content/uploads/2020/07/Weeds-and-Wheat-SS-Advertising.png
END:VEVENT
BEGIN:VEVENT
DTSTART;TZID=Europe/London:20200714T194500
DTEND;TZID=Europe/London:20200714T203000
DTSTAMP:20260421T044925
CREATED:20200707T180710Z
LAST-MODIFIED:20200707T180710Z
UID:6159-1594755900-1594758600@christchurchpettswood.org.uk
SUMMARY:Solace
DESCRIPTION:Solace is a calm\, structured space for quiet\, reflection and prayer. Each session lasts about 40 minutes\, which includes some time to settle into your space\, go through your day with God using an Examen prayer\, reflect on a poem and an exercise based around a short Bible reading. \nThere are two periods of 15 minute silence built into each session – you shouldn’t need to pause or anything else during the time (unless you feel you want more time for one of the sections). \nYou’ll need a candle to light (if you have one) and a Bible\, but nothing else – instructions for the exercises will be on the screen to help you\, but if you want to read through them or give them a go in advance\, they can be found on the church website: https://christchurchpettswood.org.uk/wp-content/uploads/2020/03/Audio-Solace-resource-sheet.pdf \nWatch it on YouTube or join us each Tuesday from 7.45\, for the latter a Zoom link will be emailed.
URL:https://christchurchpettswood.org.uk/event/solace-5/
CATEGORIES:Church Events
ATTACH;FMTTYPE=image/png:https://christchurchpettswood.org.uk/wp-content/uploads/2020/05/Solace-screen-shot.png
END:VEVENT
BEGIN:VEVENT
DTSTART;TZID=Europe/London:20200712T103000
DTEND;TZID=Europe/London:20200712T111500
DTSTAMP:20260421T044925
CREATED:20200707T182233Z
LAST-MODIFIED:20200707T182233Z
UID:6161-1594549800-1594552500@christchurchpettswood.org.uk
SUMMARY:Sunday worship (online)
DESCRIPTION:Join us for Sunday Worship\, led by our Minister Nadene Snyman on the theme of Parables. This service will be held on YouTube\, see our channel here 
URL:https://christchurchpettswood.org.uk/event/sunday-worship-online-2/
CATEGORIES:Church Events
ATTACH;FMTTYPE=image/png:https://christchurchpettswood.org.uk/wp-content/uploads/2020/07/Parable-advertising.png
END:VEVENT
BEGIN:VEVENT
DTSTART;TZID=Europe/London:20200710T103000
DTEND;TZID=Europe/London:20200710T120000
DTSTAMP:20260421T044925
CREATED:20200630T181705Z
LAST-MODIFIED:20200630T181705Z
UID:6130-1594377000-1594382400@christchurchpettswood.org.uk
SUMMARY:Coffee stop via Zoom
DESCRIPTION:Join us from 10.30am each Friday morning for Coffee Stop. Whilst we are not able to meet physically we will be meeting via Zoom. The link will be shared by email. If you know someone who does not have access to Zoom do let them know they can now dial in\, please contact us for more details.
URL:https://christchurchpettswood.org.uk/event/coffee-stop-via-zoom-8/
CATEGORIES:Church Events
ATTACH;FMTTYPE=image/jpeg:https://christchurchpettswood.org.uk/wp-content/uploads/2020/04/tyler-nix-j3FidswVdQk-unsplash-scaled.jpg
END:VEVENT
BEGIN:VEVENT
DTSTART;TZID=Europe/London:20200707T194500
DTEND;TZID=Europe/London:20200707T203000
DTSTAMP:20260421T044925
CREATED:20200707T180611Z
LAST-MODIFIED:20200707T180611Z
UID:6157-1594151100-1594153800@christchurchpettswood.org.uk
SUMMARY:Solace
DESCRIPTION:Solace is a calm\, structured space for quiet\, reflection and prayer. Each session lasts about 40 minutes\, which includes some time to settle into your space\, go through your day with God using an Examen prayer\, reflect on a poem and an exercise based around a short Bible reading. \nThere are two periods of 15 minute silence built into each session – you shouldn’t need to pause or anything else during the time (unless you feel you want more time for one of the sections). \nYou’ll need a candle to light (if you have one) and a Bible\, but nothing else – instructions for the exercises will be on the screen to help you\, but if you want to read through them or give them a go in advance\, they can be found on the church website: https://christchurchpettswood.org.uk/wp-content/uploads/2020/03/Audio-Solace-resource-sheet.pdf \nWatch it on YouTube or join us each Tuesday from 7.45\, for the latter a Zoom link will be emailed. \n 
URL:https://christchurchpettswood.org.uk/event/solace-4/
CATEGORIES:Church Events
ATTACH;FMTTYPE=image/png:https://christchurchpettswood.org.uk/wp-content/uploads/2020/03/Solace-2.png
END:VEVENT
BEGIN:VEVENT
DTSTART;TZID=Europe/London:20200706T200000
DTEND;TZID=Europe/London:20200706T210000
DTSTAMP:20260421T044925
CREATED:20200611T085745Z
LAST-MODIFIED:20200611T085745Z
UID:6090-1594065600-1594069200@christchurchpettswood.org.uk
SUMMARY:Book Club online - The Up-side down Bible
DESCRIPTION:On Monday 6th July from 8pm we will be discussing The Up-Side Down Bible – what Jesus really said about money\, sex and violence – by Symon Hill \nOnline or call in details will be circulated to members nearer the time\, new members very welcome – just contact us and we will let you know more details.
URL:https://christchurchpettswood.org.uk/event/book-club-online-the-up-side-down-bible/
CATEGORIES:Church Events
ATTACH;FMTTYPE=image/jpeg:https://christchurchpettswood.org.uk/wp-content/uploads/2020/06/upsidedownbible.jpg
END:VEVENT
BEGIN:VEVENT
DTSTART;TZID=Europe/London:20200705T103000
DTEND;TZID=Europe/London:20200705T111500
DTSTAMP:20260421T044925
CREATED:20200628T180300Z
LAST-MODIFIED:20200628T180300Z
UID:6126-1593945000-1593947700@christchurchpettswood.org.uk
SUMMARY:Sunday worship with Holy Communion
DESCRIPTION:Join us for Sunday worship with Holy Communion led by our Minister\, Rev Nadene Snyman. More details about how to join online to follow
URL:https://christchurchpettswood.org.uk/event/sunday-worship-with-holy-communion/
CATEGORIES:Church Events
ATTACH;FMTTYPE=image/jpeg:https://christchurchpettswood.org.uk/wp-content/uploads/2020/06/CommunionImage.jpg
END:VEVENT
BEGIN:VEVENT
DTSTART;TZID=Europe/London:20200703T103000
DTEND;TZID=Europe/London:20200703T120000
DTSTAMP:20260421T044925
CREATED:20200630T181610Z
LAST-MODIFIED:20200630T181610Z
UID:6128-1593772200-1593777600@christchurchpettswood.org.uk
SUMMARY:Coffee Stop via zoom
DESCRIPTION:Join us from 10.30am each Friday morning for Coffee Stop. Whilst we are not able to meet physically we will be meeting via Zoom. The link will be shared by email. If you know someone who does not have access to Zoom do let them know they can now dial in\, please contact us for more details.
URL:https://christchurchpettswood.org.uk/event/coffee-stop-via-zoom-7/
CATEGORIES:Church Events
ATTACH;FMTTYPE=image/jpeg:https://christchurchpettswood.org.uk/wp-content/uploads/2020/04/tyler-nix-j3FidswVdQk-unsplash-scaled.jpg
END:VEVENT
BEGIN:VEVENT
DTSTART;TZID=Europe/London:20200621T103000
DTEND;TZID=Europe/London:20200621T111500
DTSTAMP:20260421T044925
CREATED:20200616T174734Z
LAST-MODIFIED:20200616T175033Z
UID:6104-1592735400-1592738100@christchurchpettswood.org.uk
SUMMARY:Sunday Worship: Refugee week & Father's Day
DESCRIPTION:Please join us via Zoom (details available on request) for our family worship this coming Sunday at 10.30am on the theme of Refugee Sunday & Father’s Day. Please join Zoom from 10am.\nThe service will also be live streamed to YouTube. We look forward to welcoming you to our family worship.
URL:https://christchurchpettswood.org.uk/event/sunday-worship-refugee-week-fathers-day/
CATEGORIES:Church Events
ATTACH;FMTTYPE=image/png:https://christchurchpettswood.org.uk/wp-content/uploads/2020/06/Refugee-Week-Screen-shot.png
END:VEVENT
BEGIN:VEVENT
DTSTART;TZID=Europe/London:20200619T103000
DTEND;TZID=Europe/London:20200619T120000
DTSTAMP:20260421T044925
CREATED:20200608T170503Z
LAST-MODIFIED:20200608T170503Z
UID:6086-1592562600-1592568000@christchurchpettswood.org.uk
SUMMARY:Coffee Stop via Zoom
DESCRIPTION:Join us from 10.30am each Friday morning for Coffee Stop. Whilst we are not able to meet physically we will be meeting via Zoom. The link will be shared by email. If you know someone who does not have access to Zoom do let them know they can now dial in\, please contact us for more details.
URL:https://christchurchpettswood.org.uk/event/coffee-stop-via-zoom-6/
CATEGORIES:Church Events
ATTACH;FMTTYPE=image/jpeg:https://christchurchpettswood.org.uk/wp-content/uploads/2019/03/Coffee-and-cake-1920x1200.jpg
END:VEVENT
BEGIN:VEVENT
DTSTART;TZID=Europe/London:20200616T194500
DTEND;TZID=Europe/London:20200616T204500
DTSTAMP:20260421T044925
CREATED:20200604T195212Z
LAST-MODIFIED:20200604T195212Z
UID:6067-1592336700-1592340300@christchurchpettswood.org.uk
SUMMARY:Solace
DESCRIPTION:Every Tuesday @ 7:45pm on Zoom\, please join us for this meditative service. A link is emailed to the church membership and WhatsApp group\, if you have not received it and would like to take part please message on here or email sec@ccpw.org.uk  \nAudio Solace resource sheet
URL:https://christchurchpettswood.org.uk/event/solace-3/
CATEGORIES:Church Events
ATTACH;FMTTYPE=image/jpeg:https://christchurchpettswood.org.uk/wp-content/uploads/2020/03/Cover-art.jpg
END:VEVENT
BEGIN:VEVENT
DTSTART;TZID=Europe/London:20200614T103000
DTEND;TZID=Europe/London:20200614T111500
DTSTAMP:20260421T044925
CREATED:20200608T170245Z
LAST-MODIFIED:20200608T170245Z
UID:6084-1592130600-1592133300@christchurchpettswood.org.uk
SUMMARY:Sunday Worship
DESCRIPTION:Our Worship on Sunday 14th of June will be on the theme of A call to Action. We hope you can join us on Zoom or YouTube. We also have the option for people to dial in should they want to. Please message us if you need further details about accessing our services.
URL:https://christchurchpettswood.org.uk/event/sunday-worship-3/
CATEGORIES:Church Events
ATTACH;FMTTYPE=image/png:https://christchurchpettswood.org.uk/wp-content/uploads/2020/06/Advertising-for-14-June.png
END:VEVENT
BEGIN:VEVENT
DTSTART;TZID=Europe/London:20200612T103000
DTEND;TZID=Europe/London:20200612T120000
DTSTAMP:20260421T044925
CREATED:20200527T103903Z
LAST-MODIFIED:20200527T103903Z
UID:6046-1591957800-1591963200@christchurchpettswood.org.uk
SUMMARY:Coffee stop via Zoom
DESCRIPTION:Join us from 10.30am each Friday morning for Coffee Stop. Whilst we are not able to meet physically we will be meeting via Zoom. The link will be shared by email. If you know someone who does not have access to Zoom do let them know they can now dial in\, please contact us for more details.
URL:https://christchurchpettswood.org.uk/event/coffee-stop-via-zoom-5/
CATEGORIES:Church Events
ATTACH;FMTTYPE=image/jpeg:https://christchurchpettswood.org.uk/wp-content/uploads/2019/03/Coffee-and-cake-1920x1200.jpg
END:VEVENT
BEGIN:VEVENT
DTSTART;TZID=Europe/London:20200609T074500
DTEND;TZID=Europe/London:20200609T204500
DTSTAMP:20260421T044925
CREATED:20200604T195104Z
LAST-MODIFIED:20200604T195104Z
UID:6065-1591688700-1591735500@christchurchpettswood.org.uk
SUMMARY:Solace
DESCRIPTION:Every Tuesday @ 7:45pm on Zoom\, please join us for this meditative service. A link is emailed to the church membership and WhatsApp group\, if you have not received it and would like to take part please message on here or email sec@ccpw.org.uk  \nAudio Solace resource sheet
URL:https://christchurchpettswood.org.uk/event/solace-2/
CATEGORIES:Church Events
ATTACH;FMTTYPE=image/jpeg:https://christchurchpettswood.org.uk/wp-content/uploads/2020/03/Audio-Solace-2-mp3-image.jpg
END:VEVENT
BEGIN:VEVENT
DTSTART;TZID=Europe/London:20200607T103000
DTEND;TZID=Europe/London:20200607T113000
DTSTAMP:20260421T044925
CREATED:20200604T194243Z
LAST-MODIFIED:20200604T194243Z
UID:6062-1591525800-1591529400@christchurchpettswood.org.uk
SUMMARY:Combined Synod Service
DESCRIPTION:Christ Church Petts Wood will be joining the rest of the Southern Synod in a combined service. Live on Reigate Park Church YouTube Channel from 10.25. Our Minister will be leading the Prayers of Intercession. \n\n\n \n\n\nThe service will include Holy Communion. Please have some juice/wine and bread ready.
URL:https://christchurchpettswood.org.uk/event/combined-synod-service/
CATEGORIES:Church Events
ATTACH;FMTTYPE=image/jpeg:https://christchurchpettswood.org.uk/wp-content/uploads/2020/06/SynodLogo.jpg
END:VEVENT
BEGIN:VEVENT
DTSTART;TZID=Europe/London:20200605T103000
DTEND;TZID=Europe/London:20200605T120000
DTSTAMP:20260421T044925
CREATED:20200525T161807Z
LAST-MODIFIED:20200525T161807Z
UID:6033-1591353000-1591358400@christchurchpettswood.org.uk
SUMMARY:Coffee Stop (via Zoom)
DESCRIPTION:Join us from 10.30am each Friday morning for Coffee Stop. Whilst we are not able to meet physically we will be meeting via Zoom. The link will be shared by email. If you know someone who does not have access to Zoom do let them know they can now dial in\, please contact us for more details.
URL:https://christchurchpettswood.org.uk/event/coffee-stop-via-zoom-4/
CATEGORIES:Church Events
ATTACH;FMTTYPE=image/jpeg:https://christchurchpettswood.org.uk/wp-content/uploads/2019/03/Coffee-and-cake-1920x1200.jpg
END:VEVENT
BEGIN:VEVENT
DTSTART;TZID=Europe/London:20200601T200000
DTEND;TZID=Europe/London:20200601T210000
DTSTAMP:20260421T044925
CREATED:20200525T162504Z
LAST-MODIFIED:20200525T162504Z
UID:6035-1591041600-1591045200@christchurchpettswood.org.uk
SUMMARY:Book Club Online
DESCRIPTION:We will be discussing Falling Upward by Richard Rohr for bookclub. Please contact us if you are not on the bookclub emailing list where we will be sending the Zoom link
URL:https://christchurchpettswood.org.uk/event/book-club-online/
CATEGORIES:Children & Youth
ATTACH;FMTTYPE=image/jpeg:https://christchurchpettswood.org.uk/wp-content/uploads/2020/05/FallingUpward.jpg
END:VEVENT
BEGIN:VEVENT
DTSTART;TZID=Europe/London:20200531T103000
DTEND;TZID=Europe/London:20200531T111500
DTSTAMP:20260421T044925
CREATED:20200525T161615Z
LAST-MODIFIED:20200525T161615Z
UID:6031-1590921000-1590923700@christchurchpettswood.org.uk
SUMMARY:Sunday morning worship (via Zoom & YouTube)
DESCRIPTION:Our family service on Sunday 31st May at 10.30am will be on Zoom and the joining details will be sent on Sunday & the service will also be available live on our YouTube channel.\nWe look forward to you joining us for this service and are very grateful to Rev Ian Fosten & Martin Fosten for leading our worship this week
URL:https://christchurchpettswood.org.uk/event/sunday-morning-worship-via-zoom-youtube/
CATEGORIES:Church Events
ATTACH;FMTTYPE=image/png:https://christchurchpettswood.org.uk/wp-content/uploads/2020/03/TITLE-PAGE-logo.png
END:VEVENT
BEGIN:VEVENT
DTSTART;TZID=Europe/London:20200529T103000
DTEND;TZID=Europe/London:20200529T120000
DTSTAMP:20260421T044925
CREATED:20200519T212936Z
LAST-MODIFIED:20200519T212936Z
UID:6002-1590748200-1590753600@christchurchpettswood.org.uk
SUMMARY:Coffee Stop - 29 May
DESCRIPTION:Join us from 10.30am each Friday morning for Coffee Stop. Whilst we are not able to meet physically we will be meeting via Zoom. The link will be shared by email. If you know someone who does not have access to Zoom do let them know they can now dial in\, please contact us for more details
URL:https://christchurchpettswood.org.uk/event/coffee-stop-29-may/
CATEGORIES:Church Events
ATTACH;FMTTYPE=image/jpeg:https://christchurchpettswood.org.uk/wp-content/uploads/2020/04/tyler-nix-j3FidswVdQk-unsplash-scaled.jpg
END:VEVENT
END:VCALENDAR