BEGIN:VCALENDAR
VERSION:2.0
PRODID:-//Christ Church United Reformed Church, Petts Wood - ECPv6.15.20//NONSGML v1.0//EN
CALSCALE:GREGORIAN
METHOD:PUBLISH
X-WR-CALNAME:Christ Church United Reformed Church, Petts Wood
X-ORIGINAL-URL:https://christchurchpettswood.org.uk
X-WR-CALDESC:Events for Christ Church United Reformed Church, Petts Wood
REFRESH-INTERVAL;VALUE=DURATION:PT1H
X-Robots-Tag:noindex
X-PUBLISHED-TTL:PT1H
BEGIN:VTIMEZONE
TZID:Europe/London
BEGIN:DAYLIGHT
TZOFFSETFROM:+0000
TZOFFSETTO:+0100
TZNAME:BST
DTSTART:20170326T010000
END:DAYLIGHT
BEGIN:STANDARD
TZOFFSETFROM:+0100
TZOFFSETTO:+0000
TZNAME:GMT
DTSTART:20171029T010000
END:STANDARD
BEGIN:DAYLIGHT
TZOFFSETFROM:+0000
TZOFFSETTO:+0100
TZNAME:BST
DTSTART:20180325T010000
END:DAYLIGHT
BEGIN:STANDARD
TZOFFSETFROM:+0100
TZOFFSETTO:+0000
TZNAME:GMT
DTSTART:20181028T010000
END:STANDARD
BEGIN:DAYLIGHT
TZOFFSETFROM:+0000
TZOFFSETTO:+0100
TZNAME:BST
DTSTART:20190331T010000
END:DAYLIGHT
BEGIN:STANDARD
TZOFFSETFROM:+0100
TZOFFSETTO:+0000
TZNAME:GMT
DTSTART:20191027T010000
END:STANDARD
END:VTIMEZONE
BEGIN:VEVENT
DTSTART;TZID=Europe/London:20181209T103000
DTEND;TZID=Europe/London:20181209T113000
DTSTAMP:20260425T203900
CREATED:20181202T141216Z
LAST-MODIFIED:20181202T141438Z
UID:4623-1544351400-1544355000@christchurchpettswood.org.uk
SUMMARY:Carol service and Family Worship
DESCRIPTION:Join us for the second Sunday in Advent for this Family Worship led by our Choir. An opportunity to sing lots of Christmas favourite hymns and carols. Join us also for refreshments after the service
URL:https://christchurchpettswood.org.uk/event/carol-service-and-family-worship/
LOCATION:Christ Church Petts Wood\, Tudor Way\, Orpington\, BR5 1LH\, United Kingdom
CATEGORIES:Church Events
ATTACH;FMTTYPE=image/jpeg:https://christchurchpettswood.org.uk/wp-content/uploads/2018/06/DSC03146-2.jpg
END:VEVENT
BEGIN:VEVENT
DTSTART;TZID=Europe/London:20180708T101500
DTEND;TZID=Europe/London:20180708T130000
DTSTAMP:20260425T203900
CREATED:20180625T191414Z
LAST-MODIFIED:20180625T191431Z
UID:4493-1531044900-1531054800@christchurchpettswood.org.uk
SUMMARY:Messy Church Service & Church BBQ
DESCRIPTION:Please join us on Sunday 8th July from 10.15am for our Messy Church service on the theme of ‘The Great Banquet’!\nThis service will be followed by our annual Church BBQ.
URL:https://christchurchpettswood.org.uk/event/messy-church-service-church-bbq/
LOCATION:Christ Church Petts Wood\, Tudor Way\, Orpington\, BR5 1LH\, United Kingdom
END:VEVENT
END:VCALENDAR