BEGIN:VCALENDAR
VERSION:2.0
PRODID:-//Christ Church United Reformed Church, Petts Wood - ECPv6.15.20//NONSGML v1.0//EN
CALSCALE:GREGORIAN
METHOD:PUBLISH
X-WR-CALNAME:Christ Church United Reformed Church, Petts Wood
X-ORIGINAL-URL:https://christchurchpettswood.org.uk
X-WR-CALDESC:Events for Christ Church United Reformed Church, Petts Wood
REFRESH-INTERVAL;VALUE=DURATION:PT1H
X-Robots-Tag:noindex
X-PUBLISHED-TTL:PT1H
BEGIN:VTIMEZONE
TZID:Europe/London
BEGIN:DAYLIGHT
TZOFFSETFROM:+0000
TZOFFSETTO:+0100
TZNAME:BST
DTSTART:20180325T010000
END:DAYLIGHT
BEGIN:STANDARD
TZOFFSETFROM:+0100
TZOFFSETTO:+0000
TZNAME:GMT
DTSTART:20181028T010000
END:STANDARD
BEGIN:DAYLIGHT
TZOFFSETFROM:+0000
TZOFFSETTO:+0100
TZNAME:BST
DTSTART:20190331T010000
END:DAYLIGHT
BEGIN:STANDARD
TZOFFSETFROM:+0100
TZOFFSETTO:+0000
TZNAME:GMT
DTSTART:20191027T010000
END:STANDARD
BEGIN:DAYLIGHT
TZOFFSETFROM:+0000
TZOFFSETTO:+0100
TZNAME:BST
DTSTART:20200329T010000
END:DAYLIGHT
BEGIN:STANDARD
TZOFFSETFROM:+0100
TZOFFSETTO:+0000
TZNAME:GMT
DTSTART:20201025T010000
END:STANDARD
END:VTIMEZONE
BEGIN:VEVENT
DTSTART;TZID=Europe/London:20190623T160000
DTEND;TZID=Europe/London:20190623T180000
DTSTAMP:20260425T161814
CREATED:20190527T191626Z
LAST-MODIFIED:20190527T191626Z
UID:5042-1561305600-1561312800@christchurchpettswood.org.uk
SUMMARY:Messy Salt & Light
DESCRIPTION:Our Theme for Messy Church on Sunday 23rd June is Salt & Light. Lots of craft activities\, worship and a party-style tea. Hope to see you there!
URL:https://christchurchpettswood.org.uk/event/messy-salt-light/
LOCATION:Christ Church Petts Wood\, Tudor Way\, Orpington\, BR5 1LH\, United Kingdom
CATEGORIES:Church Events
ATTACH;FMTTYPE=image/jpeg:https://christchurchpettswood.org.uk/wp-content/uploads/2019/05/MessySaltnLight.jpg
END:VEVENT
BEGIN:VEVENT
DTSTART;TZID=Europe/London:20190623T103000
DTEND;TZID=Europe/London:20190623T113000
DTSTAMP:20260425T161814
CREATED:20190617T190337Z
LAST-MODIFIED:20190617T190337Z
UID:5060-1561285800-1561289400@christchurchpettswood.org.uk
SUMMARY:Sunday Family Worship
DESCRIPTION:Our service on Sunday 23rd June is being led by Mr Nigel MacDonald. We warmly invite you to this worship. Stay on after the service for refreshments and friendship.
URL:https://christchurchpettswood.org.uk/event/sunday-family-worship-6/
LOCATION:Christ Church Petts Wood\, Tudor Way\, Orpington\, BR5 1LH\, United Kingdom
CATEGORIES:Church Events
ATTACH;FMTTYPE=image/jpeg:https://christchurchpettswood.org.uk/wp-content/uploads/2019/03/Church.jpg
END:VEVENT
BEGIN:VEVENT
DTSTART;TZID=Europe/London:20190616T160000
DTEND;TZID=Europe/London:20190616T180000
DTSTAMP:20260425T161814
CREATED:20190603T173128Z
LAST-MODIFIED:20190603T174324Z
UID:5049-1560700800-1560708000@christchurchpettswood.org.uk
SUMMARY:Bromley Symphony Orchestra - The Final Centenary Concert
DESCRIPTION:
URL:https://christchurchpettswood.org.uk/event/bromley-symphony-orchestra-the-final-centenary-concert/
LOCATION:Christ Church Petts Wood\, Tudor Way\, Orpington\, BR5 1LH\, United Kingdom
CATEGORIES:Church Events
END:VEVENT
BEGIN:VEVENT
DTSTART;TZID=Europe/London:20190609T103000
DTEND;TZID=Europe/London:20190609T113000
DTSTAMP:20260425T161814
CREATED:20190513T212435Z
LAST-MODIFIED:20190513T212435Z
UID:5039-1560076200-1560079800@christchurchpettswood.org.uk
SUMMARY:Parade service
DESCRIPTION:This Parade service is led by the Brownies and our Minister Revd Nadene Snyman. The children will be staying in for this service but the very little ones are welcome go to out to our creche and beginners class. Refreshments will be served after the service. All welcome.
URL:https://christchurchpettswood.org.uk/event/parade-service-2/
LOCATION:Christ Church Petts Wood\, Tudor Way\, Orpington\, BR5 1LH\, United Kingdom
CATEGORIES:Church Events
ATTACH;FMTTYPE=image/jpeg:https://christchurchpettswood.org.uk/wp-content/uploads/2019/05/brownie_logo.jpg
END:VEVENT
BEGIN:VEVENT
DTSTART;TZID=Europe/London:20190608T170000
DTEND;TZID=Europe/London:20190608T190000
DTSTAMP:20260425T161814
CREATED:20190513T211459Z
LAST-MODIFIED:20190513T211459Z
UID:5037-1560013200-1560020400@christchurchpettswood.org.uk
SUMMARY:Welcome to the future
DESCRIPTION:HOTDOGS to be SERVED\nThis is an opportunity for all the families who attend Christ Church URC (in all our Children and Youth ministries ) to plan for the future. More detail here
URL:https://christchurchpettswood.org.uk/event/welcome-to-the-future/
LOCATION:Christ Church Petts Wood\, Tudor Way\, Orpington\, BR5 1LH\, United Kingdom
CATEGORIES:Church Events
ATTACH;FMTTYPE=image/jpeg:https://christchurchpettswood.org.uk/wp-content/uploads/2019/03/Welcome-to-the-Future.jpg
END:VEVENT
BEGIN:VEVENT
DTSTART;TZID=Europe/London:20190606T140000
DTEND;TZID=Europe/London:20190606T153000
DTSTAMP:20260425T161814
CREATED:20190413T142716Z
LAST-MODIFIED:20190413T142716Z
UID:4955-1559829600-1559835000@christchurchpettswood.org.uk
SUMMARY:Daytime book club
DESCRIPTION:We will be discussing We don’t do God by Carey and Carey where the former Archbishop and his son ponder the problems faced by Christians in a secular society. Location will be published in Notes & News\, or message us for further details.
URL:https://christchurchpettswood.org.uk/event/daytime-book-club-3/
CATEGORIES:Church Events
ATTACH;FMTTYPE=image/jpeg:https://christchurchpettswood.org.uk/wp-content/uploads/2019/04/Carey.jpg
END:VEVENT
BEGIN:VEVENT
DTSTART;TZID=Europe/London:20190603T200000
DTEND;TZID=Europe/London:20190603T213000
DTSTAMP:20260425T161814
CREATED:20190413T142820Z
LAST-MODIFIED:20190413T142820Z
UID:4958-1559592000-1559597400@christchurchpettswood.org.uk
SUMMARY:Evening book club
DESCRIPTION:We will be discussing We don’t do God by Carey and Carey where the former Archbishop and his son ponder the problems faced by Christians in a secular society. Location will be published in Notes & News\, or message us for further details.
URL:https://christchurchpettswood.org.uk/event/evening-book-club-2/
CATEGORIES:Church Events
ATTACH;FMTTYPE=image/jpeg:https://christchurchpettswood.org.uk/wp-content/uploads/2019/04/Carey.jpg
END:VEVENT
BEGIN:VEVENT
DTSTART;TZID=Europe/London:20190602T103000
DTEND;TZID=Europe/London:20190602T113000
DTSTAMP:20260425T161814
CREATED:20190513T211028Z
LAST-MODIFIED:20190513T211028Z
UID:5035-1559471400-1559475000@christchurchpettswood.org.uk
SUMMARY:Family worship with Holy Communion
DESCRIPTION:Our service on Sunday 2nd of June is being led by our Minister\, Revd Nadene Snyman. The children are welcome to join in with our arts and crafts activities in the second part of the service. All ages welcome!
URL:https://christchurchpettswood.org.uk/event/family-worship-with-holy-communion-4/
LOCATION:Christ Church Petts Wood\, Tudor Way\, Orpington\, BR5 1LH\, United Kingdom
CATEGORIES:Church Events
ATTACH;FMTTYPE=image/jpeg:https://christchurchpettswood.org.uk/wp-content/uploads/2019/04/cup-and-cross.jpg
END:VEVENT
BEGIN:VEVENT
DTSTART;TZID=Europe/London:20190526T103000
DTEND;TZID=Europe/London:20190526T113000
DTSTAMP:20260425T161814
CREATED:20190429T205703Z
LAST-MODIFIED:20190429T205703Z
UID:4994-1558866600-1558870200@christchurchpettswood.org.uk
SUMMARY:Family Worship
DESCRIPTION:Our worship this Sunday is being led by Mr Martin Leonard. All welcome.
URL:https://christchurchpettswood.org.uk/event/family-worship/
CATEGORIES:Church Events
ATTACH;FMTTYPE=image/jpeg:https://christchurchpettswood.org.uk/wp-content/uploads/2018/06/DSC03146-2.jpg
END:VEVENT
BEGIN:VEVENT
DTSTART;TZID=Europe/London:20190525T103000
DTEND;TZID=Europe/London:20190525T120000
DTSTAMP:20260425T161814
CREATED:20190429T205302Z
LAST-MODIFIED:20190429T205302Z
UID:4991-1558780200-1558785600@christchurchpettswood.org.uk
SUMMARY:Mar-Val-Us Tea
DESCRIPTION:Join Mary and Val for tea\, cakes and friendship. All welcome! In the lounge.
URL:https://christchurchpettswood.org.uk/event/mar-val-us-tea/
LOCATION:Christ Church Petts Wood\, Tudor Way\, Orpington\, BR5 1LH\, United Kingdom
CATEGORIES:Church Events
ATTACH;FMTTYPE=image/jpeg:https://christchurchpettswood.org.uk/wp-content/uploads/2019/04/tea.jpg
END:VEVENT
BEGIN:VEVENT
DTSTART;TZID=Europe/London:20190519T103000
DTEND;TZID=Europe/London:20190519T113000
DTSTAMP:20260425T161814
CREATED:20190513T210334Z
LAST-MODIFIED:20190513T210334Z
UID:5032-1558261800-1558265400@christchurchpettswood.org.uk
SUMMARY:Sunday Family Worship
DESCRIPTION:Our Family Worship on Sunday 19th May at 10.30am is being led by our Minister\, the Rev Nadene Snyman. Everyone is welcome!
URL:https://christchurchpettswood.org.uk/event/sunday-family-worship-5/
LOCATION:Christ Church Petts Wood\, Tudor Way\, Orpington\, BR5 1LH\, United Kingdom
CATEGORIES:Church Events
ATTACH;FMTTYPE=image/jpeg:https://christchurchpettswood.org.uk/wp-content/uploads/2017/08/DSC03146.jpg
END:VEVENT
BEGIN:VEVENT
DTSTART;TZID=Europe/London:20190518T110000
DTEND;TZID=Europe/London:20190518T150000
DTSTAMP:20260425T161814
CREATED:20190327T205726Z
LAST-MODIFIED:20190327T210114Z
UID:4886-1558177200-1558191600@christchurchpettswood.org.uk
SUMMARY:Christ Church Bonanza
DESCRIPTION:Just a reminder about our Bonanza on Saturday 18th May at 11am! A great day is planned including performances by Breathe Street Dance & The London Concert Chorus\, as well as plenty of stalls and refreshments! We look forward to seeing you there!
URL:https://christchurchpettswood.org.uk/event/bonanza/
LOCATION:Christ Church Petts Wood\, Tudor Way\, Orpington\, BR5 1LH\, United Kingdom
CATEGORIES:Church Events
ATTACH;FMTTYPE=image/jpeg:https://christchurchpettswood.org.uk/wp-content/uploads/2019/03/Bonanza.jpg
END:VEVENT
BEGIN:VEVENT
DTSTART;TZID=Europe/London:20190517T103000
DTEND;TZID=Europe/London:20190517T113000
DTSTAMP:20260425T161814
CREATED:20190429T202906Z
LAST-MODIFIED:20190429T203419Z
UID:4986-1558089000-1558092600@christchurchpettswood.org.uk
SUMMARY:Christian Aid Big Brekkie
DESCRIPTION:Join us for bacon rolls\, serenaded by music – to raise money for Christian Aid.
URL:https://christchurchpettswood.org.uk/event/christian-aid-big-brekkie/
LOCATION:Christ Church Petts Wood\, Tudor Way\, Orpington\, BR5 1LH\, United Kingdom
CATEGORIES:Church Events
ATTACH;FMTTYPE=image/png:https://christchurchpettswood.org.uk/wp-content/uploads/2019/04/caweek18_big_brekkie_logo.png
END:VEVENT
BEGIN:VEVENT
DTSTART;TZID=Europe/London:20190513T200000
DTEND;TZID=Europe/London:20190513T213000
DTSTAMP:20260425T161814
CREATED:20190402T201835Z
LAST-MODIFIED:20190402T202245Z
UID:4932-1557777600-1557783000@christchurchpettswood.org.uk
SUMMARY:Evening Book Club - 13th May
DESCRIPTION:Join the book club to discuss Rob Bell’s What is the Bible? This is held in the home of one of our members and the address will be published in Notes & News. Alternatively message us here for more details. If you can’t make this date\, why not try our daytime book club?
URL:https://christchurchpettswood.org.uk/event/evening-book-club-13th-may/
CATEGORIES:Church Events
ATTACH;FMTTYPE=image/png:https://christchurchpettswood.org.uk/wp-content/uploads/2019/04/WhatIsBible-RobBell-feature.png
END:VEVENT
BEGIN:VEVENT
DTSTART;TZID=Europe/London:20190513T143000
DTEND;TZID=Europe/London:20190513T160000
DTSTAMP:20260425T161814
CREATED:20190429T202258Z
LAST-MODIFIED:20190429T202258Z
UID:4984-1557757800-1557763200@christchurchpettswood.org.uk
SUMMARY:Pastoral Care working Group
DESCRIPTION:The Pastoral care Working Group meet
URL:https://christchurchpettswood.org.uk/event/pastoral-care-working-group/
CATEGORIES:Church Events
ATTACH;FMTTYPE=image/png:https://christchurchpettswood.org.uk/wp-content/uploads/2019/04/Elders.png
END:VEVENT
BEGIN:VEVENT
DTSTART;TZID=Europe/London:20190512T103000
DTEND;TZID=Europe/London:20190512T113000
DTSTAMP:20260425T161814
CREATED:20190429T201148Z
LAST-MODIFIED:20190429T201148Z
UID:4982-1557657000-1557660600@christchurchpettswood.org.uk
SUMMARY:Family Worship - Christian aid week
DESCRIPTION:Join us for this service led by Mrs Kerry McMenamin on the theme of Christian Aid. Refreshments will be served after the service.
URL:https://christchurchpettswood.org.uk/event/family-worship-christian-aid-week/
LOCATION:Christ Church Petts Wood\, Tudor Way\, Orpington\, BR5 1LH\, United Kingdom
CATEGORIES:Church Events
ATTACH;FMTTYPE=image/jpeg:https://christchurchpettswood.org.uk/wp-content/uploads/2014/12/CHRISTIAN_AID_LOGO_red.jpg
END:VEVENT
BEGIN:VEVENT
DTSTART;TZID=Europe/London:20190505T103000
DTEND;TZID=Europe/London:20190505T113000
DTSTAMP:20260425T161814
CREATED:20190429T195325Z
LAST-MODIFIED:20190429T195325Z
UID:4980-1557052200-1557055800@christchurchpettswood.org.uk
SUMMARY:Family Worship with Holy Communion
DESCRIPTION:Join us for worship and Holy Communion led by our Minister Revd Nadene Snyman. Refreshments will be served after the service.
URL:https://christchurchpettswood.org.uk/event/family-worship-with-holy-communion-3/
LOCATION:Christ Church Petts Wood\, Tudor Way\, Orpington\, BR5 1LH\, United Kingdom
CATEGORIES:Church Events
ATTACH;FMTTYPE=image/jpeg:https://christchurchpettswood.org.uk/wp-content/uploads/2017/08/DSC03149.jpg
END:VEVENT
BEGIN:VEVENT
DTSTART;TZID=Europe/London:20190502T140000
DTEND;TZID=Europe/London:20190502T153000
DTSTAMP:20260425T161814
CREATED:20190402T202128Z
LAST-MODIFIED:20190402T202224Z
UID:4935-1556805600-1556811000@christchurchpettswood.org.uk
SUMMARY:Daytime book club - 2nd May
DESCRIPTION:Join the book club to discuss Rob Bell’s What is the Bible? This is held in the home of one of our members and the address will be published in Notes & News. Alternatively message us here for more details. If you can’t make this date\, why not try our evening book club?
URL:https://christchurchpettswood.org.uk/event/daytime-book-club-2/
CATEGORIES:Church Events
ATTACH;FMTTYPE=image/png:https://christchurchpettswood.org.uk/wp-content/uploads/2019/04/WhatIsBible-RobBell-feature.png
END:VEVENT
BEGIN:VEVENT
DTSTART;TZID=Europe/London:20190501T200000
DTEND;TZID=Europe/London:20190501T220000
DTSTAMP:20260425T161814
CREATED:20190429T195033Z
LAST-MODIFIED:20190429T195033Z
UID:4977-1556740800-1556748000@christchurchpettswood.org.uk
SUMMARY:Elders meeting
DESCRIPTION:Meeting in the Carter Room – agenda has been circulated.
URL:https://christchurchpettswood.org.uk/event/elders-meeting/
LOCATION:Christ Church Petts Wood\, Tudor Way\, Orpington\, BR5 1LH\, United Kingdom
CATEGORIES:Church Events
ATTACH;FMTTYPE=image/png:https://christchurchpettswood.org.uk/wp-content/uploads/2019/04/Elders.png
END:VEVENT
BEGIN:VEVENT
DTSTART;TZID=Europe/London:20190428T160000
DTEND;TZID=Europe/London:20190428T180000
DTSTAMP:20260425T161814
CREATED:20190327T205333Z
LAST-MODIFIED:20190327T205333Z
UID:4883-1556467200-1556474400@christchurchpettswood.org.uk
SUMMARY:Messy Happy Birthday
DESCRIPTION:Our Messy Church  on Sunday 28th April  is from 4-6pm and our theme is ‘Happy Birthday Christ Church Petts Wood’ as we mark the Church’s 80th Birthday. We look forward to you joining us for this special occasion!
URL:https://christchurchpettswood.org.uk/event/messy-happy-birthday/
LOCATION:Christ Church Petts Wood\, Tudor Way\, Orpington\, BR5 1LH\, United Kingdom
CATEGORIES:Church Events
ATTACH;FMTTYPE=image/jpeg:https://christchurchpettswood.org.uk/wp-content/uploads/2019/03/Messy80.jpg
END:VEVENT
BEGIN:VEVENT
DTSTART;TZID=Europe/London:20190428T103000
DTEND;TZID=Europe/London:20190428T113000
DTSTAMP:20260425T161814
CREATED:20190423T192607Z
LAST-MODIFIED:20190423T192607Z
UID:4966-1556447400-1556451000@christchurchpettswood.org.uk
SUMMARY:Christ Church is 80 - family service
DESCRIPTION:Join us for this special service to celebrate Christ Church’s 80th birthday. Led by our Minister the Revd Nadene Snyman. Refreshments will be served after the service.
URL:https://christchurchpettswood.org.uk/event/christ-church-is-80-family-service/
LOCATION:Christ Church Petts Wood\, Tudor Way\, Orpington\, BR5 1LH\, United Kingdom
CATEGORIES:Church Events
ATTACH;FMTTYPE=image/png:https://christchurchpettswood.org.uk/wp-content/uploads/2019/04/80th.png
END:VEVENT
BEGIN:VEVENT
DTSTART;TZID=Europe/London:20190421T091500
DTEND;TZID=Europe/London:20190421T101500
DTSTAMP:20260425T161814
CREATED:20190402T193640Z
LAST-MODIFIED:20190402T193640Z
UID:4922-1555838100-1555841700@christchurchpettswood.org.uk
SUMMARY:Easter Breakfast
DESCRIPTION:Our Easter Breakfast will take place on Easter Sunday (21st April) at 9.15am. Tickets available from our fellowship and hospitality group.
URL:https://christchurchpettswood.org.uk/event/easter-breakfast/
LOCATION:Christ Church Petts Wood\, Tudor Way\, Orpington\, BR5 1LH\, United Kingdom
CATEGORIES:Church Events
ATTACH;FMTTYPE=image/jpeg:https://christchurchpettswood.org.uk/wp-content/uploads/2019/04/Easter-Breakfast.jpg
END:VEVENT
BEGIN:VEVENT
DTSTART;TZID=Europe/London:20190418T193000
DTEND;TZID=Europe/London:20190418T203000
DTSTAMP:20260425T161814
CREATED:20190327T211007Z
LAST-MODIFIED:20190327T211007Z
UID:4890-1555615800-1555619400@christchurchpettswood.org.uk
SUMMARY:Maundy Thursday service
DESCRIPTION:Join us for a Maundy Thursday service from 7.30pm
URL:https://christchurchpettswood.org.uk/event/maundy-thursday-service/
LOCATION:Christ Church Petts Wood\, Tudor Way\, Orpington\, BR5 1LH\, United Kingdom
CATEGORIES:Church Events
ATTACH;FMTTYPE=image/png:https://christchurchpettswood.org.uk/wp-content/uploads/2019/03/MAUNDYTHURSDAY-640x643.png
END:VEVENT
BEGIN:VEVENT
DTSTART;TZID=Europe/London:20190414T103000
DTEND;TZID=Europe/London:20190414T113000
DTSTAMP:20260425T161814
CREATED:20190402T195003Z
LAST-MODIFIED:20190402T195003Z
UID:4928-1555237800-1555241400@christchurchpettswood.org.uk
SUMMARY:Palm Sunday
DESCRIPTION:Our Family Worship for Palm Sunday 14th April at 10.30am is being led by Our Minister\, the Rev Nadene Snyman. Everyone is welcome!
URL:https://christchurchpettswood.org.uk/event/palm-sunday/
LOCATION:Christ Church Petts Wood\, Tudor Way\, Orpington\, BR5 1LH\, United Kingdom
CATEGORIES:Church Events
ATTACH;FMTTYPE=image/jpeg:https://christchurchpettswood.org.uk/wp-content/uploads/2019/04/Palm-Sunday.jpg
END:VEVENT
BEGIN:VEVENT
DTSTART;TZID=Europe/London:20190407T160000
DTEND;TZID=Europe/London:20190407T180000
DTSTAMP:20260425T161814
CREATED:20190326T133305Z
LAST-MODIFIED:20190402T201351Z
UID:4838-1554652800-1554660000@christchurchpettswood.org.uk
SUMMARY:Bromley Symphony String Soloists
DESCRIPTION:BSO strings
URL:https://christchurchpettswood.org.uk/event/bromley-symphony-string-soloists/
LOCATION:Christ Church Petts Wood\, Tudor Way\, Orpington\, BR5 1LH\, United Kingdom
CATEGORIES:Church Events
ATTACH;FMTTYPE=image/jpeg:https://christchurchpettswood.org.uk/wp-content/uploads/2019/03/music.jpg
END:VEVENT
BEGIN:VEVENT
DTSTART;TZID=Europe/London:20190407T103000
DTEND;TZID=Europe/London:20190407T113000
DTSTAMP:20260425T161814
CREATED:20190402T192917Z
LAST-MODIFIED:20190402T192917Z
UID:4919-1554633000-1554636600@christchurchpettswood.org.uk
SUMMARY:Family Worship with Holy Communion
DESCRIPTION:Our Family Worship and Communion on Sunday 7th April at 10.30am is being led by Our Minister\, the Rev Nadene Snyman. Everyone is welcome!
URL:https://christchurchpettswood.org.uk/event/family-worship-with-holy-communion-2/
LOCATION:Christ Church Petts Wood\, Tudor Way\, Orpington\, BR5 1LH\, United Kingdom
CATEGORIES:Church Events
ATTACH;FMTTYPE=image/jpeg:https://christchurchpettswood.org.uk/wp-content/uploads/2019/04/cup-and-cross.jpg
END:VEVENT
BEGIN:VEVENT
DTSTART;TZID=Europe/London:20190404T140000
DTEND;TZID=Europe/London:20190404T153000
DTSTAMP:20260425T161814
CREATED:20190309T173048Z
LAST-MODIFIED:20190309T173331Z
UID:4799-1554386400-1554391800@christchurchpettswood.org.uk
SUMMARY:Daytime book club
DESCRIPTION:We will be discussing Eleanor Oliphant is completely fine by Gail Honeyman for the April book club. Join us in Borkwood Way (exact address as per Notes & News) on Thursday 4th April from 2pm for our daytime bookclub\, if this date and time do not work for you\, try our evening book club that meets on a Monday.
URL:https://christchurchpettswood.org.uk/event/daytime-book-club/
CATEGORIES:Church Events
ATTACH;FMTTYPE=image/jpeg:https://christchurchpettswood.org.uk/wp-content/uploads/2019/03/Oliphant.jpg
END:VEVENT
BEGIN:VEVENT
DTSTART;TZID=Europe/London:20190401T200000
DTEND;TZID=Europe/London:20190401T213000
DTSTAMP:20260425T161814
CREATED:20190309T172848Z
LAST-MODIFIED:20190309T172848Z
UID:4795-1554148800-1554154200@christchurchpettswood.org.uk
SUMMARY:Evening book club
DESCRIPTION:We will be discussing Eleanor Oliphant is completely fine by Gail Honeyman for the April book club. Join us at 13 Fieldway\, Petts Wood\, Kent. BR5 1JP from 8pm on Monday 1st April for our evening bookclub\, if this date and time do not work for you\, try our daytime book club that meets on a Thursday.
URL:https://christchurchpettswood.org.uk/event/evening-book-club/
LOCATION:United Kingdom
CATEGORIES:Church Events
ATTACH;FMTTYPE=image/jpeg:https://christchurchpettswood.org.uk/wp-content/uploads/2019/03/Oliphant.jpg
END:VEVENT
BEGIN:VEVENT
DTSTART;TZID=Europe/London:20190331T103000
DTEND;TZID=Europe/London:20190331T113000
DTSTAMP:20260425T161814
CREATED:20190327T202237Z
LAST-MODIFIED:20190327T202237Z
UID:4880-1554028200-1554031800@christchurchpettswood.org.uk
SUMMARY:Mothering Sunday Worship
DESCRIPTION:Join us for worship\, led by our Minister. All ages welcome. Refreshments will be served after the service.
URL:https://christchurchpettswood.org.uk/event/mothering-sunday-worship/
LOCATION:Christ Church Petts Wood\, Tudor Way\, Orpington\, BR5 1LH\, United Kingdom
CATEGORIES:Church Events
ATTACH;FMTTYPE=image/jpeg:https://christchurchpettswood.org.uk/wp-content/uploads/2019/03/motheringSunday.jpg
END:VEVENT
BEGIN:VEVENT
DTSTART;TZID=Europe/London:20190324T160000
DTEND;TZID=Europe/London:20190324T180000
DTSTAMP:20260425T161814
CREATED:20190302T161043Z
LAST-MODIFIED:20190302T161043Z
UID:4776-1553443200-1553450400@christchurchpettswood.org.uk
SUMMARY:Messy Spring - New Life in Jesus
DESCRIPTION:Join us on 24th March for a Spring themed Messy Church. As we look around us and see new life bloom\, we can also think about the new life that Jesus offers us. Come and join us for a hall full of varied crafts\, a worship session\, topped off with a party-style tea.
URL:https://christchurchpettswood.org.uk/event/messy-spring-new-life-in-jesus/
LOCATION:Christ Church Petts Wood\, Tudor Way\, Orpington\, BR5 1LH\, United Kingdom
CATEGORIES:Church Events
ATTACH;FMTTYPE=image/jpeg:https://christchurchpettswood.org.uk/wp-content/uploads/2019/03/MessySpring.jpg
END:VEVENT
END:VCALENDAR