BEGIN:VCALENDAR
VERSION:2.0
PRODID:-//Christ Church United Reformed Church, Petts Wood - ECPv6.15.20//NONSGML v1.0//EN
CALSCALE:GREGORIAN
METHOD:PUBLISH
X-WR-CALNAME:Christ Church United Reformed Church, Petts Wood
X-ORIGINAL-URL:https://christchurchpettswood.org.uk
X-WR-CALDESC:Events for Christ Church United Reformed Church, Petts Wood
REFRESH-INTERVAL;VALUE=DURATION:PT1H
X-Robots-Tag:noindex
X-PUBLISHED-TTL:PT1H
BEGIN:VTIMEZONE
TZID:Europe/London
BEGIN:DAYLIGHT
TZOFFSETFROM:+0000
TZOFFSETTO:+0100
TZNAME:BST
DTSTART:20190331T010000
END:DAYLIGHT
BEGIN:STANDARD
TZOFFSETFROM:+0100
TZOFFSETTO:+0000
TZNAME:GMT
DTSTART:20191027T010000
END:STANDARD
BEGIN:DAYLIGHT
TZOFFSETFROM:+0000
TZOFFSETTO:+0100
TZNAME:BST
DTSTART:20200329T010000
END:DAYLIGHT
BEGIN:STANDARD
TZOFFSETFROM:+0100
TZOFFSETTO:+0000
TZNAME:GMT
DTSTART:20201025T010000
END:STANDARD
BEGIN:DAYLIGHT
TZOFFSETFROM:+0000
TZOFFSETTO:+0100
TZNAME:BST
DTSTART:20210328T010000
END:DAYLIGHT
BEGIN:STANDARD
TZOFFSETFROM:+0100
TZOFFSETTO:+0000
TZNAME:GMT
DTSTART:20211031T010000
END:STANDARD
BEGIN:DAYLIGHT
TZOFFSETFROM:+0000
TZOFFSETTO:+0100
TZNAME:BST
DTSTART:20220327T010000
END:DAYLIGHT
BEGIN:STANDARD
TZOFFSETFROM:+0100
TZOFFSETTO:+0000
TZNAME:GMT
DTSTART:20221030T010000
END:STANDARD
END:VTIMEZONE
BEGIN:VEVENT
DTSTART;TZID=Europe/London:20210307T103000
DTEND;TZID=Europe/London:20210307T111500
DTSTAMP:20260421T001644
CREATED:20210303T093547Z
LAST-MODIFIED:20220922T200430Z
UID:7822-1615113000-1615115700@christchurchpettswood.org.uk
SUMMARY:Sunday Family Worship
DESCRIPTION:Please join us via Zoom (please message or email welcome@ccpw.org.uk for the link if you don’t receive the emails) or via our You Tube channel: https://youtu.be/1x2FbWhP2rE for our family worship and Communion this Sunday 7th March.\nIf you haven’t already subscribed to our YouTube channel please do so to receive updates!
URL:https://christchurchpettswood.org.uk/event/sunday-family-worship-20/
CATEGORIES:Church Events
END:VEVENT
BEGIN:VEVENT
DTSTART;TZID=Europe/London:20210304T193000
DTEND;TZID=Europe/London:20210304T210000
DTSTAMP:20260421T001644
CREATED:20210203T211359Z
LAST-MODIFIED:20210203T211359Z
UID:6977-1614886200-1614891600@christchurchpettswood.org.uk
SUMMARY:Lent course - week 2
DESCRIPTION:A five-week Lent Course based on the\n1991 film version of ‘Hook’\non ZOOM every Thursday\n25 Feb – 25 March @ 7.30pm – 9pm\nFor joining details contact welcome@ccpw.org.uk \n  \nFor more details and about how to view Hook see https://christchurchpettswood.org.uk/five-week-lent-course-2021/ 
URL:https://christchurchpettswood.org.uk/event/lent-course-week-2/
CATEGORIES:Church Events
ATTACH;FMTTYPE=image/png:https://christchurchpettswood.org.uk/wp-content/uploads/2021/02/Screen-shot-of-poster.png
END:VEVENT
BEGIN:VEVENT
DTSTART;TZID=Europe/London:20210301T200000
DTEND;TZID=Europe/London:20210301T210000
DTSTAMP:20260421T001644
CREATED:20210201T210159Z
LAST-MODIFIED:20210201T210159Z
UID:6949-1614628800-1614632400@christchurchpettswood.org.uk
SUMMARY:Book Club - A Thousand Mornings
DESCRIPTION:In our book club on 1st March from 8pm (via Zoom and dial in) we will be discussing A Thousand Mornings by Mary Oliver\, a collection of poems that explore the humour\, kindness and mysteries of our daily experience. All are welcome. If you are not on our book club mailing list and would like to join in please contact sec@ccpw.org.uk
URL:https://christchurchpettswood.org.uk/event/book-club-a-thousand-mornings/
CATEGORIES:Church Events
ATTACH;FMTTYPE=image/jpeg:https://christchurchpettswood.org.uk/wp-content/uploads/2021/02/ThousandMornings.jpg
END:VEVENT
BEGIN:VEVENT
DTSTART;TZID=Europe/London:20210228T103000
DTEND;TZID=Europe/London:20210228T111500
DTSTAMP:20260421T001644
CREATED:20210222T202031Z
LAST-MODIFIED:20210222T202031Z
UID:7044-1614508200-1614510900@christchurchpettswood.org.uk
SUMMARY:Fairtrade Sunday Family Worship
DESCRIPTION:Join us for this service on Climate\, Fairtrade and You\, @ 10.30am on YouTube \nCall to worship \nWelcome \n1st Hymn I Dream of a Church \n1st Reading: Micah 6 various vv. \n2nd Reading: Matthew 5: 43-48 \nPrayer \n2nd Hymn: God the Maker of the Heavens (tune: What a Friend we have in Jesus) \nSermon: DOING Justice Revd Dr Kevin Snyman \nSilent Reflection… \nIntercessory Prayers Anna Jane Evans \nFinal Hymn: I love the Sun © Gwen F. Smith SCM-Canterbury Press Ltd.(Admin. Hope Publishing Co.) \nBenediction \nNote: unless otherwise indicated\, all material is available to use and share under the Creative Commons 4.0 attribution licence
URL:https://christchurchpettswood.org.uk/event/fairtrade-sunday-family-worship/
CATEGORIES:Church Events
ATTACH;FMTTYPE=image/png:https://christchurchpettswood.org.uk/wp-content/uploads/2021/02/Thumbnail.png
END:VEVENT
BEGIN:VEVENT
DTSTART;TZID=Europe/London:20210225T193000
DTEND;TZID=Europe/London:20210225T210000
DTSTAMP:20260421T001644
CREATED:20210203T210930Z
LAST-MODIFIED:20210203T210930Z
UID:6975-1614281400-1614286800@christchurchpettswood.org.uk
SUMMARY:Lent course - session 1
DESCRIPTION:A five-week Lent Course based on the\n1991 film version of ‘Hook’\non ZOOM every Thursday\n25 Feb – 25 March @ 7.30pm – 9pm\nFor joining details contact welcome@ccpw.org.uk \n  \nFor more details and about how to view Hook see https://christchurchpettswood.org.uk/five-week-lent-course-2021/ 
URL:https://christchurchpettswood.org.uk/event/lent-course-session-1/
CATEGORIES:Church Events
ATTACH;FMTTYPE=image/png:https://christchurchpettswood.org.uk/wp-content/uploads/2021/02/Screen-shot-of-poster.png
END:VEVENT
BEGIN:VEVENT
DTSTART;TZID=Europe/London:20210221T103000
DTEND;TZID=Europe/London:20210221T111500
DTSTAMP:20260421T001644
CREATED:20210216T164333Z
LAST-MODIFIED:20210219T190153Z
UID:7031-1613903400-1613906100@christchurchpettswood.org.uk
SUMMARY:Sunday Family Worship
DESCRIPTION:Zoom & YouTube Service\, led by our Minister Rev Nadene Snyman \nOrder of Service \nCall to worship \nWelcome \nOpening Prayer \nLord’s Prayer \nHymn: Amazing Grace \nNotices \nReading Genesis 9. 8-17 \nReading Mark 1.9 – 15 \nSermon \nPrayers for the World \nHymn: Beauty for Brokenness \nBlessing & Grace \nIf you would like to join us via Zoom please email welcome@ccpw.org.uk. 
URL:https://christchurchpettswood.org.uk/event/sunday-family-worship-19/
CATEGORIES:Church Events
ATTACH;FMTTYPE=image/png:https://christchurchpettswood.org.uk/wp-content/uploads/2021/02/Advert-for-the-21st.png
END:VEVENT
BEGIN:VEVENT
DTSTART;TZID=Europe/London:20210214T103000
DTEND;TZID=Europe/London:20210214T111500
DTSTAMP:20260421T001644
CREATED:20210209T203622Z
LAST-MODIFIED:20210209T204009Z
UID:6993-1613298600-1613301300@christchurchpettswood.org.uk
SUMMARY:Sunday family worship
DESCRIPTION:Family Worship on Sunday 14th February 10.30am led by Our Minister \nYouTube \n  \nCall to worship & welcome                     Nadene \nOpening Prayer                                                Izzy \nLord’s Prayer                             Church of Youth \nHymn: Breathe on me breath of God \nNotices                                                               Kat \n2 Kings 2: 7-12                                           John R \nMark 9: 2-9                                                     Kerry \nSermon                                                      Nadene \nChoir: O Love that wilt not let me go \nPrayers for the World                              Martin F \nHymn: Be Thou My vision \nBlessing & Grace                                     Nadene \n 
URL:https://christchurchpettswood.org.uk/event/sunday-family-worship-18/
CATEGORIES:Church Events
ATTACH;FMTTYPE=image/png:https://christchurchpettswood.org.uk/wp-content/uploads/2021/02/14th-Advert.png
END:VEVENT
BEGIN:VEVENT
DTSTART;TZID=Europe/London:20210207T103000
DTEND;TZID=Europe/London:20210207T111500
DTSTAMP:20260421T001644
CREATED:20210201T211420Z
LAST-MODIFIED:20210201T211420Z
UID:6952-1612693800-1612696500@christchurchpettswood.org.uk
SUMMARY:Sunday Worship with Holy Communion
DESCRIPTION:Join us online on Zoom (link via church email or contact us at welcome@ccpw.org.uk for the Zoom link) or on YouTube at https://youtu.be/EbX-4pqm5rw \, this service is led by Our Minister\, Rev Nadene Snyman\n\nOrder of service as below:\n\nCall to worship\nWelcome\nOpening Prayer\nHymn Lord of the dance\nNotices\nReading Isaiah 40. 21-31\nReading Mark 1.29-39\nSermon\nHymn Here Lord we take the broken bread\nCommunion (please have your own bread and wine/juice ready)\nHymn For the healing of the nations\nPrayers for the World\nBlessing\nGrace Nadene
URL:https://christchurchpettswood.org.uk/event/sunday-worship-with-holy-communion-2/
CATEGORIES:Church Events
ATTACH;FMTTYPE=image/png:https://christchurchpettswood.org.uk/wp-content/uploads/2021/02/Advert-for-the-7th.png
END:VEVENT
BEGIN:VEVENT
DTSTART;TZID=Europe/London:20210207T080000
DTEND;TZID=Europe/London:20210207T150000
DTSTAMP:20260421T001644
CREATED:20210120T195949Z
LAST-MODIFIED:20210120T195949Z
UID:6922-1612684800-1612710000@christchurchpettswood.org.uk
SUMMARY:Bingo
DESCRIPTION:Join us for a fun Bingo event for all the family. Emails will be sent to the church mailing lists and appreciate there are friends out there who are not on the list but watch us. \nPlease do join us and either message us here or mention ‘bingo’ in your email to welcome@ccpw.org.uk and we will make sure you are sent some bingo cards to take part.
URL:https://christchurchpettswood.org.uk/event/bingo/
CATEGORIES:Children & Youth,Church Events
ATTACH;FMTTYPE=image/png:https://christchurchpettswood.org.uk/wp-content/uploads/2021/01/Bingo-night.png
END:VEVENT
BEGIN:VEVENT
DTSTART;TZID=Europe/London:20210201T200000
DTEND;TZID=Europe/London:20210201T210000
DTSTAMP:20260421T001644
CREATED:20210112T214314Z
LAST-MODIFIED:20210201T194609Z
UID:6903-1612209600-1612213200@christchurchpettswood.org.uk
SUMMARY:Book Club - The Hiding Place
DESCRIPTION:In our book club on 1st February (via Zoom and dial in) we will be discussing The hiding place by Corrie Ten Boom – A classic about a Dutch Christian watchmaker who helped many Jews escape from the Nazis. All are welcome. If you are not on our book club mailing list and would like to join in please contact sec@ccpw.org.uk
URL:https://christchurchpettswood.org.uk/event/book-club-the-hiding-place/
CATEGORIES:Church Events
ATTACH;FMTTYPE=image/jpeg:https://christchurchpettswood.org.uk/wp-content/uploads/2021/01/hiding-place.jpg
END:VEVENT
BEGIN:VEVENT
DTSTART;TZID=Europe/London:20210131T113000
DTEND;TZID=Europe/London:20210131T123000
DTSTAMP:20260421T001644
CREATED:20210125T190417Z
LAST-MODIFIED:20210125T190417Z
UID:6938-1612092600-1612096200@christchurchpettswood.org.uk
SUMMARY:Church meeting
DESCRIPTION:Join us via Zoom for Church meeting\, from 11.30am on Sunday 31st January. Link\, agenda and other meeting papers will be emailed to Church members.
URL:https://christchurchpettswood.org.uk/event/church-meeting/
CATEGORIES:Church Events
ATTACH;FMTTYPE=image/jpeg:https://christchurchpettswood.org.uk/wp-content/uploads/2019/03/Church.jpg
END:VEVENT
BEGIN:VEVENT
DTSTART;TZID=Europe/London:20210131T103000
DTEND;TZID=Europe/London:20210131T111500
DTSTAMP:20260421T001644
CREATED:20210125T190131Z
LAST-MODIFIED:20210125T190131Z
UID:6936-1612089000-1612091700@christchurchpettswood.org.uk
SUMMARY:Sunday worship online
DESCRIPTION:Service on Sunday 31st January 10.30am led by Our Minister\, via Zoom & YouTube \nCall to worship & welcome                  Nadene \nOpening prayer \nCoY Breakout room \nHymn: Give thanks \nNotices                                                     Kat \nPsalm 111: 1-9                              Maureen C \nMark 1: 21-28 \nSermon                                              Nadene \nHymn: Put peace into each other’s hands \nPrayers for the World                           Pauline \nLord’s prayer \nHymn: Now Christ Lives here as promised \nBlessing & Grace \nPlease email welcome@ccpw.org.uk if you would like to join via Zoom
URL:https://christchurchpettswood.org.uk/event/sunday-worship-online-7/
CATEGORIES:Church Events
ATTACH;FMTTYPE=image/png:https://christchurchpettswood.org.uk/wp-content/uploads/2020/04/Advert-for-31st-.png
END:VEVENT
BEGIN:VEVENT
DTSTART;TZID=Europe/London:20210124T103000
DTEND;TZID=Europe/London:20210124T111500
DTSTAMP:20260421T001644
CREATED:20210120T195734Z
LAST-MODIFIED:20210120T195734Z
UID:6920-1611484200-1611486900@christchurchpettswood.org.uk
SUMMARY:Sunday Worship Online
DESCRIPTION:Worship on YouTube led by our Minister\, Rev Nadene Snyman.\n\nCall to worship & welcome                                       Nadene\nHymn: Seek ye first the Kingdom of God\nOpening prayer                                                           Lucie\nLord’s prayer\nNotices                                                                          Kat\nMark 1:14-20\nJonah 3: 1-5 & 10\nSermon                                                                         Nadene\nHymn: I the Lord of sea and Sky\nPrayers of Intercession                                             Marion B\nHymn: Lord of all Hopefulness\nBlessing & Grace\n\nIf you do not have access to YouTube or know someone who does not have tech access\, we do have the ability to loop people in via the telephone. Please contact us via welcome@ccpw.org.uk and we will let you know more details.
URL:https://christchurchpettswood.org.uk/event/sunday-worship-online-6/
CATEGORIES:Church Events
ATTACH;FMTTYPE=image/png:https://christchurchpettswood.org.uk/wp-content/uploads/2021/01/Sunday-17th-Advert.png
END:VEVENT
BEGIN:VEVENT
DTSTART;TZID=Europe/London:20210122T103000
DTEND;TZID=Europe/London:20210122T120000
DTSTAMP:20260421T001644
CREATED:20210112T213952Z
LAST-MODIFIED:20210112T213952Z
UID:6901-1611311400-1611316800@christchurchpettswood.org.uk
SUMMARY:Coffee Stop via Zoom
DESCRIPTION:Coffee Stop takes place every fortnight via Zoom\, please join us at any point between 10.30am and noon. Links will be shared via email or message us here or on Facebook for more details
URL:https://christchurchpettswood.org.uk/event/coffee-stop-via-zoom-15/
CATEGORIES:Church Events
ATTACH;FMTTYPE=image/jpeg:https://christchurchpettswood.org.uk/wp-content/uploads/2019/03/Coffee-and-cake-1920x1200.jpg
END:VEVENT
BEGIN:VEVENT
DTSTART;TZID=Europe/London:20210117T103000
DTEND;TZID=Europe/London:20210117T111500
DTSTAMP:20260421T001644
CREATED:20210112T211328Z
LAST-MODIFIED:20210112T211328Z
UID:6898-1610879400-1610882100@christchurchpettswood.org.uk
SUMMARY:Sunday Worship Online
DESCRIPTION:Join us for a YouTube service led by Our Minister\, Rev Nadene Snyman\n\nCall to worship\nWelcome\nHymn: Breathe on me breath of God\nOpening Prayer\nNotices\nReading Psalm 139: 1-6 & 13-18\nReading John 1: 43-51\nSermon\nHymn: Even before I was born\nPrayer\nLord’s Prayer\nHymn: Lord of all Hopefulness\nBlessing/ Grace\n\nAll welcome. If you know someone who doesn’t use technology\, all they need is a telephone\, message us here and we can give you a telephone number so that non-technies can dial in and listen to the service
URL:https://christchurchpettswood.org.uk/event/sunday-worship-online-5/
CATEGORIES:Church Events
ATTACH;FMTTYPE=image/png:https://christchurchpettswood.org.uk/wp-content/uploads/2021/01/Sunday-17th-Advert.png
END:VEVENT
BEGIN:VEVENT
DTSTART;TZID=Europe/London:20210110T103000
DTEND;TZID=Europe/London:20210110T111500
DTSTAMP:20260421T001644
CREATED:20210106T195303Z
LAST-MODIFIED:20210106T195303Z
UID:6891-1610274600-1610277300@christchurchpettswood.org.uk
SUMMARY:Sunday Worship Online
DESCRIPTION:Our service this Sunday is a Zoom service\, also streamed to YouTube. Our service is being led by Rev Bill Bowman.\nWe will have a Church of Youth breakout room during the sermon.
URL:https://christchurchpettswood.org.uk/event/sunday-worship-online-4/
CATEGORIES:Church Events
ATTACH;FMTTYPE=image/png:https://christchurchpettswood.org.uk/wp-content/uploads/2021/01/Sunday-10th-Advert.png
END:VEVENT
BEGIN:VEVENT
DTSTART;TZID=Europe/London:20210108T103000
DTEND;TZID=Europe/London:20210108T120000
DTSTAMP:20260421T001644
CREATED:20210106T195620Z
LAST-MODIFIED:20210112T214821Z
UID:6893-1610101800-1610107200@christchurchpettswood.org.uk
SUMMARY:Coffee Stop via Zoom
DESCRIPTION:Coffee Stop takes place every fortnight via Zoom\, please join us at any point between 10.30am and noon. Links will be shared via email or message us here or on Facebook for more details
URL:https://christchurchpettswood.org.uk/event/coffee-stop-via-zoom-14/
CATEGORIES:Church Events
ATTACH;FMTTYPE=image/jpeg:https://christchurchpettswood.org.uk/wp-content/uploads/2019/03/Coffee-and-cake-1920x1200.jpg
END:VEVENT
BEGIN:VEVENT
DTSTART;TZID=Europe/London:20210103T103000
DTEND;TZID=Europe/London:20210103T111500
DTSTAMP:20260421T001644
CREATED:20201229T141227Z
LAST-MODIFIED:20201229T141227Z
UID:6823-1609669800-1609672500@christchurchpettswood.org.uk
SUMMARY:Online Communion service
DESCRIPTION:Please join us on YouTube at 10.30am on Sunday 3rd of January for our first service of 2021\, led by our Minister Rev Nadene Snyman. As this is a Communion service please have your bread and wine / juice ready. If you know of people who cannot use technology please get in touch and we can provide them with a telephone number to dial in to listen to the service.
URL:https://christchurchpettswood.org.uk/event/online-communion-service/
CATEGORIES:Church Events
ATTACH;FMTTYPE=image/png:https://christchurchpettswood.org.uk/wp-content/uploads/2020/12/3rd-January-Advert.png
END:VEVENT
BEGIN:VEVENT
DTSTART;TZID=Europe/London:20201225T100000
DTEND;TZID=Europe/London:20201225T110000
DTSTAMP:20260421T001644
CREATED:20201216T215242Z
LAST-MODIFIED:20201216T215242Z
UID:6756-1608890400-1608894000@christchurchpettswood.org.uk
SUMMARY:Christmas Day family Service
DESCRIPTION:Please join us on Christmas Day\, online from10am for a family service of worship on this very special day.
URL:https://christchurchpettswood.org.uk/event/christmas-day-family-service/
CATEGORIES:Church Events
ATTACH;FMTTYPE=image/png:https://christchurchpettswood.org.uk/wp-content/uploads/2020/12/Christmas-Day-Advertising-.png
END:VEVENT
BEGIN:VEVENT
DTSTART;TZID=Europe/London:20201224T213000
DTEND;TZID=Europe/London:20201224T221500
DTSTAMP:20260421T001644
CREATED:20201216T214300Z
LAST-MODIFIED:20201216T214800Z
UID:6752-1608845400-1608848100@christchurchpettswood.org.uk
SUMMARY:Midnight in Bethlehem service
DESCRIPTION:Join us on Zoom and YouTube from 9.30pm (11.30pm in Bethlehem) to usher in Christmas Day. \nPlease have some bread and wine/juice ready for the Communion part of this service.
URL:https://christchurchpettswood.org.uk/event/midnight-in-bethlehem-service/
CATEGORIES:Church Events
ATTACH;FMTTYPE=image/png:https://christchurchpettswood.org.uk/wp-content/uploads/2020/12/Midnight-Communion-Advert.png
END:VEVENT
BEGIN:VEVENT
DTSTART;TZID=Europe/London:20201224T150000
DTEND;TZID=Europe/London:20201224T160000
DTSTAMP:20260421T001644
CREATED:20201206T165142Z
LAST-MODIFIED:20201206T165142Z
UID:6675-1608822000-1608825600@christchurchpettswood.org.uk
SUMMARY:Messy Christmas Eve
DESCRIPTION:Join us from 3pm for Messy Christmas Eve\, book a pew where you will find some craft activities waiting for you. Bring along a musical instrument (or saucepan and spoon!) to be ready to join in with some Messy Church favourite songs. Link to Eventbrite to book here
URL:https://christchurchpettswood.org.uk/event/messy-christmas-eve-2/
LOCATION:Christ Church Petts Wood\, Tudor Way\, Orpington\, BR5 1LH\, United Kingdom
CATEGORIES:Children & Youth,Church Events
ATTACH;FMTTYPE=image/jpeg:https://christchurchpettswood.org.uk/wp-content/uploads/2020/12/MessyChristmasEve2020.jpg
END:VEVENT
BEGIN:VEVENT
DTSTART;TZID=Europe/London:20201220T183000
DTEND;TZID=Europe/London:20201220T193000
DTSTAMP:20260421T001644
CREATED:20201206T163503Z
LAST-MODIFIED:20201216T212311Z
UID:6672-1608489000-1608492600@christchurchpettswood.org.uk
SUMMARY:Service of Lessons & Carols
DESCRIPTION:Join from 6.30pm on Sunday 20th December for a service of lessons and carols and as it will be on Zoom you can sing to your heart’s content! Links will be emailed nearer the time\, or message us here to get further details. You can also watch on our YouTube channel \nOrder of service: \nLighting of the Advent Candles \nWelcome                                           Nadene \nO come\, O come Immanuel                          \nPrayers of adoration and confession \n1st Reading: Isa 9: 2\, 6\, 7 \nChoir O Little one sweet \nOnce in Royal David’s City \n2nd Reading: Luke 1: 26-33 The Annunciation \nAngels from the realms of glory \n3rd Reading: Luke 2: 1- 5 The Census \nO Little Town of Bethlehem  \n4th Reading: Luke 2: 6-7 The birth of Jesus \nAway in a manger \n5th Reading: Luke 1: 46-55 Mary’s song \nSilent night\, holy night  \nPrayers                                                          \n6th Reading: Luke 2: 8-15 The Shepherds \n While shepherds watched their flocks by night \n7th Reading: Matthew 2: 1-12 The Wise Men \nCarol: We three kings  \nReflection                         Revd Bill Bowman \n8th Reading: John 1: 1-14 \nPrayers of intercession \nJoy to the world \nBlessing                                            Nadene
URL:https://christchurchpettswood.org.uk/event/service-of-lessons-carols/
CATEGORIES:Church Events
ATTACH;FMTTYPE=image/png:https://christchurchpettswood.org.uk/wp-content/uploads/2020/12/lesssons-and-Carols-Advert.png
END:VEVENT
BEGIN:VEVENT
DTSTART;TZID=Europe/London:20201220T103000
DTEND;TZID=Europe/London:20201220T111500
DTSTAMP:20260421T001644
CREATED:20201206T162457Z
LAST-MODIFIED:20201216T211506Z
UID:6670-1608460200-1608462900@christchurchpettswood.org.uk
SUMMARY:Sunday Family Worship - 4th Sunday in Advent
DESCRIPTION:Please join us via our You Tube channel: https://www.youtube.com/c/ChristChurchPettsWood for our family worship this Sunday at 10.30am led by our minister Nadene \nOrder of service: \nLighting the advent candle \nWelcome                                      Nadene \nHymn: In the bleak midwinter \nOpening prayer                               Jacqui \nNotices                                               Kat \nReading Luke 1: 26-38                     Pat P \nSermon                                        Nadene \nHymn: Love Divine \nPrayers of Intercession                          Di \nLord’s Prayer            Lunch club deliverers \nHymn: Love came down at Christmas \nGrace                                           Nadene \n 
URL:https://christchurchpettswood.org.uk/event/sunday-family-worship-4th-sunday-in-advent/
LOCATION:Christ Church Petts Wood\, Tudor Way\, Orpington\, BR5 1LH\, United Kingdom
CATEGORIES:Church Events
ATTACH;FMTTYPE=image/png:https://christchurchpettswood.org.uk/wp-content/uploads/2020/12/th-Sunday-in-Advent-20th.png
END:VEVENT
BEGIN:VEVENT
DTSTART;TZID=Europe/London:20201218T103000
DTEND;TZID=Europe/London:20201218T120000
DTSTAMP:20260421T001644
CREATED:20201204T101218Z
LAST-MODIFIED:20201204T101218Z
UID:6650-1608287400-1608292800@christchurchpettswood.org.uk
SUMMARY:Coffee Stop
DESCRIPTION:Join us from 10.30am each Friday morning for Coffee Stop. Whilst we are not able to meet physically we will be meeting via Zoom. The link will be shared by email. If you know someone who does not have access to Zoom do let them know they can now dial in\, please contact us for more details.
URL:https://christchurchpettswood.org.uk/event/coffee-stop-16/
CATEGORIES:Church Events
ATTACH;FMTTYPE=image/jpeg:https://christchurchpettswood.org.uk/wp-content/uploads/2019/03/Coffee-and-cake-1920x1200.jpg
END:VEVENT
BEGIN:VEVENT
DTSTART;TZID=Europe/London:20201213T150000
DTEND;TZID=Europe/London:20201213T160000
DTSTAMP:20260421T001644
CREATED:20201206T155852Z
LAST-MODIFIED:20201206T155852Z
UID:6667-1607871600-1607875200@christchurchpettswood.org.uk
SUMMARY:Family Nativity & Carol Service
DESCRIPTION:Join us on Zoom or YouTube to watch the ingenious nativity that has been digitally pulled together from separate acted scenes by our own very special Rev Nadene with help from Rev Kevin Snyman.\nAlso sing along in your own home to the carols as we experience this unique family nativity and carol service.
URL:https://christchurchpettswood.org.uk/event/family-nativity-carol-service/
CATEGORIES:Children & Youth,Church Events
ATTACH;FMTTYPE=image/jpeg:https://christchurchpettswood.org.uk/wp-content/uploads/2020/12/nativitycard.jpg
END:VEVENT
BEGIN:VEVENT
DTSTART;TZID=Europe/London:20201213T103000
DTEND;TZID=Europe/London:20201213T111500
DTSTAMP:20260421T001644
CREATED:20201206T155141Z
LAST-MODIFIED:20201206T155141Z
UID:6665-1607855400-1607858100@christchurchpettswood.org.uk
SUMMARY:Family worship - 3rd Sunday in Advent
DESCRIPTION:Join us for fellowship at the Church or via YouTube. The service this Sunday will be led by our Minister\, Rev’d Nadene Snyman.
URL:https://christchurchpettswood.org.uk/event/family-worship-3rd-sunday-in-advent/
LOCATION:Christ Church Petts Wood\, Tudor Way\, Orpington\, BR5 1LH\, United Kingdom
CATEGORIES:Church Events
ATTACH;FMTTYPE=image/jpeg:https://christchurchpettswood.org.uk/wp-content/uploads/2019/03/Church.jpg
END:VEVENT
BEGIN:VEVENT
DTSTART;TZID=Europe/London:20201211T103000
DTEND;TZID=Europe/London:20201211T120000
DTSTAMP:20260421T001644
CREATED:20201202T205426Z
LAST-MODIFIED:20201204T101118Z
UID:6633-1607682600-1607688000@christchurchpettswood.org.uk
SUMMARY:Coffee Stop
DESCRIPTION:Join us from 10.30am each Friday morning for Coffee Stop. Whilst we are not able to meet physically we will be meeting via Zoom. The link will be shared by email. If you know someone who does not have access to Zoom do let them know they can now dial in\, please contact us for more details.
URL:https://christchurchpettswood.org.uk/event/coffee-stop-15/
CATEGORIES:Church Events
ATTACH;FMTTYPE=image/jpeg:https://christchurchpettswood.org.uk/wp-content/uploads/2019/03/Coffee-and-cake-1920x1200.jpg
END:VEVENT
BEGIN:VEVENT
DTSTART;TZID=Europe/London:20201207T200000
DTEND;TZID=Europe/London:20201207T210000
DTSTAMP:20260421T001644
CREATED:20201019T184306Z
LAST-MODIFIED:20201019T184306Z
UID:6461-1607371200-1607374800@christchurchpettswood.org.uk
SUMMARY:Book club - The Dean's Watch
DESCRIPTION:The Christ Church book club will be meeting to discuss The Dean’s Watch by Elizabeth Goudge. We are likely to be meeting on Zoom\, but watch this space and also emails. Please also message us if you haven’t joined our bookclub before\, new members very welcome!
URL:https://christchurchpettswood.org.uk/event/book-club-the-deans-watch/
CATEGORIES:Church Events
ATTACH;FMTTYPE=image/jpeg:https://christchurchpettswood.org.uk/wp-content/uploads/2020/10/deans-watch.jpg
END:VEVENT
BEGIN:VEVENT
DTSTART;TZID=Europe/London:20201206T113000
DTEND;TZID=Europe/London:20201206T113000
DTSTAMP:20260421T001644
CREATED:20201202T205317Z
LAST-MODIFIED:20201202T205317Z
UID:6631-1607254200-1607254200@christchurchpettswood.org.uk
SUMMARY:Toy service and Holy Communion
DESCRIPTION:Please join us in person or via our You Tube channel: https://www.youtube.com/channel/UC46AiOiiBFmThwhOLVeow6A for our family worship including Holy Communion this Sunday at 10.30am led by Martin Fosten.\nIf you haven’t already subscribed to our YouTube channel please do so to receive updates!
URL:https://christchurchpettswood.org.uk/event/toy-service-and-holy-communion/
LOCATION:Christ Church Petts Wood\, Tudor Way\, Orpington\, BR5 1LH\, United Kingdom
CATEGORIES:Church Events
ATTACH;FMTTYPE=image/png:https://christchurchpettswood.org.uk/wp-content/uploads/2020/12/Screenshot-2020-12-02-at-19.35.05.png
END:VEVENT
BEGIN:VEVENT
DTSTART;TZID=Europe/London:20201204T103000
DTEND;TZID=Europe/London:20201204T120000
DTSTAMP:20260421T001644
CREATED:20201123T183123Z
LAST-MODIFIED:20201123T183123Z
UID:6583-1607077800-1607083200@christchurchpettswood.org.uk
SUMMARY:Coffee Stop
DESCRIPTION:Join us from 10.30am each Friday morning for Coffee Stop. Whilst we are not able to meet physically we will be meeting via Zoom. The link will be shared by email. If you know someone who does not have access to Zoom do let them know they can now dial in\, please contact us for more details.
URL:https://christchurchpettswood.org.uk/event/coffee-stop-14/
CATEGORIES:Church Events
ATTACH;FMTTYPE=image/jpeg:https://christchurchpettswood.org.uk/wp-content/uploads/2019/03/Coffee-and-cake-1920x1200.jpg
END:VEVENT
END:VCALENDAR