BEGIN:VCALENDAR
VERSION:2.0
PRODID:-//Christ Church United Reformed Church, Petts Wood - ECPv6.15.20//NONSGML v1.0//EN
CALSCALE:GREGORIAN
METHOD:PUBLISH
X-WR-CALNAME:Christ Church United Reformed Church, Petts Wood
X-ORIGINAL-URL:https://christchurchpettswood.org.uk
X-WR-CALDESC:Events for Christ Church United Reformed Church, Petts Wood
REFRESH-INTERVAL;VALUE=DURATION:PT1H
X-Robots-Tag:noindex
X-PUBLISHED-TTL:PT1H
BEGIN:VTIMEZONE
TZID:Europe/London
BEGIN:DAYLIGHT
TZOFFSETFROM:+0000
TZOFFSETTO:+0100
TZNAME:BST
DTSTART:20190331T010000
END:DAYLIGHT
BEGIN:STANDARD
TZOFFSETFROM:+0100
TZOFFSETTO:+0000
TZNAME:GMT
DTSTART:20191027T010000
END:STANDARD
BEGIN:DAYLIGHT
TZOFFSETFROM:+0000
TZOFFSETTO:+0100
TZNAME:BST
DTSTART:20200329T010000
END:DAYLIGHT
BEGIN:STANDARD
TZOFFSETFROM:+0100
TZOFFSETTO:+0000
TZNAME:GMT
DTSTART:20201025T010000
END:STANDARD
BEGIN:DAYLIGHT
TZOFFSETFROM:+0000
TZOFFSETTO:+0100
TZNAME:BST
DTSTART:20210328T010000
END:DAYLIGHT
BEGIN:STANDARD
TZOFFSETFROM:+0100
TZOFFSETTO:+0000
TZNAME:GMT
DTSTART:20211031T010000
END:STANDARD
END:VTIMEZONE
BEGIN:VEVENT
DTSTART;TZID=Europe/London:20201224T150000
DTEND;TZID=Europe/London:20201224T160000
DTSTAMP:20260421T063101
CREATED:20201206T165142Z
LAST-MODIFIED:20201206T165142Z
UID:6675-1608822000-1608825600@christchurchpettswood.org.uk
SUMMARY:Messy Christmas Eve
DESCRIPTION:Join us from 3pm for Messy Christmas Eve\, book a pew where you will find some craft activities waiting for you. Bring along a musical instrument (or saucepan and spoon!) to be ready to join in with some Messy Church favourite songs. Link to Eventbrite to book here
URL:https://christchurchpettswood.org.uk/event/messy-christmas-eve-2/
LOCATION:Christ Church Petts Wood\, Tudor Way\, Orpington\, BR5 1LH\, United Kingdom
CATEGORIES:Children & Youth,Church Events
ATTACH;FMTTYPE=image/jpeg:https://christchurchpettswood.org.uk/wp-content/uploads/2020/12/MessyChristmasEve2020.jpg
END:VEVENT
BEGIN:VEVENT
DTSTART;TZID=Europe/London:20201220T183000
DTEND;TZID=Europe/London:20201220T193000
DTSTAMP:20260421T063101
CREATED:20201206T163503Z
LAST-MODIFIED:20201216T212311Z
UID:6672-1608489000-1608492600@christchurchpettswood.org.uk
SUMMARY:Service of Lessons & Carols
DESCRIPTION:Join from 6.30pm on Sunday 20th December for a service of lessons and carols and as it will be on Zoom you can sing to your heart’s content! Links will be emailed nearer the time\, or message us here to get further details. You can also watch on our YouTube channel \nOrder of service: \nLighting of the Advent Candles \nWelcome                                           Nadene \nO come\, O come Immanuel                          \nPrayers of adoration and confession \n1st Reading: Isa 9: 2\, 6\, 7 \nChoir O Little one sweet \nOnce in Royal David’s City \n2nd Reading: Luke 1: 26-33 The Annunciation \nAngels from the realms of glory \n3rd Reading: Luke 2: 1- 5 The Census \nO Little Town of Bethlehem  \n4th Reading: Luke 2: 6-7 The birth of Jesus \nAway in a manger \n5th Reading: Luke 1: 46-55 Mary’s song \nSilent night\, holy night  \nPrayers                                                          \n6th Reading: Luke 2: 8-15 The Shepherds \n While shepherds watched their flocks by night \n7th Reading: Matthew 2: 1-12 The Wise Men \nCarol: We three kings  \nReflection                         Revd Bill Bowman \n8th Reading: John 1: 1-14 \nPrayers of intercession \nJoy to the world \nBlessing                                            Nadene
URL:https://christchurchpettswood.org.uk/event/service-of-lessons-carols/
CATEGORIES:Church Events
ATTACH;FMTTYPE=image/png:https://christchurchpettswood.org.uk/wp-content/uploads/2020/12/lesssons-and-Carols-Advert.png
END:VEVENT
BEGIN:VEVENT
DTSTART;TZID=Europe/London:20201220T103000
DTEND;TZID=Europe/London:20201220T111500
DTSTAMP:20260421T063101
CREATED:20201206T162457Z
LAST-MODIFIED:20201216T211506Z
UID:6670-1608460200-1608462900@christchurchpettswood.org.uk
SUMMARY:Sunday Family Worship - 4th Sunday in Advent
DESCRIPTION:Please join us via our You Tube channel: https://www.youtube.com/c/ChristChurchPettsWood for our family worship this Sunday at 10.30am led by our minister Nadene \nOrder of service: \nLighting the advent candle \nWelcome                                      Nadene \nHymn: In the bleak midwinter \nOpening prayer                               Jacqui \nNotices                                               Kat \nReading Luke 1: 26-38                     Pat P \nSermon                                        Nadene \nHymn: Love Divine \nPrayers of Intercession                          Di \nLord’s Prayer            Lunch club deliverers \nHymn: Love came down at Christmas \nGrace                                           Nadene \n 
URL:https://christchurchpettswood.org.uk/event/sunday-family-worship-4th-sunday-in-advent/
LOCATION:Christ Church Petts Wood\, Tudor Way\, Orpington\, BR5 1LH\, United Kingdom
CATEGORIES:Church Events
ATTACH;FMTTYPE=image/png:https://christchurchpettswood.org.uk/wp-content/uploads/2020/12/th-Sunday-in-Advent-20th.png
END:VEVENT
BEGIN:VEVENT
DTSTART;TZID=Europe/London:20201218T103000
DTEND;TZID=Europe/London:20201218T120000
DTSTAMP:20260421T063101
CREATED:20201204T101218Z
LAST-MODIFIED:20201204T101218Z
UID:6650-1608287400-1608292800@christchurchpettswood.org.uk
SUMMARY:Coffee Stop
DESCRIPTION:Join us from 10.30am each Friday morning for Coffee Stop. Whilst we are not able to meet physically we will be meeting via Zoom. The link will be shared by email. If you know someone who does not have access to Zoom do let them know they can now dial in\, please contact us for more details.
URL:https://christchurchpettswood.org.uk/event/coffee-stop-16/
CATEGORIES:Church Events
ATTACH;FMTTYPE=image/jpeg:https://christchurchpettswood.org.uk/wp-content/uploads/2019/03/Coffee-and-cake-1920x1200.jpg
END:VEVENT
BEGIN:VEVENT
DTSTART;TZID=Europe/London:20201213T150000
DTEND;TZID=Europe/London:20201213T160000
DTSTAMP:20260421T063101
CREATED:20201206T155852Z
LAST-MODIFIED:20201206T155852Z
UID:6667-1607871600-1607875200@christchurchpettswood.org.uk
SUMMARY:Family Nativity & Carol Service
DESCRIPTION:Join us on Zoom or YouTube to watch the ingenious nativity that has been digitally pulled together from separate acted scenes by our own very special Rev Nadene with help from Rev Kevin Snyman.\nAlso sing along in your own home to the carols as we experience this unique family nativity and carol service.
URL:https://christchurchpettswood.org.uk/event/family-nativity-carol-service/
CATEGORIES:Children & Youth,Church Events
ATTACH;FMTTYPE=image/jpeg:https://christchurchpettswood.org.uk/wp-content/uploads/2020/12/nativitycard.jpg
END:VEVENT
BEGIN:VEVENT
DTSTART;TZID=Europe/London:20201213T103000
DTEND;TZID=Europe/London:20201213T111500
DTSTAMP:20260421T063101
CREATED:20201206T155141Z
LAST-MODIFIED:20201206T155141Z
UID:6665-1607855400-1607858100@christchurchpettswood.org.uk
SUMMARY:Family worship - 3rd Sunday in Advent
DESCRIPTION:Join us for fellowship at the Church or via YouTube. The service this Sunday will be led by our Minister\, Rev’d Nadene Snyman.
URL:https://christchurchpettswood.org.uk/event/family-worship-3rd-sunday-in-advent/
LOCATION:Christ Church Petts Wood\, Tudor Way\, Orpington\, BR5 1LH\, United Kingdom
CATEGORIES:Church Events
ATTACH;FMTTYPE=image/jpeg:https://christchurchpettswood.org.uk/wp-content/uploads/2019/03/Church.jpg
END:VEVENT
BEGIN:VEVENT
DTSTART;TZID=Europe/London:20201211T103000
DTEND;TZID=Europe/London:20201211T120000
DTSTAMP:20260421T063101
CREATED:20201202T205426Z
LAST-MODIFIED:20201204T101118Z
UID:6633-1607682600-1607688000@christchurchpettswood.org.uk
SUMMARY:Coffee Stop
DESCRIPTION:Join us from 10.30am each Friday morning for Coffee Stop. Whilst we are not able to meet physically we will be meeting via Zoom. The link will be shared by email. If you know someone who does not have access to Zoom do let them know they can now dial in\, please contact us for more details.
URL:https://christchurchpettswood.org.uk/event/coffee-stop-15/
CATEGORIES:Church Events
ATTACH;FMTTYPE=image/jpeg:https://christchurchpettswood.org.uk/wp-content/uploads/2019/03/Coffee-and-cake-1920x1200.jpg
END:VEVENT
BEGIN:VEVENT
DTSTART;TZID=Europe/London:20201207T200000
DTEND;TZID=Europe/London:20201207T210000
DTSTAMP:20260421T063101
CREATED:20201019T184306Z
LAST-MODIFIED:20201019T184306Z
UID:6461-1607371200-1607374800@christchurchpettswood.org.uk
SUMMARY:Book club - The Dean's Watch
DESCRIPTION:The Christ Church book club will be meeting to discuss The Dean’s Watch by Elizabeth Goudge. We are likely to be meeting on Zoom\, but watch this space and also emails. Please also message us if you haven’t joined our bookclub before\, new members very welcome!
URL:https://christchurchpettswood.org.uk/event/book-club-the-deans-watch/
CATEGORIES:Church Events
ATTACH;FMTTYPE=image/jpeg:https://christchurchpettswood.org.uk/wp-content/uploads/2020/10/deans-watch.jpg
END:VEVENT
BEGIN:VEVENT
DTSTART;TZID=Europe/London:20201206T113000
DTEND;TZID=Europe/London:20201206T113000
DTSTAMP:20260421T063101
CREATED:20201202T205317Z
LAST-MODIFIED:20201202T205317Z
UID:6631-1607254200-1607254200@christchurchpettswood.org.uk
SUMMARY:Toy service and Holy Communion
DESCRIPTION:Please join us in person or via our You Tube channel: https://www.youtube.com/channel/UC46AiOiiBFmThwhOLVeow6A for our family worship including Holy Communion this Sunday at 10.30am led by Martin Fosten.\nIf you haven’t already subscribed to our YouTube channel please do so to receive updates!
URL:https://christchurchpettswood.org.uk/event/toy-service-and-holy-communion/
LOCATION:Christ Church Petts Wood\, Tudor Way\, Orpington\, BR5 1LH\, United Kingdom
CATEGORIES:Church Events
ATTACH;FMTTYPE=image/png:https://christchurchpettswood.org.uk/wp-content/uploads/2020/12/Screenshot-2020-12-02-at-19.35.05.png
END:VEVENT
BEGIN:VEVENT
DTSTART;TZID=Europe/London:20201204T103000
DTEND;TZID=Europe/London:20201204T120000
DTSTAMP:20260421T063101
CREATED:20201123T183123Z
LAST-MODIFIED:20201123T183123Z
UID:6583-1607077800-1607083200@christchurchpettswood.org.uk
SUMMARY:Coffee Stop
DESCRIPTION:Join us from 10.30am each Friday morning for Coffee Stop. Whilst we are not able to meet physically we will be meeting via Zoom. The link will be shared by email. If you know someone who does not have access to Zoom do let them know they can now dial in\, please contact us for more details.
URL:https://christchurchpettswood.org.uk/event/coffee-stop-14/
CATEGORIES:Church Events
ATTACH;FMTTYPE=image/jpeg:https://christchurchpettswood.org.uk/wp-content/uploads/2019/03/Coffee-and-cake-1920x1200.jpg
END:VEVENT
BEGIN:VEVENT
DTSTART;TZID=Europe/London:20201129T103000
DTEND;TZID=Europe/London:20201129T111500
DTSTAMP:20260421T063101
CREATED:20201125T185424Z
LAST-MODIFIED:20201125T201614Z
UID:6590-1606645800-1606648500@christchurchpettswood.org.uk
SUMMARY:First Sunday in Advent
DESCRIPTION:Join us on Zoom (link to be shared via email or messasge us here) or YouTube. Our service is being led by Mr Martin Fosten on the theme of Waiting in the Dark.\n\nIf you have one to hand\, have a candle and match/lighter ready to join in with lighting the first candle of advent.
URL:https://christchurchpettswood.org.uk/event/first-sunday-in-advent/
CATEGORIES:Church Events
ATTACH;FMTTYPE=image/png:https://christchurchpettswood.org.uk/wp-content/uploads/2020/11/Advert-logo-for-29th.png
END:VEVENT
BEGIN:VEVENT
DTSTART;TZID=Europe/London:20201127T103000
DTEND;TZID=Europe/London:20201127T120000
DTSTAMP:20260421T063101
CREATED:20201123T183026Z
LAST-MODIFIED:20201123T183026Z
UID:6581-1606473000-1606478400@christchurchpettswood.org.uk
SUMMARY:Coffee Stop
DESCRIPTION:Join us from 10.30am each Friday morning for Coffee Stop. Whilst we are not able to meet physically we will be meeting via Zoom. The link will be shared by email. If you know someone who does not have access to Zoom do let them know they can now dial in\, please contact us for more details.
URL:https://christchurchpettswood.org.uk/event/coffee-stop-13/
CATEGORIES:Church Events
ATTACH;FMTTYPE=image/jpeg:https://christchurchpettswood.org.uk/wp-content/uploads/2019/03/Coffee-and-cake-1920x1200.jpg
END:VEVENT
BEGIN:VEVENT
DTSTART;TZID=Europe/London:20201123T080000
DTEND;TZID=Europe/London:20201123T170000
DTSTAMP:20260421T063101
CREATED:20201123T183937Z
LAST-MODIFIED:20201123T183937Z
UID:6585-1606118400-1606150800@christchurchpettswood.org.uk
SUMMARY:Sunday Family Worship
DESCRIPTION:Join us on Zoom (link to be shared via email or messasge us here) or YouTube. \nOur service is being led by Mr Martin Fosten on the theme of Waiting in the Dark.
URL:https://christchurchpettswood.org.uk/event/sunday-family-worship-17/
CATEGORIES:Church Events
ATTACH;FMTTYPE=image/png:https://christchurchpettswood.org.uk/wp-content/uploads/2020/11/Advert-logo-for-29th.png
END:VEVENT
BEGIN:VEVENT
DTSTART;TZID=Europe/London:20201115T113000
DTEND;TZID=Europe/London:20201115T123000
DTSTAMP:20260421T063101
CREATED:20201109T214301Z
LAST-MODIFIED:20201109T220815Z
UID:6528-1605439800-1605443400@christchurchpettswood.org.uk
SUMMARY:AGM and Church meeting
DESCRIPTION:Join us on Zoom\, or via the telephone (details to be emailed\, or message us here) for our AGM and Church meeting\, to follow on from our church service after a short break
URL:https://christchurchpettswood.org.uk/event/agm-and-church-meeting/
CATEGORIES:Church Events
ATTACH;FMTTYPE=image/png:https://christchurchpettswood.org.uk/wp-content/uploads/2020/04/Church-@-home-SS.png
END:VEVENT
BEGIN:VEVENT
DTSTART;TZID=Europe/London:20201115T103000
DTEND;TZID=Europe/London:20201115T111500
DTSTAMP:20260421T063101
CREATED:20201109T213829Z
LAST-MODIFIED:20201109T213829Z
UID:6525-1605436200-1605438900@christchurchpettswood.org.uk
SUMMARY:Sunday family worship
DESCRIPTION:Join us for a Zoom service led by our Minister Rev Nadene Snyman. There will be a Church of Youth breakout room. \nThis service can also be watched on our YouTube channel https://www.youtube.com/channel/UC46AiOiiBFmThwhOLVeow6A
URL:https://christchurchpettswood.org.uk/event/sunday-family-worship-16/
CATEGORIES:Children & Youth,Church Events
ATTACH;FMTTYPE=image/png:https://christchurchpettswood.org.uk/wp-content/uploads/2020/11/Sunday-15th-logo.png
END:VEVENT
BEGIN:VEVENT
DTSTART;TZID=Europe/London:20201113T103000
DTEND;TZID=Europe/London:20201113T120000
DTSTAMP:20260421T063101
CREATED:20201105T092644Z
LAST-MODIFIED:20201105T092644Z
UID:6521-1605263400-1605268800@christchurchpettswood.org.uk
SUMMARY:Coffee Stop
DESCRIPTION:Join us from 10.30am each Friday morning for Coffee Stop. Whilst we are not able to meet physically we will be meeting via Zoom. The link will be shared by email. If you know someone who does not have access to Zoom do let them know they can now dial in\, please contact us for more details.
URL:https://christchurchpettswood.org.uk/event/coffee-stop-12/
CATEGORIES:Church Events
ATTACH;FMTTYPE=image/jpeg:https://christchurchpettswood.org.uk/wp-content/uploads/2019/03/Coffee-and-cake-1920x1200.jpg
END:VEVENT
BEGIN:VEVENT
DTSTART;TZID=Europe/London:20201108T103000
DTEND;TZID=Europe/London:20201108T111500
DTSTAMP:20260421T063101
CREATED:20201105T092455Z
LAST-MODIFIED:20201105T092455Z
UID:6517-1604831400-1604834100@christchurchpettswood.org.uk
SUMMARY:Remembrance Sunday online
DESCRIPTION:Please join us on our You Tube channel: https://www.youtube.com/channel/UC46AiOiiBFmThwhOLVeow6A for our family worship this Remembrance Sunday at 10.30am led by our Minister Nadene
URL:https://christchurchpettswood.org.uk/event/remembrance-sunday-online/
CATEGORIES:Church Events
ATTACH;FMTTYPE=image/png:https://christchurchpettswood.org.uk/wp-content/uploads/2020/11/8th-Advert.png
END:VEVENT
BEGIN:VEVENT
DTSTART;TZID=Europe/London:20201106T103000
DTEND;TZID=Europe/London:20201106T120000
DTSTAMP:20260421T063101
CREATED:20201105T092555Z
LAST-MODIFIED:20201105T092555Z
UID:6519-1604658600-1604664000@christchurchpettswood.org.uk
SUMMARY:Coffee Stop
DESCRIPTION:Join us from 10.30am each Friday morning for Coffee Stop. Whilst we are not able to meet physically we will be meeting via Zoom. The link will be shared by email. If you know someone who does not have access to Zoom do let them know they can now dial in\, please contact us for more details.
URL:https://christchurchpettswood.org.uk/event/coffee-stop-11/
CATEGORIES:Church Events
ATTACH;FMTTYPE=image/jpeg:https://christchurchpettswood.org.uk/wp-content/uploads/2019/03/Coffee-and-cake-1920x1200.jpg
END:VEVENT
BEGIN:VEVENT
DTSTART;TZID=Europe/London:20201102T200000
DTEND;TZID=Europe/London:20201102T210000
DTSTAMP:20260421T063101
CREATED:20201019T184143Z
LAST-MODIFIED:20201019T184143Z
UID:6458-1604347200-1604350800@christchurchpettswood.org.uk
SUMMARY:Book Club - Faith\, hope and mischief
DESCRIPTION:The Christ Church book club will be meeting to discuss Faith\, Hope and Mischief – tiny acts of rebellion by Andrew Graystone. We are likely to be meeting on Zoom\, but watch this space and also emails. Please also message us if you haven’t joined our bookclub before\, new members very welcome!
URL:https://christchurchpettswood.org.uk/event/book-club-faith-hope-and-mischief/
CATEGORIES:Church Events
ATTACH;FMTTYPE=image/jpeg:https://christchurchpettswood.org.uk/wp-content/uploads/2020/10/faith-hope-and-mischief.jpg
END:VEVENT
BEGIN:VEVENT
DTSTART;TZID=Europe/London:20201101T103000
DTEND;TZID=Europe/London:20201101T111500
DTSTAMP:20260421T063101
CREATED:20201027T094016Z
LAST-MODIFIED:20201027T094016Z
UID:6489-1604226600-1604229300@christchurchpettswood.org.uk
SUMMARY:Family Worship with Holy Communion
DESCRIPTION:Please join us in person or via our You Tube channel: https://youtu.be/93Ta4v-_vpU for our family worship including Holy Communion this Sunday at 10.30am led by Mrs Katherine Copley. Please bring with you bread and water/juice/wine.
URL:https://christchurchpettswood.org.uk/event/family-worship-with-holy-communion-11/
LOCATION:Christ Church Petts Wood\, Tudor Way\, Orpington\, BR5 1LH\, United Kingdom
CATEGORIES:Church Events
ATTACH;FMTTYPE=image/jpeg:https://christchurchpettswood.org.uk/wp-content/uploads/2020/10/1st.jpg
END:VEVENT
BEGIN:VEVENT
DTSTART;TZID=Europe/London:20201030T103000
DTEND;TZID=Europe/London:20201030T111500
DTSTAMP:20260421T063101
CREATED:20201013T210212Z
LAST-MODIFIED:20201013T210212Z
UID:6430-1604053800-1604056500@christchurchpettswood.org.uk
SUMMARY:Coffee stop
DESCRIPTION:Join us from 10.30am each Friday morning for Coffee Stop. Whilst we are not able to meet physically we will be meeting via Zoom. The link will be shared by email. If you know someone who does not have access to Zoom do let them know they can now dial in\, please contact us for more details.
URL:https://christchurchpettswood.org.uk/event/coffee-stop-10/
CATEGORIES:Church Events
ATTACH;FMTTYPE=image/jpeg:https://christchurchpettswood.org.uk/wp-content/uploads/2019/03/Coffee-and-cake-1920x1200.jpg
END:VEVENT
BEGIN:VEVENT
DTSTART;TZID=Europe/London:20201023T103000
DTEND;TZID=Europe/London:20201023T120000
DTSTAMP:20260421T063101
CREATED:20201013T210056Z
LAST-MODIFIED:20201013T210056Z
UID:6428-1603449000-1603454400@christchurchpettswood.org.uk
SUMMARY:Coffee Stop
DESCRIPTION:Join us from 10.30am each Friday morning for Coffee Stop. Whilst we are not able to meet physically we will be meeting via Zoom. The link will be shared by email. If you know someone who does not have access to Zoom do let them know they can now dial in\, please contact us for more details.
URL:https://christchurchpettswood.org.uk/event/coffee-stop-9/
CATEGORIES:Church Events
ATTACH;FMTTYPE=image/jpeg:https://christchurchpettswood.org.uk/wp-content/uploads/2019/03/Coffee-and-cake-1920x1200.jpg
END:VEVENT
BEGIN:VEVENT
DTSTART;TZID=Europe/London:20201018T080000
DTEND;TZID=Europe/London:20201018T170000
DTSTAMP:20260421T063101
CREATED:20201013T200947Z
LAST-MODIFIED:20201013T200947Z
UID:6423-1603008000-1603040400@christchurchpettswood.org.uk
SUMMARY:Family Worship & Church of Youth
DESCRIPTION:Join us for Sunday Worship\, led by Adeola Owoade\, a candidate for the ministry\, on the theme of God’s unconditional love. No need to book\, please just turn up or watch on our YouTube channel\n\nOur Church of Youth will also be meeting\, to book free tickets for Church of Youth please use the Eventbrite link here https://www.eventbrite.co.uk/e/123191925365\nFor more information please don’t hesitate to contact the leaders at churchofyouth@ccpw.org.uk
URL:https://christchurchpettswood.org.uk/event/family-worship-church-of-youth/
LOCATION:Christ Church Petts Wood\, Tudor Way\, Orpington\, BR5 1LH\, United Kingdom
CATEGORIES:Children & Youth,Church Events
ATTACH;FMTTYPE=image/png:https://christchurchpettswood.org.uk/wp-content/uploads/2020/10/Advertising-18th-October-.png
END:VEVENT
BEGIN:VEVENT
DTSTART;TZID=Europe/London:20201016T103000
DTEND;TZID=Europe/London:20201016T111500
DTSTAMP:20260421T063101
CREATED:20201013T205834Z
LAST-MODIFIED:20201013T205834Z
UID:6426-1602844200-1602846900@christchurchpettswood.org.uk
SUMMARY:Coffee stop via zoom
DESCRIPTION:Join us from 10.30am each Friday morning for Coffee Stop. Whilst we are not able to meet physically we will be meeting via Zoom. The link will be shared by email. If you know someone who does not have access to Zoom do let them know they can now dial in\, please contact us for more details.
URL:https://christchurchpettswood.org.uk/event/coffee-stop-via-zoom-13/
CATEGORIES:Church Events
ATTACH;FMTTYPE=image/jpeg:https://christchurchpettswood.org.uk/wp-content/uploads/2019/03/Coffee-and-cake-1920x1200.jpg
END:VEVENT
BEGIN:VEVENT
DTSTART;TZID=Europe/London:20201015T200000
DTEND;TZID=Europe/London:20201015T210000
DTSTAMP:20260421T063101
CREATED:20200915T180217Z
LAST-MODIFIED:20200915T180217Z
UID:6331-1602792000-1602795600@christchurchpettswood.org.uk
SUMMARY:Bible Study - book of Esther - session 3 of 3
DESCRIPTION:Bible study on the Book of Esther\, delivered via Zoom in a series of 3 sessions. Led by Adeola Owoade. Contact nadene72@gmail.com for a zoom link
URL:https://christchurchpettswood.org.uk/event/bible-study-book-of-esther-session-3-of-3/
CATEGORIES:Church Events
ATTACH;FMTTYPE=image/jpeg:https://christchurchpettswood.org.uk/wp-content/uploads/2020/09/Esther.jpg
END:VEVENT
BEGIN:VEVENT
DTSTART;TZID=Europe/London:20201013T194500
DTEND;TZID=Europe/London:20201013T203000
DTSTAMP:20260421T063101
CREATED:20200907T094705Z
LAST-MODIFIED:20200907T094705Z
UID:6290-1602618300-1602621000@christchurchpettswood.org.uk
SUMMARY:Solace @ Home
DESCRIPTION:Delivered via Zoom\, on the 2nd Tuesday of each month at 7.45pm. Solace is also available on the website here \nSolace is a calm\, structured space for quiet\, reflection and prayer. Each session lasts about 40 minutes\, which includes some time to settle into your space\, go through your day with God using an Examen prayer\, reflect on a poem and an exercise based around a short Bible reading. \nThere are two periods of 15 minute silence built into each session – you shouldn’t need to pause or anything else during the time (unless you feel you want more time for one of the sections). \nYou’ll need a candle to light (if you have one) and a Bible\, but nothing else – instructions for the exercises will be on the screen to help you\, but if you want to read through them or give them a go in advance\, they can be found here
URL:https://christchurchpettswood.org.uk/event/solace-home-2/
CATEGORIES:Church Events
ATTACH;FMTTYPE=image/png:https://christchurchpettswood.org.uk/wp-content/uploads/2020/03/Advertsing-for-12-Solace-.png
END:VEVENT
BEGIN:VEVENT
DTSTART;TZID=Europe/London:20201012T110000
DTEND;TZID=Europe/London:20201012T130000
DTSTAMP:20260421T063101
CREATED:20200929T160403Z
LAST-MODIFIED:20200929T160413Z
UID:6378-1602500400-1602507600@christchurchpettswood.org.uk
SUMMARY:Private prayer
DESCRIPTION:We are open for socially distanced Private Prayer every Monday from 11am to 1pm. There will be sanitizer\, one way systems and a record of who arrives to keep us all safe. Watch our video to learn more about what to expect. You do not have to be a member to pop in\, whether it is for five minutes\, half an hour or the full session. There will be music playing to help you focus your thoughts and prayers. Please bring your own pen to be able to sign the register.
URL:https://christchurchpettswood.org.uk/event/private-prayer-14/
LOCATION:Christ Church Petts Wood\, Tudor Way\, Orpington\, BR5 1LH\, United Kingdom
CATEGORIES:Church Events
ATTACH;FMTTYPE=image/jpeg:https://christchurchpettswood.org.uk/wp-content/uploads/2020/09/prayer.jpg
END:VEVENT
BEGIN:VEVENT
DTSTART;TZID=Europe/London:20201005T200000
DTEND;TZID=Europe/London:20201005T210000
DTSTAMP:20260421T063101
CREATED:20200909T175223Z
LAST-MODIFIED:20200909T180502Z
UID:6308-1601928000-1601931600@christchurchpettswood.org.uk
SUMMARY:Book club - Year of Wonder
DESCRIPTION:Book club @ Christ Church will be discussing Year of wonder by Geraldine Brooks at the October meeting on 5th of October. Please contact us at sec@ccpw.org.uk for more details of how to join in and if this will be a virtual or in person meeting. \nWe always have a lively debate and if you are new to book clubs and looking for one that focuses on moral\, social or religious themes then get in touch! \n 
URL:https://christchurchpettswood.org.uk/event/book-club-year-of-wonder/
CATEGORIES:Church Events
ATTACH;FMTTYPE=image/jpeg:https://christchurchpettswood.org.uk/wp-content/uploads/2020/09/Year-of-Wonder.jpg
END:VEVENT
BEGIN:VEVENT
DTSTART;TZID=Europe/London:20201005T110000
DTEND;TZID=Europe/London:20201005T130000
DTSTAMP:20260421T063101
CREATED:20200929T160325Z
LAST-MODIFIED:20200929T160325Z
UID:6375-1601895600-1601902800@christchurchpettswood.org.uk
SUMMARY:Private Prayer
DESCRIPTION:We are open for socially distanced Private Prayer every Monday from 11am to 1pmThere will be sanitizer\, one way systems and a record of who arrives to keep us all safe. Watch our video to learn more about what to expect. You do not have to be a member to pop in\, whether it is for five minutes\, half an hour or the full session. There will be music playing to help you focus your thoughts and prayers. Please bring your own pen to be able to sign the register.
URL:https://christchurchpettswood.org.uk/event/private-prayer-13/
LOCATION:Christ Church Petts Wood\, Tudor Way\, Orpington\, BR5 1LH\, United Kingdom
CATEGORIES:Church Events
ATTACH;FMTTYPE=image/jpeg:https://christchurchpettswood.org.uk/wp-content/uploads/2020/09/prayer.jpg
END:VEVENT
BEGIN:VEVENT
DTSTART;TZID=Europe/London:20201004T103000
DTEND;TZID=Europe/London:20201004T111500
DTSTAMP:20260421T063101
CREATED:20200929T153303Z
LAST-MODIFIED:20200929T153303Z
UID:6373-1601807400-1601810100@christchurchpettswood.org.uk
SUMMARY:Sunday Family Worship with Holy Communion
DESCRIPTION:Join us for family worship at the Church building\, online (via our YouTube channel) or on the phone. As this is a Communion service please bring your own bread and wine/juice.\nThis service is led by our Minister Rev Nadene Snyman with music from our choir.
URL:https://christchurchpettswood.org.uk/event/sunday-family-worship-with-holy-communion-2/
LOCATION:Christ Church Petts Wood\, Tudor Way\, Orpington\, BR5 1LH\, United Kingdom
CATEGORIES:Church Events
ATTACH;FMTTYPE=image/jpeg:https://christchurchpettswood.org.uk/wp-content/uploads/2020/06/CommunionImage.jpg
END:VEVENT
END:VCALENDAR