BEGIN:VCALENDAR
VERSION:2.0
PRODID:-//Christ Church United Reformed Church, Petts Wood - ECPv6.15.20//NONSGML v1.0//EN
CALSCALE:GREGORIAN
METHOD:PUBLISH
X-WR-CALNAME:Christ Church United Reformed Church, Petts Wood
X-ORIGINAL-URL:https://christchurchpettswood.org.uk
X-WR-CALDESC:Events for Christ Church United Reformed Church, Petts Wood
REFRESH-INTERVAL;VALUE=DURATION:PT1H
X-Robots-Tag:noindex
X-PUBLISHED-TTL:PT1H
BEGIN:VTIMEZONE
TZID:Europe/London
BEGIN:DAYLIGHT
TZOFFSETFROM:+0000
TZOFFSETTO:+0100
TZNAME:BST
DTSTART:20200329T010000
END:DAYLIGHT
BEGIN:STANDARD
TZOFFSETFROM:+0100
TZOFFSETTO:+0000
TZNAME:GMT
DTSTART:20201025T010000
END:STANDARD
BEGIN:DAYLIGHT
TZOFFSETFROM:+0000
TZOFFSETTO:+0100
TZNAME:BST
DTSTART:20210328T010000
END:DAYLIGHT
BEGIN:STANDARD
TZOFFSETFROM:+0100
TZOFFSETTO:+0000
TZNAME:GMT
DTSTART:20211031T010000
END:STANDARD
BEGIN:DAYLIGHT
TZOFFSETFROM:+0000
TZOFFSETTO:+0100
TZNAME:BST
DTSTART:20220327T010000
END:DAYLIGHT
BEGIN:STANDARD
TZOFFSETFROM:+0100
TZOFFSETTO:+0000
TZNAME:GMT
DTSTART:20221030T010000
END:STANDARD
BEGIN:DAYLIGHT
TZOFFSETFROM:+0000
TZOFFSETTO:+0100
TZNAME:BST
DTSTART:20230326T010000
END:DAYLIGHT
BEGIN:STANDARD
TZOFFSETFROM:+0100
TZOFFSETTO:+0000
TZNAME:GMT
DTSTART:20231029T010000
END:STANDARD
END:VTIMEZONE
BEGIN:VEVENT
DTSTART;TZID=Europe/London:20220224T130000
DTEND;TZID=Europe/London:20220224T143000
DTSTAMP:20260420T062709
CREATED:20220131T195118Z
LAST-MODIFIED:20220131T195118Z
UID:9444-1645707600-1645713000@christchurchpettswood.org.uk
SUMMARY:Lunch Club
DESCRIPTION:The Lunch Club is there for the ‘mature of years’ or those who are feeling isolated. It is an opportunity to get together\, eat good food and share time with others.\nYou will be made very welcome.\nThis feast and friendship takes place in the Marlborough Hall every Thursday from 1pm.\nPlease contact welcome@ccpw.org.uk for more information
URL:https://christchurchpettswood.org.uk/event/lunch-club-7/
LOCATION:Christ Church Petts Wood\, Tudor Way\, Orpington\, BR5 1LH\, United Kingdom
CATEGORIES:Church Events
ATTACH;FMTTYPE=image/png:https://christchurchpettswood.org.uk/wp-content/uploads/2021/08/Lunch-Club-Advert-Screens.png
END:VEVENT
BEGIN:VEVENT
DTSTART;TZID=Europe/London:20220220T103000
DTEND;TZID=Europe/London:20220220T113000
DTSTAMP:20260420T062709
CREATED:20220214T213809Z
LAST-MODIFIED:20220214T213809Z
UID:9603-1645353000-1645356600@christchurchpettswood.org.uk
SUMMARY:Racial Justice Sunday
DESCRIPTION:Christ Church URC Family service led by our Minister for Racial Justice Sunday 20th February 2022 @10.30am \nIn Person and streamed to YouTube \nOrder of service: \nCall to Worship & Words of Welcome \nHymn: Christ be our light \nPrayer \nChildren’s address \nHymn: R&S 625 God of freedom\, God of justice \nNotices \nReadings: Proverbs 31: 8-9 & Colossians 3: 9-11 \nSermon \nHymn: R&S 474 Brother\, sister let me serve you \nPrayers of Intercession & Lord’s prayer \nHymn: R&S 531 Lord of all hopefulness \nBlessing & Grace \nJoin us for tea & coffee after the service which will be served to you in your seats
URL:https://christchurchpettswood.org.uk/event/racial-justice-sunday/
LOCATION:Christ Church Petts Wood\, Tudor Way\, Orpington\, BR5 1LH\, United Kingdom
CATEGORIES:Church Events
ATTACH;FMTTYPE=image/png:https://christchurchpettswood.org.uk/wp-content/uploads/2022/02/AdvertWelcome-1.png
END:VEVENT
BEGIN:VEVENT
DTSTART;TZID=Europe/London:20220218T103000
DTEND;TZID=Europe/London:20220218T120000
DTSTAMP:20260420T062709
CREATED:20220208T204140Z
LAST-MODIFIED:20220208T204140Z
UID:9513-1645180200-1645185600@christchurchpettswood.org.uk
SUMMARY:Coffee Stop
DESCRIPTION:Coffee Stop takes place every Friday in the Lounge (access from the Willet Way Car Park) from 10.30am to noon. You can pop in or stay for the whole time\, it is upto you.\nYou will be warmly welcomed.
URL:https://christchurchpettswood.org.uk/event/coffee-stop-38/
LOCATION:Christ Church Petts Wood\, Tudor Way\, Orpington\, BR5 1LH\, United Kingdom
CATEGORIES:Church Events
ATTACH;FMTTYPE=image/jpeg:https://christchurchpettswood.org.uk/wp-content/uploads/2019/03/Coffee-and-cake-1920x1200.jpg
END:VEVENT
BEGIN:VEVENT
DTSTART;TZID=Europe/London:20220217T130000
DTEND;TZID=Europe/London:20220217T143000
DTSTAMP:20260420T062709
CREATED:20220131T195022Z
LAST-MODIFIED:20220131T195022Z
UID:9442-1645102800-1645108200@christchurchpettswood.org.uk
SUMMARY:Lunch Club
DESCRIPTION:The Lunch Club is there for the ‘mature of years’ or those who are feeling isolated. It is an opportunity to get together\, eat good food and share time with others.\nYou will be made very welcome.\nThis feast and friendship takes place in the Marlborough Hall every Thursday from 1pm.\nPlease contact welcome@ccpw.org.uk for more information
URL:https://christchurchpettswood.org.uk/event/lunch-club-6/
LOCATION:Christ Church Petts Wood\, Tudor Way\, Orpington\, BR5 1LH\, United Kingdom
CATEGORIES:Church Events
ATTACH;FMTTYPE=image/png:https://christchurchpettswood.org.uk/wp-content/uploads/2021/08/Lunch-Club-Advert-Screens.png
END:VEVENT
BEGIN:VEVENT
DTSTART;TZID=Europe/London:20220213T103000
DTEND;TZID=Europe/London:20220213T113000
DTSTAMP:20260420T062709
CREATED:20220208T204014Z
LAST-MODIFIED:20220208T204014Z
UID:9510-1644748200-1644751800@christchurchpettswood.org.uk
SUMMARY:Sunday Family Worship
DESCRIPTION:Join our Family service led by our Minister Rev’d Nadene Snyman\n13th February 2022 from 10.30am\nIn Person and streamed to YouTube \nCall to Worship & Words of Welcome\nHymn: Let us build a house where love can dwell\nChildren’s address\nPrayers\nReading: Psalm 1\nHymn: R&S 712 All people that on earth do dwell\nNotices\nReading: Luke 6: 17-26\nSermon\nHymn: R&S 495 Father\, hear the prayer we offer\nPrayers of Intercession & Lord’s prayer\nHymn: R&S 558 Will you come and follow me\nBlessing & Grace\nJoin us for tea & coffee after the service which will be served to you in your seats
URL:https://christchurchpettswood.org.uk/event/sunday-family-worship-35/
LOCATION:Christ Church Petts Wood\, Tudor Way\, Orpington\, BR5 1LH\, United Kingdom
CATEGORIES:Church Events
ATTACH;FMTTYPE=image/png:https://christchurchpettswood.org.uk/wp-content/uploads/2022/02/AdvertWelcome.png
END:VEVENT
BEGIN:VEVENT
DTSTART;TZID=Europe/London:20220211T103000
DTEND;TZID=Europe/London:20220211T120000
DTSTAMP:20260420T062709
CREATED:20220125T160223Z
LAST-MODIFIED:20220125T160223Z
UID:9429-1644575400-1644580800@christchurchpettswood.org.uk
SUMMARY:Coffee Stop
DESCRIPTION:Coffee Stop takes place every Friday in the Lounge (access from the Willet Way Car Park) from 10.30am to noon. You can pop in or stay for the whole time\, it is upto you.\nYou will be warmly welcomed.
URL:https://christchurchpettswood.org.uk/event/coffee-stop-37/
LOCATION:Christ Church Petts Wood\, Tudor Way\, Orpington\, BR5 1LH\, United Kingdom
CATEGORIES:Church Events
ATTACH;FMTTYPE=image/jpeg:https://christchurchpettswood.org.uk/wp-content/uploads/2019/03/Coffee-and-cake-1920x1200.jpg
END:VEVENT
BEGIN:VEVENT
DTSTART;TZID=Europe/London:20220210T130000
DTEND;TZID=Europe/London:20220210T170000
DTSTAMP:20260420T062709
CREATED:20220131T194915Z
LAST-MODIFIED:20220131T194915Z
UID:9440-1644498000-1644512400@christchurchpettswood.org.uk
SUMMARY:Lunch Club
DESCRIPTION:The Lunch Club is there for the ‘mature of years’ or those who are feeling isolated. It is an opportunity to get together\, eat good food and share time with others.\nYou will be made very welcome.\nThis feast and friendship takes place in the Marlborough Hall every Thursday from 1pm.\nPlease contact welcome@ccpw.org.uk for more information
URL:https://christchurchpettswood.org.uk/event/lunch-club-5/
LOCATION:Christ Church Petts Wood\, Tudor Way\, Orpington\, BR5 1LH\, United Kingdom
CATEGORIES:Church Events
ATTACH;FMTTYPE=image/png:https://christchurchpettswood.org.uk/wp-content/uploads/2021/08/Lunch-Club-Advert-Screens.png
END:VEVENT
BEGIN:VEVENT
DTSTART;TZID=Europe/London:20220207T200000
DTEND;TZID=Europe/London:20220207T210000
DTSTAMP:20260420T062709
CREATED:20220117T205304Z
LAST-MODIFIED:20220117T205304Z
UID:9413-1644264000-1644267600@christchurchpettswood.org.uk
SUMMARY:Evening book club - Candles in the dark
DESCRIPTION:Candles in the dark – Faith\, hope & love in a time of Pandemic by Rowan Williams\n27 very short reflections which Rowan Williams delivered at his adopted church in Cambridge one year ago during Lent and beyond. The hope that the pandemic was coming to an end is clear throughout- little did he know!\nWe meet at 2pm on Thursday 3rd February and 8pm on Monday 7th February.\nPlease contact bookclub@ccpw.org.uk for more information\, you will be very welcome
URL:https://christchurchpettswood.org.uk/event/evening-book-club-candles-in-the-dark/
CATEGORIES:Church Events
ATTACH;FMTTYPE=image/jpeg:https://christchurchpettswood.org.uk/wp-content/uploads/2022/01/Book-Club-2022.jpg
END:VEVENT
BEGIN:VEVENT
DTSTART;TZID=Europe/London:20220206T160000
DTEND;TZID=Europe/London:20220206T180000
DTSTAMP:20260420T062709
CREATED:20220125T163842Z
LAST-MODIFIED:20220125T163842Z
UID:9431-1644163200-1644170400@christchurchpettswood.org.uk
SUMMARY:Cafe Church
DESCRIPTION:Join us for the relaxed style of Café Church the first Sunday of the month\, 4-6pm\, reflections\, activities and hot beverages and tasty treats. For all ages. All welcome.
URL:https://christchurchpettswood.org.uk/event/cafe-church-3/
LOCATION:Christ Church Petts Wood\, Tudor Way\, Orpington\, BR5 1LH\, United Kingdom
CATEGORIES:Church Events
ATTACH;FMTTYPE=image/png:https://christchurchpettswood.org.uk/wp-content/uploads/2021/08/Main-Cafe-Church-Advert-2.png
END:VEVENT
BEGIN:VEVENT
DTSTART;TZID=Europe/London:20220206T103000
DTEND;TZID=Europe/London:20220206T113000
DTSTAMP:20260420T062709
CREATED:20220228T193627Z
LAST-MODIFIED:20220228T193627Z
UID:9692-1644143400-1644147000@christchurchpettswood.org.uk
SUMMARY:Sunday Worship with Holy Communion
DESCRIPTION:Join us in person or on YouTube for our service of Worship with Holy Communion led by our Minister\, Rev Nadene Snyman.\nThere will be the opportunity for our young people to do their own craft and group activities.\nAll welcome
URL:https://christchurchpettswood.org.uk/event/sunday-worship-with-holy-communion-8/
LOCATION:Christ Church Petts Wood\, Tudor Way\, Orpington\, BR5 1LH\, United Kingdom
CATEGORIES:Church Events
ATTACH;FMTTYPE=image/png:https://christchurchpettswood.org.uk/wp-content/uploads/2022/02/Advert_welcome-screen.png
END:VEVENT
BEGIN:VEVENT
DTSTART;TZID=Europe/London:20220204T103000
DTEND;TZID=Europe/London:20220204T120000
DTSTAMP:20260420T062709
CREATED:20220125T160136Z
LAST-MODIFIED:20220125T160136Z
UID:9427-1643970600-1643976000@christchurchpettswood.org.uk
SUMMARY:Coffee Stop
DESCRIPTION:Coffee Stop takes place every Friday in the Lounge (access from the Willet Way Car Park) from 10.30am to noon. You can pop in or stay for the whole time\, it is upto you.\nYou will be warmly welcomed.
URL:https://christchurchpettswood.org.uk/event/coffee-stop-36/
LOCATION:Christ Church Petts Wood\, Tudor Way\, Orpington\, BR5 1LH\, United Kingdom
CATEGORIES:Church Events
ATTACH;FMTTYPE=image/jpeg:https://christchurchpettswood.org.uk/wp-content/uploads/2019/03/Coffee-and-cake-1920x1200.jpg
END:VEVENT
BEGIN:VEVENT
DTSTART;TZID=Europe/London:20220203T140000
DTEND;TZID=Europe/London:20220203T150000
DTSTAMP:20260420T062709
CREATED:20220117T205152Z
LAST-MODIFIED:20220117T205152Z
UID:9411-1643896800-1643900400@christchurchpettswood.org.uk
SUMMARY:Daytime book club - Candles in the dark
DESCRIPTION:Candles in the dark – Faith\, hope & love in a time of Pandemic by Rowan Williams\n27 very short reflections which Rowan Williams delivered at his adopted church in Cambridge one year ago during Lent and beyond. The hope that the pandemic was coming to an end is clear throughout- little did he know!\nWe meet at 2pm on Thursday 3rd February and 8pm on Monday 7th February.\nPlease contact bookclub@ccpw.org.uk for more information\, you will be very welcome
URL:https://christchurchpettswood.org.uk/event/daytime-book-club-candles-in-the-dark/
CATEGORIES:Church Events
ATTACH;FMTTYPE=image/jpeg:https://christchurchpettswood.org.uk/wp-content/uploads/2022/01/Book-Club-2022.jpg
END:VEVENT
BEGIN:VEVENT
DTSTART;TZID=Europe/London:20220203T130000
DTEND;TZID=Europe/London:20220203T143000
DTSTAMP:20260420T062709
CREATED:20220131T194823Z
LAST-MODIFIED:20220131T194823Z
UID:9438-1643893200-1643898600@christchurchpettswood.org.uk
SUMMARY:Lunch Club
DESCRIPTION:The Lunch Club is there for the ‘mature of years’ or those who are feeling isolated. It is an opportunity to get together\, eat good food and share time with others.\nYou will be made very welcome.\nThis feast and friendship takes place in the Marlborough Hall every Thursday from 1pm.\nPlease contact welcome@ccpw.org.uk for more information
URL:https://christchurchpettswood.org.uk/event/lunch-club-4/
LOCATION:Christ Church Petts Wood\, Tudor Way\, Orpington\, BR5 1LH\, United Kingdom
CATEGORIES:Church Events
ATTACH;FMTTYPE=image/png:https://christchurchpettswood.org.uk/wp-content/uploads/2021/08/Lunch-Club-Advert-Screens.png
END:VEVENT
BEGIN:VEVENT
DTSTART;TZID=Europe/London:20220130T114500
DTEND;TZID=Europe/London:20220130T124500
DTSTAMP:20260420T062709
CREATED:20220125T155821Z
LAST-MODIFIED:20220125T155821Z
UID:9422-1643543100-1643546700@christchurchpettswood.org.uk
SUMMARY:Church Meeting
DESCRIPTION:Church meeting takes place directly after the Church service on Sunday 30th January. Agendas and papers have been circulated and hardcopies will be available for those not on email. Any AOB in advance please to sec@ccpw.org.uk
URL:https://christchurchpettswood.org.uk/event/church-meeting-3/
LOCATION:Christ Church Petts Wood\, Tudor Way\, Orpington\, BR5 1LH\, United Kingdom
CATEGORIES:Church Events
ATTACH;FMTTYPE=image/png:https://christchurchpettswood.org.uk/wp-content/uploads/2022/01/Church-meeting.png
END:VEVENT
BEGIN:VEVENT
DTSTART;TZID=Europe/London:20220130T103000
DTEND;TZID=Europe/London:20220130T113000
DTSTAMP:20260420T062709
CREATED:20220125T154946Z
LAST-MODIFIED:20220125T154946Z
UID:9419-1643538600-1643542200@christchurchpettswood.org.uk
SUMMARY:Sunday Family Worship
DESCRIPTION:Join us in person or on YouTube for Sunday Family Worship from 10.30am led by our Minister\, Rev Nadene Snyman.\nAll Welcome\n\nOrder of service\nCall to Worship & Welcome\nHymn: SoF 443 Open our eyes Lord\, we\nwant to see Jesus\nOpening prayer\nNotices\nHymn: R&S 492 Dear Lord & Father of\nmankind (tune Repton)\nReadings: Jeremiah 1: 4-10 & Luke 4: 21-30\nSermon\nHymn: R&S 620 For the healing of the nations\nPrayers of Intercession\nHymn:  R&S 538 Teach me\, my God and King\nBlessing & Grace \nJoin us for online tea & coffee after the service which will be served to you in your seats\, quickly followed by Church Meeting
URL:https://christchurchpettswood.org.uk/event/sunday-family-worship-34/
LOCATION:Christ Church Petts Wood\, Tudor Way\, Orpington\, BR5 1LH\, United Kingdom
CATEGORIES:Church Events
ATTACH;FMTTYPE=image/png:https://christchurchpettswood.org.uk/wp-content/uploads/2022/01/Advert-1.png
END:VEVENT
BEGIN:VEVENT
DTSTART;TZID=Europe/London:20220128T103000
DTEND;TZID=Europe/London:20220128T120000
DTSTAMP:20260420T062709
CREATED:20220125T160007Z
LAST-MODIFIED:20220125T160007Z
UID:9425-1643365800-1643371200@christchurchpettswood.org.uk
SUMMARY:Coffee Stop
DESCRIPTION:Coffee Stop takes place every Friday in the Lounge (access from the Willet Way Car Park) from 10.30am to noon. You can pop in or stay for the whole time\, it is upto you.\nYou will be warmly welcomed.
URL:https://christchurchpettswood.org.uk/event/coffee-stop-35/
LOCATION:Christ Church Petts Wood\, Tudor Way\, Orpington\, BR5 1LH\, United Kingdom
CATEGORIES:Church Events
ATTACH;FMTTYPE=image/jpeg:https://christchurchpettswood.org.uk/wp-content/uploads/2019/03/Coffee-and-cake-1920x1200.jpg
END:VEVENT
BEGIN:VEVENT
DTSTART;TZID=Europe/London:20220116T103000
DTEND;TZID=Europe/London:20220116T111500
DTSTAMP:20260420T062709
CREATED:20220111T193354Z
LAST-MODIFIED:20220111T193354Z
UID:9399-1642329000-1642331700@christchurchpettswood.org.uk
SUMMARY:Sunday Family Worship online
DESCRIPTION:Join us on Zoom or watch in your PJs on YouTube. \nOur service on Sunday 16th of January is being led by Mrs K Copley\, on the theme of ‘All in God’s Time’\, the order of service is as below: \nWelcome \nCall to Worship \nHymn: Lord of all Hopefulness \nPrayers of Thanksgiving & Confession & The Lord’s Prayer \nBible Reading: John 2: 1-11 \nAll Age Talk \nSong: Give thanks with a Grateful Heart \nNotices & Offertory Prayer \nHymn: Immortal Invisible \nReflection \nPrayers of Intercession \nSong: Shine Jesus Shine \nBlessing \nPlease contact us via welcome@ccpw.org.uk for the zoom link. \nWe are reviewing Covid levels on Monday 17th and will be updating as to whether future services are in the Church (and streamed to youtube) or continue for a while longer online.
URL:https://christchurchpettswood.org.uk/event/sunday-family-worship-online/
CATEGORIES:Church Events
ATTACH;FMTTYPE=image/png:https://christchurchpettswood.org.uk/wp-content/uploads/2022/01/Advert-160122.png
END:VEVENT
BEGIN:VEVENT
DTSTART;TZID=Europe/London:20220110T200000
DTEND;TZID=Europe/London:20220110T210000
DTSTAMP:20260420T062709
CREATED:20220101T112504Z
LAST-MODIFIED:20220101T112504Z
UID:9376-1641844800-1641848400@christchurchpettswood.org.uk
SUMMARY:Bookclub - Heart of Oneness
DESCRIPTION:A week later than usual due to the public holiday on the first Monday of the month we will be discussing Heart of Oneness by Jennifer Kavanagh.\nWe are holding this month’s meeting on Zoom due to covid levels in the local community\, a link will be emailed to members nearer the time\, or email bookclub@ccpw.org.uk
URL:https://christchurchpettswood.org.uk/event/bookclub-heart-of-oneness/
CATEGORIES:Church Events
ATTACH;FMTTYPE=image/jpeg:https://christchurchpettswood.org.uk/wp-content/uploads/2022/01/Heartofoneness.jpg
END:VEVENT
BEGIN:VEVENT
DTSTART;TZID=Europe/London:20220109T103000
DTEND;TZID=Europe/London:20220109T113000
DTSTAMP:20260420T062709
CREATED:20220104T210912Z
LAST-MODIFIED:20220104T210912Z
UID:9386-1641724200-1641727800@christchurchpettswood.org.uk
SUMMARY:Sunday Worship Online
DESCRIPTION:Worship on Sunday 9th January from 10.30am is being led by Revd Bill Bowman\, please contact us on welcome@ccpw.org.uk for the zoom link\, or watch on YouTube here \nOrder of service: \nNotices \nCall to worship \nHymn – “Lord for the Years” (clip) \nPrayer and Lord’s Prayer \nAll age talk – power point attached \nHymn – “Such love” (clip) \nReadings 1) Isaiah 43:1-7 \n                 2) Luke 3:15-17 & 21-22 \nSermon – The Baptism of Jesus \nHymn – “A new commandment” (clip) \nPrayers of Intercession \nHymn – “Thou didst leave thy throne” (clip) \nBlessing
URL:https://christchurchpettswood.org.uk/event/sunday-worship-online-8/
CATEGORIES:Church Events
ATTACH;FMTTYPE=image/png:https://christchurchpettswood.org.uk/wp-content/uploads/2022/01/9th-January-Zoom-Advert.png
END:VEVENT
BEGIN:VEVENT
DTSTART;TZID=Europe/London:20220102T103000
DTEND;TZID=Europe/London:20220102T111500
DTSTAMP:20260420T062709
CREATED:20211230T102827Z
LAST-MODIFIED:20211230T102827Z
UID:9373-1641119400-1641122100@christchurchpettswood.org.uk
SUMMARY:Sunday Worship with Holy Communion online
DESCRIPTION:Service led by our Minister\, Rev’d Nadene Snyman.\nAll are welcome to join in our service.\nWhile Covid rates in our community are high we are taking services online upto and including 17th of January. Please join us on YouTube https://www.youtube.com/c/ChristChurchPettsWood or Zoom (link to be emailed\, contact welcome@ccpw.org.uk for more details)\nOrder of Service:\nCall to worship & Welcome\nPrayer and Lord’s Prayer\nHymn Love came down at Christmas (clip)\nReading Matthew 2:1-12\nSermon\nHymn See him lying on a bed of straw (clip)\nCommunion\nHymn Come and join the celebration (clip)\nBlessing\nGrace
URL:https://christchurchpettswood.org.uk/event/sunday-worship-with-holy-communion-online/
CATEGORIES:Church Events
ATTACH;FMTTYPE=image/png:https://christchurchpettswood.org.uk/wp-content/uploads/2021/12/Sunday-2-Advert.png
END:VEVENT
BEGIN:VEVENT
DTSTART;TZID=Europe/London:20211225T100000
DTEND;TZID=Europe/London:20211225T110000
DTSTAMP:20260420T062709
CREATED:20211120T093527Z
LAST-MODIFIED:20211120T093527Z
UID:9341-1640426400-1640430000@christchurchpettswood.org.uk
SUMMARY:Christmas Day Service
DESCRIPTION:Join us on Christmas Day morning for a relaxed family service. Welcome our saviour into the world with joy. Note the time is 10am. All welcome.
URL:https://christchurchpettswood.org.uk/event/christmas-day-service/
LOCATION:Christ Church Petts Wood\, Tudor Way\, Orpington\, BR5 1LH\, United Kingdom
CATEGORIES:Church Events
ATTACH;FMTTYPE=image/png:https://christchurchpettswood.org.uk/wp-content/uploads/2021/10/Christmas-Day-service.png
END:VEVENT
BEGIN:VEVENT
DTSTART;TZID=Europe/London:20211224T233000
DTEND;TZID=Europe/London:20211225T003000
DTSTAMP:20260420T062709
CREATED:20211120T092922Z
LAST-MODIFIED:20211120T092922Z
UID:9339-1640388600-1640392200@christchurchpettswood.org.uk
SUMMARY:Christmas Eve midnight Holy Communion
DESCRIPTION:Join us from 11.30pm for a service of Holy Communion led by our Minister Rev Nadene Snyman. All welcome for this special service
URL:https://christchurchpettswood.org.uk/event/christmas-eve-midnight-holy-communion/
LOCATION:Christ Church Petts Wood\, Tudor Way\, Orpington\, BR5 1LH\, United Kingdom
CATEGORIES:Church Events
ATTACH;FMTTYPE=image/png:https://christchurchpettswood.org.uk/wp-content/uploads/2021/10/Christmas-Eve.png
END:VEVENT
BEGIN:VEVENT
DTSTART;TZID=Europe/London:20211219T183000
DTEND;TZID=Europe/London:20211219T193000
DTSTAMP:20260420T062709
CREATED:20211120T092603Z
LAST-MODIFIED:20211120T092603Z
UID:9337-1639938600-1639942200@christchurchpettswood.org.uk
SUMMARY:Service of lessons and carols
DESCRIPTION:Join us from 6.30pm on Sunday 19th December for a service of lessons and carols. All welcome
URL:https://christchurchpettswood.org.uk/event/service-of-lessons-and-carols/
LOCATION:Christ Church Petts Wood\, Tudor Way\, Orpington\, BR5 1LH\, United Kingdom
CATEGORIES:Church Events
ATTACH;FMTTYPE=image/png:https://christchurchpettswood.org.uk/wp-content/uploads/2021/10/Lessons-and-Carols.png
END:VEVENT
BEGIN:VEVENT
DTSTART;TZID=Europe/London:20211212T103000
DTEND;TZID=Europe/London:20211212T113000
DTSTAMP:20260420T062709
CREATED:20211120T092237Z
LAST-MODIFIED:20211120T092237Z
UID:9335-1639305000-1639308600@christchurchpettswood.org.uk
SUMMARY:Nativity and carol service
DESCRIPTION:Join us for our nativity and carol service from 10.30am on Sunday 12th of December. We are delighted to be joined by the Christ Church orchestra. All welcome.
URL:https://christchurchpettswood.org.uk/event/nativity-and-carol-service/
LOCATION:Christ Church Petts Wood\, Tudor Way\, Orpington\, BR5 1LH\, United Kingdom
CATEGORIES:Children & Youth,Church Events
ATTACH;FMTTYPE=image/png:https://christchurchpettswood.org.uk/wp-content/uploads/2021/10/Nativity-Service.png
END:VEVENT
BEGIN:VEVENT
DTSTART;TZID=Europe/London:20211210T103000
DTEND;TZID=Europe/London:20211210T120000
DTSTAMP:20260420T062709
CREATED:20211120T091152Z
LAST-MODIFIED:20211120T091152Z
UID:9331-1639132200-1639137600@christchurchpettswood.org.uk
SUMMARY:Coffee Stop
DESCRIPTION:Coffee Stop takes place every Friday in the Lounge (access from the Willet Way Car Park) from 10.30am to noon. You can pop in or stay for the whole time\, it is upto you. Tea\, coffee\, cakes and conversation. \nYou will be warmly welcomed.
URL:https://christchurchpettswood.org.uk/event/coffee-stop-34/
LOCATION:Christ Church Petts Wood\, Tudor Way\, Orpington\, BR5 1LH\, United Kingdom
CATEGORIES:Church Events
ATTACH;FMTTYPE=image/jpeg:https://christchurchpettswood.org.uk/wp-content/uploads/2019/03/Coffee-and-cake-1920x1200.jpg
END:VEVENT
BEGIN:VEVENT
DTSTART;TZID=Europe/London:20211209T140000
DTEND;TZID=Europe/London:20211209T153000
DTSTAMP:20260420T062709
CREATED:20211120T090124Z
LAST-MODIFIED:20211120T090124Z
UID:9323-1639058400-1639063800@christchurchpettswood.org.uk
SUMMARY:Daytime book club - The box of delights
DESCRIPTION:December Book Club is exploring A box of delights by John Masefield – A children’s fantasy novel published in 1935 with deep spiritual meaning and ending on Christmas eve! Email bookclub@ccpw.org.uk for more details.
URL:https://christchurchpettswood.org.uk/event/daytime-book-club-the-box-of-delights/
CATEGORIES:Church Events
ATTACH;FMTTYPE=image/jpeg:https://christchurchpettswood.org.uk/wp-content/uploads/2021/11/Box-of-Delights-2-e1636187139219.jpg
END:VEVENT
BEGIN:VEVENT
DTSTART;TZID=Europe/London:20211206T200000
DTEND;TZID=Europe/London:20211206T213000
DTSTAMP:20260420T062709
CREATED:20211106T082900Z
LAST-MODIFIED:20211106T082900Z
UID:9311-1638820800-1638826200@christchurchpettswood.org.uk
SUMMARY:Evening book club - A box of delights
DESCRIPTION:December Book Club is exploring A box of delights by John Masefield – A children’s fantasy novel published in 1935 with deep spiritual meaning and ending on Christmas eve! Email bookclub@ccpw.org.uk for more details.
URL:https://christchurchpettswood.org.uk/event/evening-book-club-a-box-of-delights/
LOCATION:13 Fieldway\, BR5 1JP
CATEGORIES:Church Events
ATTACH;FMTTYPE=image/jpeg:https://christchurchpettswood.org.uk/wp-content/uploads/2021/11/Box-of-Delights-2-e1636187139219.jpg
END:VEVENT
BEGIN:VEVENT
DTSTART;TZID=Europe/London:20211205T103000
DTEND;TZID=Europe/London:20211205T113000
DTSTAMP:20260420T062709
CREATED:20211120T091922Z
LAST-MODIFIED:20211120T091922Z
UID:9333-1638700200-1638703800@christchurchpettswood.org.uk
SUMMARY:Sunday Toy Service
DESCRIPTION:Join us on 5th December from 10.30am for Sunday Worship\, Holy Communion and the giving of new toys for the charity Alternatives.
URL:https://christchurchpettswood.org.uk/event/sunday-toy-service/
LOCATION:Christ Church Petts Wood\, Tudor Way\, Orpington\, BR5 1LH\, United Kingdom
CATEGORIES:Church Events
ATTACH;FMTTYPE=image/png:https://christchurchpettswood.org.uk/wp-content/uploads/2021/10/Toy-Service.png
END:VEVENT
BEGIN:VEVENT
DTSTART;TZID=Europe/London:20211203T103000
DTEND;TZID=Europe/London:20211203T120000
DTSTAMP:20260420T062709
CREATED:20211120T091040Z
LAST-MODIFIED:20211120T091040Z
UID:9329-1638527400-1638532800@christchurchpettswood.org.uk
SUMMARY:Coffee Stop
DESCRIPTION:Coffee Stop takes place every Friday in the Lounge (access from the Willet Way Car Park) from 10.30am to noon. You can pop in or stay for the whole time\, it is upto you. Tea\, coffee\, cakes and conversation. \nYou will be warmly welcomed.
URL:https://christchurchpettswood.org.uk/event/coffee-stop-33/
LOCATION:Christ Church Petts Wood\, Tudor Way\, Orpington\, BR5 1LH\, United Kingdom
CATEGORIES:Church Events
ATTACH;FMTTYPE=image/jpeg:https://christchurchpettswood.org.uk/wp-content/uploads/2019/03/Coffee-and-cake-1920x1200.jpg
END:VEVENT
BEGIN:VEVENT
DTSTART;TZID=Europe/London:20211126T103000
DTEND;TZID=Europe/London:20211126T120000
DTSTAMP:20260420T062709
CREATED:20211120T090935Z
LAST-MODIFIED:20211120T090935Z
UID:9327-1637922600-1637928000@christchurchpettswood.org.uk
SUMMARY:Coffee Stop
DESCRIPTION:Coffee Stop takes place every Friday in the Lounge (access from the Willet Way Car Park) from 10.30am to noon. You can pop in or stay for the whole time\, it is upto you. Tea\, coffee\, cakes and conversation. \nYou will be warmly welcomed.
URL:https://christchurchpettswood.org.uk/event/coffee-stop-32/
LOCATION:Christ Church Petts Wood\, Tudor Way\, Orpington\, BR5 1LH\, United Kingdom
CATEGORIES:Church Events
ATTACH;FMTTYPE=image/jpeg:https://christchurchpettswood.org.uk/wp-content/uploads/2019/03/Coffee-and-cake-1920x1200.jpg
END:VEVENT
END:VCALENDAR