BEGIN:VCALENDAR
VERSION:2.0
PRODID:-//Christ Church United Reformed Church, Petts Wood - ECPv6.15.20//NONSGML v1.0//EN
CALSCALE:GREGORIAN
METHOD:PUBLISH
X-ORIGINAL-URL:https://christchurchpettswood.org.uk
X-WR-CALDESC:Events for Christ Church United Reformed Church, Petts Wood
REFRESH-INTERVAL;VALUE=DURATION:PT1H
X-Robots-Tag:noindex
X-PUBLISHED-TTL:PT1H
BEGIN:VTIMEZONE
TZID:Europe/London
BEGIN:DAYLIGHT
TZOFFSETFROM:+0000
TZOFFSETTO:+0100
TZNAME:BST
DTSTART:20220327T010000
END:DAYLIGHT
BEGIN:STANDARD
TZOFFSETFROM:+0100
TZOFFSETTO:+0000
TZNAME:GMT
DTSTART:20221030T010000
END:STANDARD
BEGIN:DAYLIGHT
TZOFFSETFROM:+0000
TZOFFSETTO:+0100
TZNAME:BST
DTSTART:20230326T010000
END:DAYLIGHT
BEGIN:STANDARD
TZOFFSETFROM:+0100
TZOFFSETTO:+0000
TZNAME:GMT
DTSTART:20231029T010000
END:STANDARD
BEGIN:DAYLIGHT
TZOFFSETFROM:+0000
TZOFFSETTO:+0100
TZNAME:BST
DTSTART:20240331T010000
END:DAYLIGHT
BEGIN:STANDARD
TZOFFSETFROM:+0100
TZOFFSETTO:+0000
TZNAME:GMT
DTSTART:20241027T010000
END:STANDARD
END:VTIMEZONE
BEGIN:VEVENT
DTSTART;TZID=Europe/London:20231203T103000
DTEND;TZID=Europe/London:20231203T113000
DTSTAMP:20260419T192220
CREATED:20231111T152318Z
LAST-MODIFIED:20231111T152318Z
UID:10968-1701599400-1701603000@christchurchpettswood.org.uk
SUMMARY:Toy service
DESCRIPTION:Our service at Christ Church Petts Wood on Sunday 3rd December takes place in person and on YouTube from 10.30am and is being led by our Minister\, Rev Nadene Snyman. All welcome\, refreshments will be served after the service.\nThis service will be our ‘Toy Service’ where those who are able bring a new toy (no battery operated ones) or a donation for Alternatives\, a chartity that looks after disadvantaged mothers and their children. Sometimes the gifts that the children get from Alternatives is the only gift that child gets for Christmas.
URL:https://christchurchpettswood.org.uk/event/toy-service/
LOCATION:Christ Church Petts Wood\, Tudor Way\, Orpington\, BR5 1LH\, United Kingdom
CATEGORIES:Children & Youth,Church Events
ATTACH;FMTTYPE=image/jpeg:https://christchurchpettswood.org.uk/wp-content/uploads/2023/11/Toy-Service-Advert.jpg
END:VEVENT
BEGIN:VEVENT
DTSTART;TZID=Europe/London:20231210T150000
DTEND;TZID=Europe/London:20231210T160000
DTSTAMP:20260419T192220
CREATED:20231111T152034Z
LAST-MODIFIED:20231111T152034Z
UID:10965-1702220400-1702224000@christchurchpettswood.org.uk
SUMMARY:Afternoon carol service
DESCRIPTION:Our very popular family carol service takes place from 3pm on Sunday 10th December at Christ Church Petts Wood. All welcome\, refreshments will be served after the service.
URL:https://christchurchpettswood.org.uk/event/afternoon-carol-service/
LOCATION:Christ Church Petts Wood\, Tudor Way\, Orpington\, BR5 1LH\, United Kingdom
CATEGORIES:Children & Youth,Church Events
ATTACH;FMTTYPE=image/jpeg:https://christchurchpettswood.org.uk/wp-content/uploads/2023/11/Advert-Family-Carols-10th.jpg
END:VEVENT
BEGIN:VEVENT
DTSTART;TZID=Europe/London:20231217T103000
DTEND;TZID=Europe/London:20231217T113000
DTSTAMP:20260419T192220
CREATED:20231111T151841Z
LAST-MODIFIED:20231111T155021Z
UID:10962-1702809000-1702812600@christchurchpettswood.org.uk
SUMMARY:Nativity service
DESCRIPTION:Our Nativity service at Christ Church Petts Wood on Sunday 17th December takes place in person and on YouTube from 10.30am and is being led by our Church of Youth leaders and members. All welcome\, refreshments will be served after the service. If you don’t usually come to church but would like your children to take part please get in touch via welcome@ccpw.org.uk and we will pass on more information about rehearsals or options for turning up on the day
URL:https://christchurchpettswood.org.uk/event/nativity-service-2/
LOCATION:Christ Church Petts Wood\, Tudor Way\, Orpington\, BR5 1LH\, United Kingdom
CATEGORIES:Children & Youth,Church Events
ATTACH;FMTTYPE=image/jpeg:https://christchurchpettswood.org.uk/wp-content/uploads/2023/11/Adveert-Nativity-Sunday-17th.jpg
END:VEVENT
BEGIN:VEVENT
DTSTART;TZID=Europe/London:20231224T103000
DTEND;TZID=Europe/London:20231224T113000
DTSTAMP:20260419T192220
CREATED:20231111T152853Z
LAST-MODIFIED:20231219T195643Z
UID:10971-1703413800-1703417400@christchurchpettswood.org.uk
SUMMARY:Christmas Eve Christingle service
DESCRIPTION:Join us from 10.30am on Sunday 24th December\, Christmas Eve for a Christingle service\, make your own Christingle symbolising the light of Christ and bringing hope to people living in darkness\, fun and worship for all ages. \nOrder of service: \nCall to Worship \nWelcome \nLighting the Advent Candle \nCHOIR ANTHEM \nPrayer and The Lord’s Prayer \nHymn R&S 145 O Little town of Bethlehem \nReading Luke 2:1 – 7 \nReadings Luke 2: 8-14 \nWhat is a Christingle? \nOffering \nNotices \nHymn We three kings \nSermon/Christingle \nHymn R&S 159 Hark! The herald-angels sing \nPrayers of Intercession \nHymn SoF 362 Shine Jesus Shine \nBlessing & Grace
URL:https://christchurchpettswood.org.uk/event/christmas-eve-christingle-service/
LOCATION:Christ Church Petts Wood\, Tudor Way\, Orpington\, BR5 1LH\, United Kingdom
CATEGORIES:Children & Youth,Church Events
ATTACH;FMTTYPE=image/jpeg:https://christchurchpettswood.org.uk/wp-content/uploads/2023/11/Advert-Christingle.jpg
END:VEVENT
END:VCALENDAR