BEGIN:VCALENDAR
VERSION:2.0
PRODID:-//Christ Church United Reformed Church, Petts Wood - ECPv6.15.20//NONSGML v1.0//EN
CALSCALE:GREGORIAN
METHOD:PUBLISH
X-ORIGINAL-URL:https://christchurchpettswood.org.uk
X-WR-CALDESC:Events for Christ Church United Reformed Church, Petts Wood
REFRESH-INTERVAL;VALUE=DURATION:PT1H
X-Robots-Tag:noindex
X-PUBLISHED-TTL:PT1H
BEGIN:VTIMEZONE
TZID:Europe/London
BEGIN:DAYLIGHT
TZOFFSETFROM:+0000
TZOFFSETTO:+0100
TZNAME:BST
DTSTART:20210328T010000
END:DAYLIGHT
BEGIN:STANDARD
TZOFFSETFROM:+0100
TZOFFSETTO:+0000
TZNAME:GMT
DTSTART:20211031T010000
END:STANDARD
BEGIN:DAYLIGHT
TZOFFSETFROM:+0000
TZOFFSETTO:+0100
TZNAME:BST
DTSTART:20220327T010000
END:DAYLIGHT
BEGIN:STANDARD
TZOFFSETFROM:+0100
TZOFFSETTO:+0000
TZNAME:GMT
DTSTART:20221030T010000
END:STANDARD
BEGIN:DAYLIGHT
TZOFFSETFROM:+0000
TZOFFSETTO:+0100
TZNAME:BST
DTSTART:20230326T010000
END:DAYLIGHT
BEGIN:STANDARD
TZOFFSETFROM:+0100
TZOFFSETTO:+0000
TZNAME:GMT
DTSTART:20231029T010000
END:STANDARD
END:VTIMEZONE
BEGIN:VEVENT
DTSTART;TZID=Europe/London:20220821T103000
DTEND;TZID=Europe/London:20220821T120000
DTSTAMP:20260419T131858
CREATED:20220816T195014Z
LAST-MODIFIED:20220816T195014Z
UID:10097-1661077800-1661083200@christchurchpettswood.org.uk
SUMMARY:Sunday Family Worship
DESCRIPTION:Family Worship led by Rev Bill Bowman\, in person and on YouTube 21st August 2022 from 10.30am \nOrder of service: \nNotices \nCall to worship \nHymn – 45 R&S “Morning has broken” \nPrayer and Lord’s Prayer \nAll age talk \nHymn – 90 R&S “O Lord all the world belongs to you” \nReading – Luke 13:10-17 \nSermon \nHymn – 583 R&S “The church is wherever God’s people are praising”  \nPrayers of Intercession \nOffering and Dedication \nHymn – 572 R&S “Colours of day” \nBlessing and the Grace \nPlease join us for tea & coffee after the service
URL:https://christchurchpettswood.org.uk/event/sunday-family-worship-43/
LOCATION:Christ Church Petts Wood\, Tudor Way\, Orpington\, BR5 1LH\, United Kingdom
CATEGORIES:Church Events
ATTACH;FMTTYPE=image/jpeg:https://christchurchpettswood.org.uk/wp-content/uploads/2022/08/210822-Advert.jpg
END:VEVENT
END:VCALENDAR