BEGIN:VCALENDAR
VERSION:2.0
PRODID:-//Christ Church United Reformed Church, Petts Wood - ECPv6.15.20//NONSGML v1.0//EN
CALSCALE:GREGORIAN
METHOD:PUBLISH
X-ORIGINAL-URL:https://christchurchpettswood.org.uk
X-WR-CALDESC:Events for Christ Church United Reformed Church, Petts Wood
REFRESH-INTERVAL;VALUE=DURATION:PT1H
X-Robots-Tag:noindex
X-PUBLISHED-TTL:PT1H
BEGIN:VTIMEZONE
TZID:Europe/London
BEGIN:DAYLIGHT
TZOFFSETFROM:+0000
TZOFFSETTO:+0100
TZNAME:BST
DTSTART:20210328T010000
END:DAYLIGHT
BEGIN:STANDARD
TZOFFSETFROM:+0100
TZOFFSETTO:+0000
TZNAME:GMT
DTSTART:20211031T010000
END:STANDARD
BEGIN:DAYLIGHT
TZOFFSETFROM:+0000
TZOFFSETTO:+0100
TZNAME:BST
DTSTART:20220327T010000
END:DAYLIGHT
BEGIN:STANDARD
TZOFFSETFROM:+0100
TZOFFSETTO:+0000
TZNAME:GMT
DTSTART:20221030T010000
END:STANDARD
BEGIN:DAYLIGHT
TZOFFSETFROM:+0000
TZOFFSETTO:+0100
TZNAME:BST
DTSTART:20230326T010000
END:DAYLIGHT
BEGIN:STANDARD
TZOFFSETFROM:+0100
TZOFFSETTO:+0000
TZNAME:GMT
DTSTART:20231029T010000
END:STANDARD
END:VTIMEZONE
BEGIN:VEVENT
DTSTART;TZID=Europe/London:20220731T103000
DTEND;TZID=Europe/London:20220731T113000
DTSTAMP:20260419T164605
CREATED:20220721T175343Z
LAST-MODIFIED:20220725T150746Z
UID:10046-1659263400-1659267000@christchurchpettswood.org.uk
SUMMARY:Sunday Family Worship
DESCRIPTION:All welcome! Our service this Sunday is led by our Minister\, Rev’d Nadene Snyman from 10.30am. If you are unable to join us in person the service will be livestreamed to YouTube \nOrder of Service for Christ Church URC 31st July led by our Minister \nCall to worship & Welcome \nOpening Prayer and Lord’s Prayer \nChildren’s Address \nHymn SoF27 As the deer pants for water \nNotices \nOffering \nReading Psalm 49.1-12 \nReading Luke 12.13-21 \nHymn R&S 85 God in his love lent us his planet \nSermon \nHymn R&S 509 O Jesus I have promised  \nPrayers of Intercession \nHymn R&S 489 Be Thou my vision\, Lord of my heart \nBlessing \nGrace \nPlease join us for tea & coffee after the service
URL:https://christchurchpettswood.org.uk/event/sunday-family-worship-42/
LOCATION:Christ Church Petts Wood\, Tudor Way\, Orpington\, BR5 1LH\, United Kingdom
CATEGORIES:Church Events
ATTACH;FMTTYPE=image/png:https://christchurchpettswood.org.uk/wp-content/uploads/2022/07/Advert-31st.png
END:VEVENT
END:VCALENDAR