BEGIN:VCALENDAR
VERSION:2.0
PRODID:-//Christ Church United Reformed Church, Petts Wood - ECPv6.15.20//NONSGML v1.0//EN
CALSCALE:GREGORIAN
METHOD:PUBLISH
X-WR-CALNAME:Christ Church United Reformed Church, Petts Wood
X-ORIGINAL-URL:https://christchurchpettswood.org.uk
X-WR-CALDESC:Events for Christ Church United Reformed Church, Petts Wood
REFRESH-INTERVAL;VALUE=DURATION:PT1H
X-Robots-Tag:noindex
X-PUBLISHED-TTL:PT1H
BEGIN:VTIMEZONE
TZID:Europe/London
BEGIN:DAYLIGHT
TZOFFSETFROM:+0000
TZOFFSETTO:+0100
TZNAME:BST
DTSTART:20210328T010000
END:DAYLIGHT
BEGIN:STANDARD
TZOFFSETFROM:+0100
TZOFFSETTO:+0000
TZNAME:GMT
DTSTART:20211031T010000
END:STANDARD
BEGIN:DAYLIGHT
TZOFFSETFROM:+0000
TZOFFSETTO:+0100
TZNAME:BST
DTSTART:20220327T010000
END:DAYLIGHT
BEGIN:STANDARD
TZOFFSETFROM:+0100
TZOFFSETTO:+0000
TZNAME:GMT
DTSTART:20221030T010000
END:STANDARD
BEGIN:DAYLIGHT
TZOFFSETFROM:+0000
TZOFFSETTO:+0100
TZNAME:BST
DTSTART:20230326T010000
END:DAYLIGHT
BEGIN:STANDARD
TZOFFSETFROM:+0100
TZOFFSETTO:+0000
TZNAME:GMT
DTSTART:20231029T010000
END:STANDARD
END:VTIMEZONE
BEGIN:VEVENT
DTSTART;TZID=Europe/London:20220724T103000
DTEND;TZID=Europe/London:20220724T113000
DTSTAMP:20260419T164536
CREATED:20220721T175108Z
LAST-MODIFIED:20220721T175108Z
UID:10043-1658658600-1658662200@christchurchpettswood.org.uk
SUMMARY:Sunday Family Worship
DESCRIPTION:All welcome! If you are unable to join us in person the service will be livestreamed to YouTube\nOrder of Service for Christ Church URC 24th July 2022 led by our Minister\nCall to worship\nWelcome\nOpening Prayer and Lord’s Prayer\nHymn SoF 40 Be still for the presence of the Lord\nNotices\nOffering\nReading Luke 11.1-13\nHymn SoF 124 Give thanks\nSermon\nHymn R&S 647 In Christ there is no east or west\nPrayers of Intercession\nHymn R&S 576 God’s Spirit is in my heart\nBlessing\nGrace\nPlease join us for tea & coffee after the service
URL:https://christchurchpettswood.org.uk/event/sunday-family-worship-41/
LOCATION:Christ Church Petts Wood\, Tudor Way\, Orpington\, BR5 1LH\, United Kingdom
CATEGORIES:Church Events
ATTACH;FMTTYPE=image/png:https://christchurchpettswood.org.uk/wp-content/uploads/2022/07/Advert-24th-July.png
END:VEVENT
END:VCALENDAR