BEGIN:VCALENDAR
VERSION:2.0
PRODID:-//Christ Church United Reformed Church, Petts Wood - ECPv6.15.20//NONSGML v1.0//EN
CALSCALE:GREGORIAN
METHOD:PUBLISH
X-WR-CALNAME:Christ Church United Reformed Church, Petts Wood
X-ORIGINAL-URL:https://christchurchpettswood.org.uk
X-WR-CALDESC:Events for Christ Church United Reformed Church, Petts Wood
REFRESH-INTERVAL;VALUE=DURATION:PT1H
X-Robots-Tag:noindex
X-PUBLISHED-TTL:PT1H
BEGIN:VTIMEZONE
TZID:Europe/London
BEGIN:DAYLIGHT
TZOFFSETFROM:+0000
TZOFFSETTO:+0100
TZNAME:BST
DTSTART:20210328T010000
END:DAYLIGHT
BEGIN:STANDARD
TZOFFSETFROM:+0100
TZOFFSETTO:+0000
TZNAME:GMT
DTSTART:20211031T010000
END:STANDARD
BEGIN:DAYLIGHT
TZOFFSETFROM:+0000
TZOFFSETTO:+0100
TZNAME:BST
DTSTART:20220327T010000
END:DAYLIGHT
BEGIN:STANDARD
TZOFFSETFROM:+0100
TZOFFSETTO:+0000
TZNAME:GMT
DTSTART:20221030T010000
END:STANDARD
BEGIN:DAYLIGHT
TZOFFSETFROM:+0000
TZOFFSETTO:+0100
TZNAME:BST
DTSTART:20230326T010000
END:DAYLIGHT
BEGIN:STANDARD
TZOFFSETFROM:+0100
TZOFFSETTO:+0000
TZNAME:GMT
DTSTART:20231029T010000
END:STANDARD
END:VTIMEZONE
BEGIN:VEVENT
DTSTART;TZID=Europe/London:20220619T103000
DTEND;TZID=Europe/London:20220619T113000
DTSTAMP:20260419T182509
CREATED:20220615T195011Z
LAST-MODIFIED:20220615T195011Z
UID:9958-1655634600-1655638200@christchurchpettswood.org.uk
SUMMARY:Sunday Family Worship
DESCRIPTION:Please join us from 10.30am on Sunday 19th June for Family Worship led by Revd Alison Smith \nOrder of service:  \nWelcome and notices \nCall to worship \nHymn: SoF 40 – Be still for the presence of the Lord \nPrayers of praise and confession \nLords Prayer \nReading: Luke 8: 26-39 \nTheme Introduction: Transformation \nHymn: R&S 90 – O Lord\, all the world belongs to you \nOffertory and Dedication \nPrayer for the children \nChildren Leave for their activities \nChoir Anthem \nReading: Galatians 3:23-29 \nSermon \nHymn: SoF 664 – Beauty for Brokenness \nPrayers of Intercession \nHymn: R&S 200 – The kingdom of God is justice and joy – 2nd Tune \nClosing Prayer and Blessing \nGrace \nPlease join us for tea & coffee after the service
URL:https://christchurchpettswood.org.uk/event/sunday-family-worship-38/
CATEGORIES:Church Events
ATTACH;FMTTYPE=image/png:https://christchurchpettswood.org.uk/wp-content/uploads/2022/06/Sunday-19th-June-Advert.png
END:VEVENT
END:VCALENDAR