BEGIN:VCALENDAR
VERSION:2.0
PRODID:-//Christ Church United Reformed Church, Petts Wood - ECPv6.15.20//NONSGML v1.0//EN
CALSCALE:GREGORIAN
METHOD:PUBLISH
X-WR-CALNAME:Christ Church United Reformed Church, Petts Wood
X-ORIGINAL-URL:https://christchurchpettswood.org.uk
X-WR-CALDESC:Events for Christ Church United Reformed Church, Petts Wood
REFRESH-INTERVAL;VALUE=DURATION:PT1H
X-Robots-Tag:noindex
X-PUBLISHED-TTL:PT1H
BEGIN:VTIMEZONE
TZID:Europe/London
BEGIN:DAYLIGHT
TZOFFSETFROM:+0000
TZOFFSETTO:+0100
TZNAME:BST
DTSTART:20210328T010000
END:DAYLIGHT
BEGIN:STANDARD
TZOFFSETFROM:+0100
TZOFFSETTO:+0000
TZNAME:GMT
DTSTART:20211031T010000
END:STANDARD
BEGIN:DAYLIGHT
TZOFFSETFROM:+0000
TZOFFSETTO:+0100
TZNAME:BST
DTSTART:20220327T010000
END:DAYLIGHT
BEGIN:STANDARD
TZOFFSETFROM:+0100
TZOFFSETTO:+0000
TZNAME:GMT
DTSTART:20221030T010000
END:STANDARD
BEGIN:DAYLIGHT
TZOFFSETFROM:+0000
TZOFFSETTO:+0100
TZNAME:BST
DTSTART:20230326T010000
END:DAYLIGHT
BEGIN:STANDARD
TZOFFSETFROM:+0100
TZOFFSETTO:+0000
TZNAME:GMT
DTSTART:20231029T010000
END:STANDARD
END:VTIMEZONE
BEGIN:VEVENT
DTSTART;TZID=Europe/London:20220424T103000
DTEND;TZID=Europe/London:20220424T113000
DTSTAMP:20260419T225218
CREATED:20220419T172150Z
LAST-MODIFIED:20220419T172150Z
UID:9802-1650796200-1650799800@christchurchpettswood.org.uk
SUMMARY:Sunday Family Worship
DESCRIPTION:Join us on Sunday 24th of April from 10.30am to hear the Good News! Led by our Minister\, Rev’d Nadene Snyman. In person or also livestreamed to YouTube \nOrder of Service: \nCall to worship \nWelcome \nPrayer \nHymn Light of the World \nNotices \nReading Psalm 118.14-29 \nReading John 20.19-31 \nHymn Jesus Christ – once again \nSermon \nHymn The Lord’s my Shepherd \nPrayers of Intercession and The Lord’s Prayer \nHymn When the music fades \nBlessing \nGrace
URL:https://christchurchpettswood.org.uk/event/sunday-family-worship-36/
LOCATION:Christ Church Petts Wood\, Tudor Way\, Orpington\, BR5 1LH\, United Kingdom
CATEGORIES:Church Events
ATTACH;FMTTYPE=image/png:https://christchurchpettswood.org.uk/wp-content/uploads/2022/04/WelcomeAdvert.png
END:VEVENT
BEGIN:VEVENT
DTSTART;TZID=Europe/London:20220424T160000
DTEND;TZID=Europe/London:20220424T180000
DTSTAMP:20260419T225218
CREATED:20220410T124820Z
LAST-MODIFIED:20220410T124820Z
UID:9777-1650816000-1650823200@christchurchpettswood.org.uk
SUMMARY:Messy Church - Messy Baptism
DESCRIPTION:Join us from 4pm on Sunday 24th of April for a special Messy Church when one of our Messy Church children is baptised. There will be the a wide range craft activities\, then a service including a baptism\, followed by a party-style tea. All welcome.
URL:https://christchurchpettswood.org.uk/event/messy-church-messy-baptism/
LOCATION:Christ Church Petts Wood\, Tudor Way\, Orpington\, BR5 1LH\, United Kingdom
CATEGORIES:Church Events
ATTACH;FMTTYPE=image/jpeg:https://christchurchpettswood.org.uk/wp-content/uploads/2022/04/Messy-Baptism-pic.jpg
END:VEVENT
END:VCALENDAR