BEGIN:VCALENDAR
VERSION:2.0
PRODID:-//Christ Church United Reformed Church, Petts Wood - ECPv6.15.20//NONSGML v1.0//EN
CALSCALE:GREGORIAN
METHOD:PUBLISH
X-ORIGINAL-URL:https://christchurchpettswood.org.uk
X-WR-CALDESC:Events for Christ Church United Reformed Church, Petts Wood
REFRESH-INTERVAL;VALUE=DURATION:PT1H
X-Robots-Tag:noindex
X-PUBLISHED-TTL:PT1H
BEGIN:VTIMEZONE
TZID:Europe/London
BEGIN:DAYLIGHT
TZOFFSETFROM:+0000
TZOFFSETTO:+0100
TZNAME:BST
DTSTART:20210328T010000
END:DAYLIGHT
BEGIN:STANDARD
TZOFFSETFROM:+0100
TZOFFSETTO:+0000
TZNAME:GMT
DTSTART:20211031T010000
END:STANDARD
BEGIN:DAYLIGHT
TZOFFSETFROM:+0000
TZOFFSETTO:+0100
TZNAME:BST
DTSTART:20220327T010000
END:DAYLIGHT
BEGIN:STANDARD
TZOFFSETFROM:+0100
TZOFFSETTO:+0000
TZNAME:GMT
DTSTART:20221030T010000
END:STANDARD
BEGIN:DAYLIGHT
TZOFFSETFROM:+0000
TZOFFSETTO:+0100
TZNAME:BST
DTSTART:20230326T010000
END:DAYLIGHT
BEGIN:STANDARD
TZOFFSETFROM:+0100
TZOFFSETTO:+0000
TZNAME:GMT
DTSTART:20231029T010000
END:STANDARD
END:VTIMEZONE
BEGIN:VEVENT
DTSTART;TZID=Europe/London:20220227T103000
DTEND;TZID=Europe/London:20220227T113000
DTSTAMP:20260420T015829
CREATED:20220214T214557Z
LAST-MODIFIED:20220214T214557Z
UID:9605-1645957800-1645961400@christchurchpettswood.org.uk
SUMMARY:Leprosy Mission Sunday Service
DESCRIPTION:Join us on 27th February from 10.30am for our Leprosy Mission Sunday service. We welcome back Jarrett Wilson-Gray who always gives us an informative and humbling service about the work of the Leprosy mission. \nThis service will also be streamed to YouTube
URL:https://christchurchpettswood.org.uk/event/leprosy-mission-sunday-service/
LOCATION:Christ Church Petts Wood\, Tudor Way\, Orpington\, BR5 1LH\, United Kingdom
CATEGORIES:Church Events
ATTACH;FMTTYPE=image/png:https://christchurchpettswood.org.uk/wp-content/uploads/2022/02/AdvertWelcome-2.png
END:VEVENT
BEGIN:VEVENT
DTSTART;TZID=Europe/London:20220227T160000
DTEND;TZID=Europe/London:20220227T180000
DTSTAMP:20260420T015829
CREATED:20220214T214848Z
LAST-MODIFIED:20220214T214848Z
UID:9608-1645977600-1645984800@christchurchpettswood.org.uk
SUMMARY:Messy Church - Messy Superheros
DESCRIPTION:Join us on 27th February from 4pm for a wide range of craft activities on the theme of superheros\, an act of worship and then a party-style tea. Led by Kat\, Kerry & Nadene.\nFor more information email welcome@ccpw.org.uk 
URL:https://christchurchpettswood.org.uk/event/messy-church-messy-superheros/
LOCATION:Christ Church Petts Wood\, Tudor Way\, Orpington\, BR5 1LH\, United Kingdom
CATEGORIES:Children & Youth,Church Events
ATTACH;FMTTYPE=image/jpeg:https://christchurchpettswood.org.uk/wp-content/uploads/2022/02/image0.jpeg
END:VEVENT
END:VCALENDAR