BEGIN:VCALENDAR
VERSION:2.0
PRODID:-//Christ Church United Reformed Church, Petts Wood - ECPv6.15.20//NONSGML v1.0//EN
CALSCALE:GREGORIAN
METHOD:PUBLISH
X-ORIGINAL-URL:https://christchurchpettswood.org.uk
X-WR-CALDESC:Events for Christ Church United Reformed Church, Petts Wood
REFRESH-INTERVAL;VALUE=DURATION:PT1H
X-Robots-Tag:noindex
X-PUBLISHED-TTL:PT1H
BEGIN:VTIMEZONE
TZID:Europe/London
BEGIN:DAYLIGHT
TZOFFSETFROM:+0000
TZOFFSETTO:+0100
TZNAME:BST
DTSTART:20210328T010000
END:DAYLIGHT
BEGIN:STANDARD
TZOFFSETFROM:+0100
TZOFFSETTO:+0000
TZNAME:GMT
DTSTART:20211031T010000
END:STANDARD
BEGIN:DAYLIGHT
TZOFFSETFROM:+0000
TZOFFSETTO:+0100
TZNAME:BST
DTSTART:20220327T010000
END:DAYLIGHT
BEGIN:STANDARD
TZOFFSETFROM:+0100
TZOFFSETTO:+0000
TZNAME:GMT
DTSTART:20221030T010000
END:STANDARD
BEGIN:DAYLIGHT
TZOFFSETFROM:+0000
TZOFFSETTO:+0100
TZNAME:BST
DTSTART:20230326T010000
END:DAYLIGHT
BEGIN:STANDARD
TZOFFSETFROM:+0100
TZOFFSETTO:+0000
TZNAME:GMT
DTSTART:20231029T010000
END:STANDARD
END:VTIMEZONE
BEGIN:VEVENT
DTSTART;TZID=Europe/London:20220210T130000
DTEND;TZID=Europe/London:20220210T170000
DTSTAMP:20260420T015834
CREATED:20220131T194915Z
LAST-MODIFIED:20220131T194915Z
UID:9440-1644498000-1644512400@christchurchpettswood.org.uk
SUMMARY:Lunch Club
DESCRIPTION:The Lunch Club is there for the ‘mature of years’ or those who are feeling isolated. It is an opportunity to get together\, eat good food and share time with others.\nYou will be made very welcome.\nThis feast and friendship takes place in the Marlborough Hall every Thursday from 1pm.\nPlease contact welcome@ccpw.org.uk for more information
URL:https://christchurchpettswood.org.uk/event/lunch-club-5/
LOCATION:Christ Church Petts Wood\, Tudor Way\, Orpington\, BR5 1LH\, United Kingdom
CATEGORIES:Church Events
ATTACH;FMTTYPE=image/png:https://christchurchpettswood.org.uk/wp-content/uploads/2021/08/Lunch-Club-Advert-Screens.png
END:VEVENT
END:VCALENDAR