BEGIN:VCALENDAR
VERSION:2.0
PRODID:-//Christ Church United Reformed Church, Petts Wood - ECPv6.15.20//NONSGML v1.0//EN
CALSCALE:GREGORIAN
METHOD:PUBLISH
X-ORIGINAL-URL:https://christchurchpettswood.org.uk
X-WR-CALDESC:Events for Christ Church United Reformed Church, Petts Wood
REFRESH-INTERVAL;VALUE=DURATION:PT1H
X-Robots-Tag:noindex
X-PUBLISHED-TTL:PT1H
BEGIN:VTIMEZONE
TZID:Europe/London
BEGIN:DAYLIGHT
TZOFFSETFROM:+0000
TZOFFSETTO:+0100
TZNAME:BST
DTSTART:20200329T010000
END:DAYLIGHT
BEGIN:STANDARD
TZOFFSETFROM:+0100
TZOFFSETTO:+0000
TZNAME:GMT
DTSTART:20201025T010000
END:STANDARD
BEGIN:DAYLIGHT
TZOFFSETFROM:+0000
TZOFFSETTO:+0100
TZNAME:BST
DTSTART:20210328T010000
END:DAYLIGHT
BEGIN:STANDARD
TZOFFSETFROM:+0100
TZOFFSETTO:+0000
TZNAME:GMT
DTSTART:20211031T010000
END:STANDARD
BEGIN:DAYLIGHT
TZOFFSETFROM:+0000
TZOFFSETTO:+0100
TZNAME:BST
DTSTART:20220327T010000
END:DAYLIGHT
BEGIN:STANDARD
TZOFFSETFROM:+0100
TZOFFSETTO:+0000
TZNAME:GMT
DTSTART:20221030T010000
END:STANDARD
END:VTIMEZONE
BEGIN:VEVENT
DTSTART;TZID=Europe/London:20211017T103000
DTEND;TZID=Europe/London:20211017T113000
DTSTAMP:20260422T175640
CREATED:20211011T185801Z
LAST-MODIFIED:20211011T185801Z
UID:9186-1634466600-1634470200@christchurchpettswood.org.uk
SUMMARY:Sunday Family Worship
DESCRIPTION:Join us for Worship in person or on YouTube. The service will be led in person by Mr Martin Fosten with a recorded sermon by Rev Ian Fosten. The children will have their own activities and crafts to go out to part-way through the service. All welcome
URL:https://christchurchpettswood.org.uk/event/sunday-family-worship-31/
LOCATION:Christ Church Petts Wood\, Tudor Way\, Orpington\, BR5 1LH\, United Kingdom
CATEGORIES:Church Events
ATTACH;FMTTYPE=image/jpeg:https://christchurchpettswood.org.uk/wp-content/uploads/2019/03/Church.jpg
END:VEVENT
END:VCALENDAR