BEGIN:VCALENDAR
VERSION:2.0
PRODID:-//Christ Church United Reformed Church, Petts Wood - ECPv6.15.20//NONSGML v1.0//EN
CALSCALE:GREGORIAN
METHOD:PUBLISH
X-WR-CALNAME:Christ Church United Reformed Church, Petts Wood
X-ORIGINAL-URL:https://christchurchpettswood.org.uk
X-WR-CALDESC:Events for Christ Church United Reformed Church, Petts Wood
REFRESH-INTERVAL;VALUE=DURATION:PT1H
X-Robots-Tag:noindex
X-PUBLISHED-TTL:PT1H
BEGIN:VTIMEZONE
TZID:Europe/London
BEGIN:DAYLIGHT
TZOFFSETFROM:+0000
TZOFFSETTO:+0100
TZNAME:BST
DTSTART:20200329T010000
END:DAYLIGHT
BEGIN:STANDARD
TZOFFSETFROM:+0100
TZOFFSETTO:+0000
TZNAME:GMT
DTSTART:20201025T010000
END:STANDARD
BEGIN:DAYLIGHT
TZOFFSETFROM:+0000
TZOFFSETTO:+0100
TZNAME:BST
DTSTART:20210328T010000
END:DAYLIGHT
BEGIN:STANDARD
TZOFFSETFROM:+0100
TZOFFSETTO:+0000
TZNAME:GMT
DTSTART:20211031T010000
END:STANDARD
BEGIN:DAYLIGHT
TZOFFSETFROM:+0000
TZOFFSETTO:+0100
TZNAME:BST
DTSTART:20220327T010000
END:DAYLIGHT
BEGIN:STANDARD
TZOFFSETFROM:+0100
TZOFFSETTO:+0000
TZNAME:GMT
DTSTART:20221030T010000
END:STANDARD
END:VTIMEZONE
BEGIN:VEVENT
DTSTART;TZID=Europe/London:20211003T103000
DTEND;TZID=Europe/London:20211003T113000
DTSTAMP:20260422T182537
CREATED:20211001T192738Z
LAST-MODIFIED:20211001T192825Z
UID:9170-1633257000-1633260600@christchurchpettswood.org.uk
SUMMARY:Sunday Worship with Holy Communion and Ordinations
DESCRIPTION:Join us for Sunday family worship\, with a service of Holy Communion and the ordination of new and returning Elders and members. Led by our Minister Rev Nadene Snyman. \nOrder of Service: \n\n\n\nCall to Worship\n\n\nWelcome\n\n\nOpening Prayer\n\n\nHymn SoF 40 Be Still for the Presence of the Lord\n\n\nNotices\n\n\nReading Luke 15: 18-24\n\n\nHymn SoF 381 Make me a channel of your peace\n\n\nReflection\n\n\nNew Members Induction\n\n\nNew Elders Induction / Ordination\n\n\nHymn SoF 21 And can it be that I should gain\n\n\nCommunion\n\n\nPrayer\n\n\nLord’s Prayer\n\n\nHymn SoF 147 Great is thy faithfulness \n\n\nBlessing & Grace
URL:https://christchurchpettswood.org.uk/event/sunday-worship-with-holy-communion-and-ordinations/
LOCATION:Christ Church Petts Wood\, Tudor Way\, Orpington\, BR5 1LH\, United Kingdom
CATEGORIES:Church Events
ATTACH;FMTTYPE=image/png:https://christchurchpettswood.org.uk/wp-content/uploads/2021/09/Sunday-3-Oct-advert.png
END:VEVENT
BEGIN:VEVENT
DTSTART;TZID=Europe/London:20211003T160000
DTEND;TZID=Europe/London:20211003T180000
DTSTAMP:20260422T182537
CREATED:20210905T204811Z
LAST-MODIFIED:20211001T192303Z
UID:9136-1633276800-1633284000@christchurchpettswood.org.uk
SUMMARY:Café Church
DESCRIPTION:Join us for Café Church once a month at 4pm on the first Sunday of the month. This is aimed at all ages\, a relaxed service will take place in the Church Sanctuary where you are welcome to pop to the hatch to the kitchen at any time to grab a tea or coffee\, no need to stay seated. Afterward there will be events more aimed at the younger generation with uni-hoc\, table tennis and whatever sport gets the highest vote and we have the equipment for!
URL:https://christchurchpettswood.org.uk/event/cafe-church/
LOCATION:Christ Church Petts Wood\, Tudor Way\, Orpington\, BR5 1LH\, United Kingdom
CATEGORIES:Children & Youth,Church Events
ATTACH;FMTTYPE=image/png:https://christchurchpettswood.org.uk/wp-content/uploads/2021/09/Cafe-Church-advert.png
END:VEVENT
END:VCALENDAR