BEGIN:VCALENDAR
VERSION:2.0
PRODID:-//Christ Church United Reformed Church, Petts Wood - ECPv6.15.20//NONSGML v1.0//EN
CALSCALE:GREGORIAN
METHOD:PUBLISH
X-ORIGINAL-URL:https://christchurchpettswood.org.uk
X-WR-CALDESC:Events for Christ Church United Reformed Church, Petts Wood
REFRESH-INTERVAL;VALUE=DURATION:PT1H
X-Robots-Tag:noindex
X-PUBLISHED-TTL:PT1H
BEGIN:VTIMEZONE
TZID:Europe/London
BEGIN:DAYLIGHT
TZOFFSETFROM:+0000
TZOFFSETTO:+0100
TZNAME:BST
DTSTART:20200329T010000
END:DAYLIGHT
BEGIN:STANDARD
TZOFFSETFROM:+0100
TZOFFSETTO:+0000
TZNAME:GMT
DTSTART:20201025T010000
END:STANDARD
BEGIN:DAYLIGHT
TZOFFSETFROM:+0000
TZOFFSETTO:+0100
TZNAME:BST
DTSTART:20210328T010000
END:DAYLIGHT
BEGIN:STANDARD
TZOFFSETFROM:+0100
TZOFFSETTO:+0000
TZNAME:GMT
DTSTART:20211031T010000
END:STANDARD
BEGIN:DAYLIGHT
TZOFFSETFROM:+0000
TZOFFSETTO:+0100
TZNAME:BST
DTSTART:20220327T010000
END:DAYLIGHT
BEGIN:STANDARD
TZOFFSETFROM:+0100
TZOFFSETTO:+0000
TZNAME:GMT
DTSTART:20221030T010000
END:STANDARD
END:VTIMEZONE
BEGIN:VEVENT
DTSTART;TZID=Europe/London:20210912T103000
DTEND;TZID=Europe/London:20210912T111500
DTSTAMP:20260422T135437
CREATED:20210905T204345Z
LAST-MODIFIED:20210905T204345Z
UID:9131-1631442600-1631445300@christchurchpettswood.org.uk
SUMMARY:Sunday worship with Church of Youth
DESCRIPTION:Join us for Sunday Family worship\, led by Rev Bill Bowman and with Church of Youth. You will be warmly welcomed.\n\nWe are now serving refreshments and we invite you to also join us for a chat & a cuppa. If you would prefer you can still join us on our YouTube channel as the service is streamed live.\n\nNo booking required for the Sunday service\, but please book for Church of Youth\, links at https://christchurchpettswood.org.uk/children-youth/
URL:https://christchurchpettswood.org.uk/event/sunday-worship-with-church-of-youth-5/
LOCATION:Christ Church Petts Wood\, Tudor Way\, Orpington\, BR5 1LH\, United Kingdom
CATEGORIES:Church Events
ATTACH;FMTTYPE=image/jpeg:https://christchurchpettswood.org.uk/wp-content/uploads/2021/09/Sunday-12th-September-Advert-Final.jpg
END:VEVENT
END:VCALENDAR