BEGIN:VCALENDAR
VERSION:2.0
PRODID:-//Christ Church United Reformed Church, Petts Wood - ECPv6.15.20//NONSGML v1.0//EN
CALSCALE:GREGORIAN
METHOD:PUBLISH
X-WR-CALNAME:Christ Church United Reformed Church, Petts Wood
X-ORIGINAL-URL:https://christchurchpettswood.org.uk
X-WR-CALDESC:Events for Christ Church United Reformed Church, Petts Wood
REFRESH-INTERVAL;VALUE=DURATION:PT1H
X-Robots-Tag:noindex
X-PUBLISHED-TTL:PT1H
BEGIN:VTIMEZONE
TZID:Europe/London
BEGIN:DAYLIGHT
TZOFFSETFROM:+0000
TZOFFSETTO:+0100
TZNAME:BST
DTSTART:20200329T010000
END:DAYLIGHT
BEGIN:STANDARD
TZOFFSETFROM:+0100
TZOFFSETTO:+0000
TZNAME:GMT
DTSTART:20201025T010000
END:STANDARD
BEGIN:DAYLIGHT
TZOFFSETFROM:+0000
TZOFFSETTO:+0100
TZNAME:BST
DTSTART:20210328T010000
END:DAYLIGHT
BEGIN:STANDARD
TZOFFSETFROM:+0100
TZOFFSETTO:+0000
TZNAME:GMT
DTSTART:20211031T010000
END:STANDARD
BEGIN:DAYLIGHT
TZOFFSETFROM:+0000
TZOFFSETTO:+0100
TZNAME:BST
DTSTART:20220327T010000
END:DAYLIGHT
BEGIN:STANDARD
TZOFFSETFROM:+0100
TZOFFSETTO:+0000
TZNAME:GMT
DTSTART:20221030T010000
END:STANDARD
END:VTIMEZONE
BEGIN:VEVENT
DTSTART;TZID=Europe/London:20210905T103000
DTEND;TZID=Europe/London:20210905T111500
DTSTAMP:20260422T151849
CREATED:20210831T170345Z
LAST-MODIFIED:20210831T170345Z
UID:9101-1630837800-1630840500@christchurchpettswood.org.uk
SUMMARY:Sunday Worship with Holy Communion
DESCRIPTION:You are very welcome to our service on Sunday 5th September 2021 from 10.30am led by our Minister\, Rev Nadene Snyman. Do join us for refreshments after the service. \nIn person and broadcast on YouTube from the Church \nOrder of service \nStand for the entrance of the bible \nWelcome & Call to Worship \nHymn: SoF 377 Love Divine \nOpening Prayer                              Fiona \nNotices                                              Kat \nJob 42: 1-6 & 10-17                       John R \nHymn: SoF 390 Meekness and Majesty \nMark 10: 46-52                               Diane \nSermon                                             Nadene \nHymn: SoF 362 Lord\, the light of your love \nCommunion \nIntercessory & Lord’s Prayer      Kat \nHymn: SoF 367 Lord Jesus Christ \nBlessing & Grace \nIf you do not want to be seen on YouTube look for the signs that tell you areas which are not visible to the cameras or ask a steward for directions
URL:https://christchurchpettswood.org.uk/event/sunday-worship-with-holy-communion-6/
CATEGORIES:Church Events
ATTACH;FMTTYPE=image/png:https://christchurchpettswood.org.uk/wp-content/uploads/2021/08/Advert-for-the-5th.png
END:VEVENT
BEGIN:VEVENT
DTSTART;TZID=Europe/London:20210905T160000
DTEND;TZID=Europe/London:20210905T180000
DTSTAMP:20260422T151849
CREATED:20210812T185121Z
LAST-MODIFIED:20210812T185245Z
UID:9034-1630857600-1630864800@christchurchpettswood.org.uk
SUMMARY:Café church - first Sunday of the month
DESCRIPTION:Join us for Café Church once a month at 4pm on the first Sunday of the month. This is aimed at all ages\, a relaxed service will take place in the Church Sanctuary where you are welcome to pop to the hatch to the kitchen at any time to grab a tea or coffee\, no need to stay seated. Afterward there will be events more aimed at the younger generation with uni-hoc\, table tennis and whatever sport gets the highest vote and we have the equipment for!
URL:https://christchurchpettswood.org.uk/event/cafe-church-first-sunday-of-the-month/
LOCATION:Christ Church Petts Wood\, Tudor Way\, Orpington\, BR5 1LH\, United Kingdom
CATEGORIES:Church Events
ATTACH;FMTTYPE=image/png:https://christchurchpettswood.org.uk/wp-content/uploads/2021/08/Cafe-Church-Advert-1.png
END:VEVENT
END:VCALENDAR