BEGIN:VCALENDAR
VERSION:2.0
PRODID:-//Christ Church United Reformed Church, Petts Wood - ECPv6.15.20//NONSGML v1.0//EN
CALSCALE:GREGORIAN
METHOD:PUBLISH
X-WR-CALNAME:Christ Church United Reformed Church, Petts Wood
X-ORIGINAL-URL:https://christchurchpettswood.org.uk
X-WR-CALDESC:Events for Christ Church United Reformed Church, Petts Wood
REFRESH-INTERVAL;VALUE=DURATION:PT1H
X-Robots-Tag:noindex
X-PUBLISHED-TTL:PT1H
BEGIN:VTIMEZONE
TZID:Europe/London
BEGIN:DAYLIGHT
TZOFFSETFROM:+0000
TZOFFSETTO:+0100
TZNAME:BST
DTSTART:20200329T010000
END:DAYLIGHT
BEGIN:STANDARD
TZOFFSETFROM:+0100
TZOFFSETTO:+0000
TZNAME:GMT
DTSTART:20201025T010000
END:STANDARD
BEGIN:DAYLIGHT
TZOFFSETFROM:+0000
TZOFFSETTO:+0100
TZNAME:BST
DTSTART:20210328T010000
END:DAYLIGHT
BEGIN:STANDARD
TZOFFSETFROM:+0100
TZOFFSETTO:+0000
TZNAME:GMT
DTSTART:20211031T010000
END:STANDARD
BEGIN:DAYLIGHT
TZOFFSETFROM:+0000
TZOFFSETTO:+0100
TZNAME:BST
DTSTART:20220327T010000
END:DAYLIGHT
BEGIN:STANDARD
TZOFFSETFROM:+0100
TZOFFSETTO:+0000
TZNAME:GMT
DTSTART:20221030T010000
END:STANDARD
END:VTIMEZONE
BEGIN:VEVENT
DTSTART;TZID=Europe/London:20210806T103000
DTEND;TZID=Europe/London:20210806T120000
DTSTAMP:20260422T175655
CREATED:20210804T195624Z
LAST-MODIFIED:20210804T195624Z
UID:9007-1628245800-1628251200@christchurchpettswood.org.uk
SUMMARY:Coffee Stop
DESCRIPTION:It is delightful that we can once again hold our August Coffee Stops in people’s homes. The hosts warmly invite you from 10.30am each Friday. This Friday\, we are very grateful to Kat for hosting Coffee Stop. Details of host and address are in the church bulletin\, Contact & Care\, or email welcome@ccpw.org.uk\n\nDonations given at each Coffee Stop will go to Watsan Uganda which raise money to bring water to schools which helps the to attract the best staff and create the right learning environment for the pupils
URL:https://christchurchpettswood.org.uk/event/coffee-stop-21/
CATEGORIES:Church Events
ATTACH;FMTTYPE=image/jpeg:https://christchurchpettswood.org.uk/wp-content/uploads/2021/03/Teapot.jpg
END:VEVENT
END:VCALENDAR