BEGIN:VCALENDAR
VERSION:2.0
PRODID:-//Christ Church United Reformed Church, Petts Wood - ECPv6.15.20//NONSGML v1.0//EN
CALSCALE:GREGORIAN
METHOD:PUBLISH
X-WR-CALNAME:Christ Church United Reformed Church, Petts Wood
X-ORIGINAL-URL:https://christchurchpettswood.org.uk
X-WR-CALDESC:Events for Christ Church United Reformed Church, Petts Wood
REFRESH-INTERVAL;VALUE=DURATION:PT1H
X-Robots-Tag:noindex
X-PUBLISHED-TTL:PT1H
BEGIN:VTIMEZONE
TZID:Europe/London
BEGIN:DAYLIGHT
TZOFFSETFROM:+0000
TZOFFSETTO:+0100
TZNAME:BST
DTSTART:20200329T010000
END:DAYLIGHT
BEGIN:STANDARD
TZOFFSETFROM:+0100
TZOFFSETTO:+0000
TZNAME:GMT
DTSTART:20201025T010000
END:STANDARD
BEGIN:DAYLIGHT
TZOFFSETFROM:+0000
TZOFFSETTO:+0100
TZNAME:BST
DTSTART:20210328T010000
END:DAYLIGHT
BEGIN:STANDARD
TZOFFSETFROM:+0100
TZOFFSETTO:+0000
TZNAME:GMT
DTSTART:20211031T010000
END:STANDARD
BEGIN:DAYLIGHT
TZOFFSETFROM:+0000
TZOFFSETTO:+0100
TZNAME:BST
DTSTART:20220327T010000
END:DAYLIGHT
BEGIN:STANDARD
TZOFFSETFROM:+0100
TZOFFSETTO:+0000
TZNAME:GMT
DTSTART:20221030T010000
END:STANDARD
END:VTIMEZONE
BEGIN:VEVENT
DTSTART;TZID=Europe/London:20210801T103000
DTEND;TZID=Europe/London:20210801T111500
DTSTAMP:20260422T175655
CREATED:20210727T200237Z
LAST-MODIFIED:20210727T200237Z
UID:8994-1627813800-1627816500@christchurchpettswood.org.uk
SUMMARY:Sunday Worship & Holy Communion
DESCRIPTION:Join us in person or on YouTube for Sunday Worship from 10.30am led by Rev Nadene Snyman \nOrder of Service: \nStand for entrance of the bible \nCall to Worship & Welcome \nHymn: R&S 452: Let us break bread together \nOpening Prayer \nNotices \nReading Exodus 16: 2-4 & 9-15 Marion B \nHymn: SOF 200 I am the bread of life \nReading John 6: 24-35 \nSermon \nHymn: Taizé chant Eat this bread \nCommunion served in your seats \nIntercessory prayers & Lord’s prayer \nHymn: Longing for light\, we wait in darkness \nBlessing & Grace
URL:https://christchurchpettswood.org.uk/event/sunday-worship-holy-communion/
LOCATION:Christ Church Petts Wood\, Tudor Way\, Orpington\, BR5 1LH\, United Kingdom
CATEGORIES:Church Events
ATTACH;FMTTYPE=image/png:https://christchurchpettswood.org.uk/wp-content/uploads/2021/07/Advert-thumbnail1-Aug.png
END:VEVENT
END:VCALENDAR