BEGIN:VCALENDAR
VERSION:2.0
PRODID:-//Christ Church United Reformed Church, Petts Wood - ECPv6.15.20//NONSGML v1.0//EN
CALSCALE:GREGORIAN
METHOD:PUBLISH
X-ORIGINAL-URL:https://christchurchpettswood.org.uk
X-WR-CALDESC:Events for Christ Church United Reformed Church, Petts Wood
REFRESH-INTERVAL;VALUE=DURATION:PT1H
X-Robots-Tag:noindex
X-PUBLISHED-TTL:PT1H
BEGIN:VTIMEZONE
TZID:Europe/London
BEGIN:DAYLIGHT
TZOFFSETFROM:+0000
TZOFFSETTO:+0100
TZNAME:BST
DTSTART:20200329T010000
END:DAYLIGHT
BEGIN:STANDARD
TZOFFSETFROM:+0100
TZOFFSETTO:+0000
TZNAME:GMT
DTSTART:20201025T010000
END:STANDARD
BEGIN:DAYLIGHT
TZOFFSETFROM:+0000
TZOFFSETTO:+0100
TZNAME:BST
DTSTART:20210328T010000
END:DAYLIGHT
BEGIN:STANDARD
TZOFFSETFROM:+0100
TZOFFSETTO:+0000
TZNAME:GMT
DTSTART:20211031T010000
END:STANDARD
BEGIN:DAYLIGHT
TZOFFSETFROM:+0000
TZOFFSETTO:+0100
TZNAME:BST
DTSTART:20220327T010000
END:DAYLIGHT
BEGIN:STANDARD
TZOFFSETFROM:+0100
TZOFFSETTO:+0000
TZNAME:GMT
DTSTART:20221030T010000
END:STANDARD
END:VTIMEZONE
BEGIN:VEVENT
DTSTART;TZID=Europe/London:20210718T103000
DTEND;TZID=Europe/London:20210718T111500
DTSTAMP:20260422T192304
CREATED:20210714T075850Z
LAST-MODIFIED:20210714T075850Z
UID:8970-1626604200-1626606900@christchurchpettswood.org.uk
SUMMARY:Sunday Worship with Church of Youth
DESCRIPTION:Join us for Sunday Worship\, led by Mr Martin Leonard. Our Church of Youth will also have their activities. No need to book for the main service but for Church of Youth please use https://www.eventbrite.co.uk/e/church-of-youth-sunday-18th-july-2021-tickets-162206264303
URL:https://christchurchpettswood.org.uk/event/sunday-worship-with-church-of-youth-4/
LOCATION:Christ Church Petts Wood\, Tudor Way\, Orpington\, BR5 1LH\, United Kingdom
CATEGORIES:Church Events
ATTACH;FMTTYPE=image/png:https://christchurchpettswood.org.uk/wp-content/uploads/2021/07/18th-July.png
END:VEVENT
BEGIN:VEVENT
DTSTART;TZID=Europe/London:20210718T170000
DTEND;TZID=Europe/London:20210718T174500
DTSTAMP:20260422T192304
CREATED:20210708T192519Z
LAST-MODIFIED:20230202T174113Z
UID:8926-1626627600-1626630300@christchurchpettswood.org.uk
SUMMARY:Taizé
DESCRIPTION:Join us for a Taizé service at Christ Church URC Petts Wood from 5pm on Sunday 18th July. \nUpdate Jan 2023 if anyone is looking at past events\, we are not currently holding Taize services but are considering another form of quiet worship called ‘Solace’\, to find out about these and express interest if they restart please email welcome@ccpw.org.uk 
URL:https://christchurchpettswood.org.uk/event/taize/
LOCATION:Christ Church Petts Wood\, Tudor Way\, Orpington\, BR5 1LH\, United Kingdom
CATEGORIES:Church Events
ATTACH;FMTTYPE=image/png:https://christchurchpettswood.org.uk/wp-content/uploads/2021/07/Taize-July-21.png
END:VEVENT
END:VCALENDAR