BEGIN:VCALENDAR
VERSION:2.0
PRODID:-//Christ Church United Reformed Church, Petts Wood - ECPv6.15.20//NONSGML v1.0//EN
CALSCALE:GREGORIAN
METHOD:PUBLISH
X-ORIGINAL-URL:https://christchurchpettswood.org.uk
X-WR-CALDESC:Events for Christ Church United Reformed Church, Petts Wood
REFRESH-INTERVAL;VALUE=DURATION:PT1H
X-Robots-Tag:noindex
X-PUBLISHED-TTL:PT1H
BEGIN:VTIMEZONE
TZID:Europe/London
BEGIN:DAYLIGHT
TZOFFSETFROM:+0000
TZOFFSETTO:+0100
TZNAME:BST
DTSTART:20200329T010000
END:DAYLIGHT
BEGIN:STANDARD
TZOFFSETFROM:+0100
TZOFFSETTO:+0000
TZNAME:GMT
DTSTART:20201025T010000
END:STANDARD
BEGIN:DAYLIGHT
TZOFFSETFROM:+0000
TZOFFSETTO:+0100
TZNAME:BST
DTSTART:20210328T010000
END:DAYLIGHT
BEGIN:STANDARD
TZOFFSETFROM:+0100
TZOFFSETTO:+0000
TZNAME:GMT
DTSTART:20211031T010000
END:STANDARD
BEGIN:DAYLIGHT
TZOFFSETFROM:+0000
TZOFFSETTO:+0100
TZNAME:BST
DTSTART:20220327T010000
END:DAYLIGHT
BEGIN:STANDARD
TZOFFSETFROM:+0100
TZOFFSETTO:+0000
TZNAME:GMT
DTSTART:20221030T010000
END:STANDARD
END:VTIMEZONE
BEGIN:VEVENT
DTSTART;TZID=Europe/London:20210620T103000
DTEND;TZID=Europe/London:20210620T111500
DTSTAMP:20260422T215547
CREATED:20210614T183320Z
LAST-MODIFIED:20210614T183320Z
UID:8850-1624185000-1624187700@christchurchpettswood.org.uk
SUMMARY:Sunday Worship on Father's Day
DESCRIPTION:Join us for Sunday Family Worship\, led by our Minister\, Rev Nadene Snyman. \nOur Church of Youth will join us for the first part of the service and then go out and enjoy their own Covid-safe activities. So the Church of Youth leaders know how many to prepare for please book a Church of Youth slot using the link below\nhttps://www.eventbrite.co.uk/e/church-of-youth-sunday-20th-june-2021-tickets-157415563187 \nNo need to book for the main church service. \nIf you would prefer to watch at home our service is also streamed to YouTube https://www.youtube.com/c/ChristChurchPettsWood
URL:https://christchurchpettswood.org.uk/event/sunday-worship-on-fathers-day/
LOCATION:Christ Church Petts Wood\, Tudor Way\, Orpington\, BR5 1LH\, United Kingdom
CATEGORIES:Church Events
ATTACH;FMTTYPE=image/png:https://christchurchpettswood.org.uk/wp-content/uploads/2021/06/Sunday-Advert-1.png
END:VEVENT
END:VCALENDAR