BEGIN:VCALENDAR
VERSION:2.0
PRODID:-//Christ Church United Reformed Church, Petts Wood - ECPv6.15.20//NONSGML v1.0//EN
CALSCALE:GREGORIAN
METHOD:PUBLISH
X-ORIGINAL-URL:https://christchurchpettswood.org.uk
X-WR-CALDESC:Events for Christ Church United Reformed Church, Petts Wood
REFRESH-INTERVAL;VALUE=DURATION:PT1H
X-Robots-Tag:noindex
X-PUBLISHED-TTL:PT1H
BEGIN:VTIMEZONE
TZID:Europe/London
BEGIN:DAYLIGHT
TZOFFSETFROM:+0000
TZOFFSETTO:+0100
TZNAME:BST
DTSTART:20200329T010000
END:DAYLIGHT
BEGIN:STANDARD
TZOFFSETFROM:+0100
TZOFFSETTO:+0000
TZNAME:GMT
DTSTART:20201025T010000
END:STANDARD
BEGIN:DAYLIGHT
TZOFFSETFROM:+0000
TZOFFSETTO:+0100
TZNAME:BST
DTSTART:20210328T010000
END:DAYLIGHT
BEGIN:STANDARD
TZOFFSETFROM:+0100
TZOFFSETTO:+0000
TZNAME:GMT
DTSTART:20211031T010000
END:STANDARD
BEGIN:DAYLIGHT
TZOFFSETFROM:+0000
TZOFFSETTO:+0100
TZNAME:BST
DTSTART:20220327T010000
END:DAYLIGHT
BEGIN:STANDARD
TZOFFSETFROM:+0100
TZOFFSETTO:+0000
TZNAME:GMT
DTSTART:20221030T010000
END:STANDARD
END:VTIMEZONE
BEGIN:VEVENT
DTSTART;TZID=Europe/London:20210613T103000
DTEND;TZID=Europe/London:20210613T111500
DTSTAMP:20260422T215126
CREATED:20210608T193453Z
LAST-MODIFIED:20210608T193453Z
UID:8815-1623580200-1623582900@christchurchpettswood.org.uk
SUMMARY:Climate Sunday with Church of Youth
DESCRIPTION:Join us for a service on Climate Sunday led by Rev Alex Mabbs\, the Synod Green Apostle\, with support from our Minister\, Rev Nadene Snyman. No need to book\, plenty of space for social distancing. All are welcome. \nOur Church of Youth will go for their activities in a Covid-safe environment and to help the leaders plan we do ask that you book using the Eventbrite link\, no charges apply\nhttps://www.eventbrite.co.uk/e/church-of-youth-sunday-13th-june-2021-tickets-157415537109
URL:https://christchurchpettswood.org.uk/event/climate-sunday-with-church-of-youth/
LOCATION:Christ Church Petts Wood\, Tudor Way\, Orpington\, BR5 1LH\, United Kingdom
CATEGORIES:Children & Youth,Church Events
ATTACH;FMTTYPE=image/png:https://christchurchpettswood.org.uk/wp-content/uploads/2021/06/Advert-for-13th.png
END:VEVENT
END:VCALENDAR