BEGIN:VCALENDAR
VERSION:2.0
PRODID:-//Christ Church United Reformed Church, Petts Wood - ECPv6.15.20//NONSGML v1.0//EN
CALSCALE:GREGORIAN
METHOD:PUBLISH
X-ORIGINAL-URL:https://christchurchpettswood.org.uk
X-WR-CALDESC:Events for Christ Church United Reformed Church, Petts Wood
REFRESH-INTERVAL;VALUE=DURATION:PT1H
X-Robots-Tag:noindex
X-PUBLISHED-TTL:PT1H
BEGIN:VTIMEZONE
TZID:Europe/London
BEGIN:DAYLIGHT
TZOFFSETFROM:+0000
TZOFFSETTO:+0100
TZNAME:BST
DTSTART:20200329T010000
END:DAYLIGHT
BEGIN:STANDARD
TZOFFSETFROM:+0100
TZOFFSETTO:+0000
TZNAME:GMT
DTSTART:20201025T010000
END:STANDARD
BEGIN:DAYLIGHT
TZOFFSETFROM:+0000
TZOFFSETTO:+0100
TZNAME:BST
DTSTART:20210328T010000
END:DAYLIGHT
BEGIN:STANDARD
TZOFFSETFROM:+0100
TZOFFSETTO:+0000
TZNAME:GMT
DTSTART:20211031T010000
END:STANDARD
BEGIN:DAYLIGHT
TZOFFSETFROM:+0000
TZOFFSETTO:+0100
TZNAME:BST
DTSTART:20220327T010000
END:DAYLIGHT
BEGIN:STANDARD
TZOFFSETFROM:+0100
TZOFFSETTO:+0000
TZNAME:GMT
DTSTART:20221030T010000
END:STANDARD
END:VTIMEZONE
BEGIN:VEVENT
DTSTART;TZID=Europe/London:20210509T103000
DTEND;TZID=Europe/London:20210509T111500
DTSTAMP:20260422T230703
CREATED:20210504T174351Z
LAST-MODIFIED:20210504T174351Z
UID:8650-1620556200-1620558900@christchurchpettswood.org.uk
SUMMARY:Sunday worship with Church of Youth
DESCRIPTION:Our service on Sunday 9th of May is being led by our Minister\, Rev Nadene Snyman. Join us in Person\, or online on our YouTube channel https://www.youtube.com/c/ChristChurchPettsWood  \nOur children will go out to Covid-secure Church of Youth Activities part-way through the service\, so we know how many packs of actitvities to prepare please would you book here:\nhttps://www.eventbrite.co.uk/e/church-of-youth-sunday-9th-may-2021-tickets-152903810413 \nYou do not need to book for attending the main church service \nOrder of service: \nWelcome & Opening Prayer \nAll age address \nHymn SoF 22 A new commandment \nNotices \nReading John 15.9-17 \nSermon \nHymn R&S 509 O Jesus I have promised \nPrayers of Intercession \nLord’s Prayer \nHymn R&S 413 What a friend we have in Jesus \nBlessing & Grace \n  \n 
URL:https://christchurchpettswood.org.uk/event/sunday-worship-with-church-of-youth/
LOCATION:Christ Church Petts Wood\, Tudor Way\, Orpington\, BR5 1LH\, United Kingdom
CATEGORIES:Church Events
ATTACH;FMTTYPE=image/png:https://christchurchpettswood.org.uk/wp-content/uploads/2021/05/YouTube-Thumbnail.png
END:VEVENT
END:VCALENDAR