BEGIN:VCALENDAR
VERSION:2.0
PRODID:-//Christ Church United Reformed Church, Petts Wood - ECPv6.15.20//NONSGML v1.0//EN
CALSCALE:GREGORIAN
METHOD:PUBLISH
X-WR-CALNAME:Christ Church United Reformed Church, Petts Wood
X-ORIGINAL-URL:https://christchurchpettswood.org.uk
X-WR-CALDESC:Events for Christ Church United Reformed Church, Petts Wood
REFRESH-INTERVAL;VALUE=DURATION:PT1H
X-Robots-Tag:noindex
X-PUBLISHED-TTL:PT1H
BEGIN:VTIMEZONE
TZID:Europe/London
BEGIN:DAYLIGHT
TZOFFSETFROM:+0000
TZOFFSETTO:+0100
TZNAME:BST
DTSTART:20200329T010000
END:DAYLIGHT
BEGIN:STANDARD
TZOFFSETFROM:+0100
TZOFFSETTO:+0000
TZNAME:GMT
DTSTART:20201025T010000
END:STANDARD
BEGIN:DAYLIGHT
TZOFFSETFROM:+0000
TZOFFSETTO:+0100
TZNAME:BST
DTSTART:20210328T010000
END:DAYLIGHT
BEGIN:STANDARD
TZOFFSETFROM:+0100
TZOFFSETTO:+0000
TZNAME:GMT
DTSTART:20211031T010000
END:STANDARD
BEGIN:DAYLIGHT
TZOFFSETFROM:+0000
TZOFFSETTO:+0100
TZNAME:BST
DTSTART:20220327T010000
END:DAYLIGHT
BEGIN:STANDARD
TZOFFSETFROM:+0100
TZOFFSETTO:+0000
TZNAME:GMT
DTSTART:20221030T010000
END:STANDARD
END:VTIMEZONE
BEGIN:VEVENT
DTSTART;TZID=Europe/London:20210502T103000
DTEND;TZID=Europe/London:20210502T111500
DTSTAMP:20260422T230636
CREATED:20210426T213619Z
LAST-MODIFIED:20210426T213619Z
UID:8587-1619951400-1619954100@christchurchpettswood.org.uk
SUMMARY:Sunday Worship with Holy Communion
DESCRIPTION:Join us for our Family Worship at Christ Church URC on 2nd May 2021 @ 10.30am with Holy Communion (please bring your own wine/juice/water and bread). This is an in person service also broadcast to our YouTube channel. If you visit in person and do not want to be seen by the cameras stewards can direct you to the gallery\, rear pews or children’s area where the cameras do not see. \nOrder of service: \nCall to worship & Welcome \nOpening Prayer \nHymn R&S 495 Father hear the prayer we offer \nNotices \nReading John 15: 1-8 \nSermon \nHymn R&S 443 Bread of heaven\, on thee we feed (Tune Heathfields) \nCommunion \nPrayers of Intercession and Lord’s Prayer \nHymn R&S 603 Lord for the years \nBlessing
URL:https://christchurchpettswood.org.uk/event/sunday-worship-with-holy-communion-3/
LOCATION:Christ Church Petts Wood\, Tudor Way\, Orpington\, BR5 1LH\, United Kingdom
CATEGORIES:Church Events
ATTACH;FMTTYPE=image/png:https://christchurchpettswood.org.uk/wp-content/uploads/2021/04/Social-MediaCC-Advert.png
END:VEVENT
END:VCALENDAR