BEGIN:VCALENDAR
VERSION:2.0
PRODID:-//Christ Church United Reformed Church, Petts Wood - ECPv6.15.20//NONSGML v1.0//EN
CALSCALE:GREGORIAN
METHOD:PUBLISH
X-WR-CALNAME:Christ Church United Reformed Church, Petts Wood
X-ORIGINAL-URL:https://christchurchpettswood.org.uk
X-WR-CALDESC:Events for Christ Church United Reformed Church, Petts Wood
REFRESH-INTERVAL;VALUE=DURATION:PT1H
X-Robots-Tag:noindex
X-PUBLISHED-TTL:PT1H
BEGIN:VTIMEZONE
TZID:Europe/London
BEGIN:DAYLIGHT
TZOFFSETFROM:+0000
TZOFFSETTO:+0100
TZNAME:BST
DTSTART:20200329T010000
END:DAYLIGHT
BEGIN:STANDARD
TZOFFSETFROM:+0100
TZOFFSETTO:+0000
TZNAME:GMT
DTSTART:20201025T010000
END:STANDARD
BEGIN:DAYLIGHT
TZOFFSETFROM:+0000
TZOFFSETTO:+0100
TZNAME:BST
DTSTART:20210328T010000
END:DAYLIGHT
BEGIN:STANDARD
TZOFFSETFROM:+0100
TZOFFSETTO:+0000
TZNAME:GMT
DTSTART:20211031T010000
END:STANDARD
BEGIN:DAYLIGHT
TZOFFSETFROM:+0000
TZOFFSETTO:+0100
TZNAME:BST
DTSTART:20220327T010000
END:DAYLIGHT
BEGIN:STANDARD
TZOFFSETFROM:+0100
TZOFFSETTO:+0000
TZNAME:GMT
DTSTART:20221030T010000
END:STANDARD
END:VTIMEZONE
BEGIN:VEVENT
DTSTART;TZID=Europe/London:20210413T194500
DTEND;TZID=Europe/London:20210413T203000
DTSTAMP:20260423T021856
CREATED:20210411T100110Z
LAST-MODIFIED:20210411T100110Z
UID:8418-1618343100-1618345800@christchurchpettswood.org.uk
SUMMARY:Solace @ home
DESCRIPTION:Thank you to Chris for putting together Solace @ Home \nSolace on Zoom will be monthly on the 2nd Tuesday of the month & details will be sent on email or contact us on welcome@ccpw.org.uk for more details \nPast SOLACE sessions can be found on YouTube at: https://www.youtube.com/channel/UC46AiOiiBFmThwhOLVeow6A. \nYou can also find the latest links to Solace at our website: https://christchurchpettswood.org.uk/solace/
URL:https://christchurchpettswood.org.uk/event/solace-home-4/
CATEGORIES:Church Events
ATTACH;FMTTYPE=image/jpeg:https://christchurchpettswood.org.uk/wp-content/uploads/2020/04/Solace-003-Psalm-121-and-Carol-Ann-Duffy-mp3-image.jpg
END:VEVENT
END:VCALENDAR