BEGIN:VCALENDAR
VERSION:2.0
PRODID:-//Christ Church United Reformed Church, Petts Wood - ECPv6.15.20//NONSGML v1.0//EN
CALSCALE:GREGORIAN
METHOD:PUBLISH
X-WR-CALNAME:Christ Church United Reformed Church, Petts Wood
X-ORIGINAL-URL:https://christchurchpettswood.org.uk
X-WR-CALDESC:Events for Christ Church United Reformed Church, Petts Wood
REFRESH-INTERVAL;VALUE=DURATION:PT1H
X-Robots-Tag:noindex
X-PUBLISHED-TTL:PT1H
BEGIN:VTIMEZONE
TZID:Europe/London
BEGIN:DAYLIGHT
TZOFFSETFROM:+0000
TZOFFSETTO:+0100
TZNAME:BST
DTSTART:20200329T010000
END:DAYLIGHT
BEGIN:STANDARD
TZOFFSETFROM:+0100
TZOFFSETTO:+0000
TZNAME:GMT
DTSTART:20201025T010000
END:STANDARD
BEGIN:DAYLIGHT
TZOFFSETFROM:+0000
TZOFFSETTO:+0100
TZNAME:BST
DTSTART:20210328T010000
END:DAYLIGHT
BEGIN:STANDARD
TZOFFSETFROM:+0100
TZOFFSETTO:+0000
TZNAME:GMT
DTSTART:20211031T010000
END:STANDARD
BEGIN:DAYLIGHT
TZOFFSETFROM:+0000
TZOFFSETTO:+0100
TZNAME:BST
DTSTART:20220327T010000
END:DAYLIGHT
BEGIN:STANDARD
TZOFFSETFROM:+0100
TZOFFSETTO:+0000
TZNAME:GMT
DTSTART:20221030T010000
END:STANDARD
END:VTIMEZONE
BEGIN:VEVENT
DTSTART;TZID=Europe/London:20210412T200000
DTEND;TZID=Europe/London:20210412T210000
DTSTAMP:20260423T021857
CREATED:20210303T092958Z
LAST-MODIFIED:20210326T104945Z
UID:7819-1618257600-1618261200@christchurchpettswood.org.uk
SUMMARY:Book Club - In the Days of Rain
DESCRIPTION:On the 5th April at 8pm on Zoom we will be discussing In the Days of Rain by Rebecca Stott\, a story of woman who grew up in a strict Bretheren community and how she broke free. \nPlease contact bookclub@ccpw.org.uk if you haven’t joined us before. If you know of someone who can’t use technology but would still like to join us do help us connect with them as they can join in via the telephone. Once permitted we hope to again be meeting in one of our book club member’s homes on the first Monday each month.
URL:https://christchurchpettswood.org.uk/event/book-club-in-the-days-of-rain/
CATEGORIES:Church Events
ATTACH;FMTTYPE=image/jpeg:https://christchurchpettswood.org.uk/wp-content/uploads/2021/03/Book-Club-In-the-days-of-rain.jpg
END:VEVENT
END:VCALENDAR