BEGIN:VCALENDAR
VERSION:2.0
PRODID:-//Christ Church United Reformed Church, Petts Wood - ECPv6.15.20//NONSGML v1.0//EN
CALSCALE:GREGORIAN
METHOD:PUBLISH
X-WR-CALNAME:Christ Church United Reformed Church, Petts Wood
X-ORIGINAL-URL:https://christchurchpettswood.org.uk
X-WR-CALDESC:Events for Christ Church United Reformed Church, Petts Wood
REFRESH-INTERVAL;VALUE=DURATION:PT1H
X-Robots-Tag:noindex
X-PUBLISHED-TTL:PT1H
BEGIN:VTIMEZONE
TZID:Europe/London
BEGIN:DAYLIGHT
TZOFFSETFROM:+0000
TZOFFSETTO:+0100
TZNAME:BST
DTSTART:20200329T010000
END:DAYLIGHT
BEGIN:STANDARD
TZOFFSETFROM:+0100
TZOFFSETTO:+0000
TZNAME:GMT
DTSTART:20201025T010000
END:STANDARD
BEGIN:DAYLIGHT
TZOFFSETFROM:+0000
TZOFFSETTO:+0100
TZNAME:BST
DTSTART:20210328T010000
END:DAYLIGHT
BEGIN:STANDARD
TZOFFSETFROM:+0100
TZOFFSETTO:+0000
TZNAME:GMT
DTSTART:20211031T010000
END:STANDARD
BEGIN:DAYLIGHT
TZOFFSETFROM:+0000
TZOFFSETTO:+0100
TZNAME:BST
DTSTART:20220327T010000
END:DAYLIGHT
BEGIN:STANDARD
TZOFFSETFROM:+0100
TZOFFSETTO:+0000
TZNAME:GMT
DTSTART:20221030T010000
END:STANDARD
END:VTIMEZONE
BEGIN:VEVENT
DTSTART;TZID=Europe/London:20210411T103000
DTEND;TZID=Europe/London:20210411T111500
DTSTAMP:20260423T021857
CREATED:20210406T185524Z
LAST-MODIFIED:20210406T185524Z
UID:8309-1618137000-1618139700@christchurchpettswood.org.uk
SUMMARY:Sunday Family Worship
DESCRIPTION:Our worship on Sunday 11th April from 10.30am is being led by Synod moderator Rev Bridget Banks. This will be a live service on Zoom (link circulated via email) and also on our YouTube channel \nOrder of service will include the following readings: \nActs 4:32-35 \nJohn 20:19-31
URL:https://christchurchpettswood.org.uk/event/sunday-family-worship-22/
CATEGORIES:Church Events
ATTACH;FMTTYPE=image/png:https://christchurchpettswood.org.uk/wp-content/uploads/2021/04/Advert-for-Sundays-Service.png
END:VEVENT
BEGIN:VEVENT
DTSTART;TZID=Europe/London:20210411T190000
DTEND;TZID=Europe/London:20210411T203000
DTSTAMP:20260423T021857
CREATED:20210307T155144Z
LAST-MODIFIED:20210307T155626Z
UID:7964-1618167600-1618173000@christchurchpettswood.org.uk
SUMMARY:Zoom wine tasting
DESCRIPTION:On Sunday 11th April from 7pm\, in the window after the ‘no travel’ ban is lifted and before retail opens up we are having a Zoom wine tasting. Those who sign up need to within a few miles of Petts Wood so we can deliver (or your can collect) the samples of wine. \nEach participant who joins our virtual wine cellar will be supplied a selection of wines in 50ml glass recyclable bottles. \nThere will be a wine related quiz\, a wine vocabulary quiz for each wine and then a vote on your favourite wine. \nDonations to cover the cost will be invited\, with any surplus going to the Church roof fund \nTo sign up or get more details please email welcome@ccpw.org.uk citing the wine tasting
URL:https://christchurchpettswood.org.uk/event/zoom-wine-tasting/
CATEGORIES:Church Events
ATTACH;FMTTYPE=image/png:https://christchurchpettswood.org.uk/wp-content/uploads/2021/03/Wine-Tasting-quiz-Night.png
END:VEVENT
END:VCALENDAR