BEGIN:VCALENDAR
VERSION:2.0
PRODID:-//Christ Church United Reformed Church, Petts Wood - ECPv6.15.20//NONSGML v1.0//EN
CALSCALE:GREGORIAN
METHOD:PUBLISH
X-ORIGINAL-URL:https://christchurchpettswood.org.uk
X-WR-CALDESC:Events for Christ Church United Reformed Church, Petts Wood
REFRESH-INTERVAL;VALUE=DURATION:PT1H
X-Robots-Tag:noindex
X-PUBLISHED-TTL:PT1H
BEGIN:VTIMEZONE
TZID:Europe/London
BEGIN:DAYLIGHT
TZOFFSETFROM:+0000
TZOFFSETTO:+0100
TZNAME:BST
DTSTART:20200329T010000
END:DAYLIGHT
BEGIN:STANDARD
TZOFFSETFROM:+0100
TZOFFSETTO:+0000
TZNAME:GMT
DTSTART:20201025T010000
END:STANDARD
BEGIN:DAYLIGHT
TZOFFSETFROM:+0000
TZOFFSETTO:+0100
TZNAME:BST
DTSTART:20210328T010000
END:DAYLIGHT
BEGIN:STANDARD
TZOFFSETFROM:+0100
TZOFFSETTO:+0000
TZNAME:GMT
DTSTART:20211031T010000
END:STANDARD
BEGIN:DAYLIGHT
TZOFFSETFROM:+0000
TZOFFSETTO:+0100
TZNAME:BST
DTSTART:20220327T010000
END:DAYLIGHT
BEGIN:STANDARD
TZOFFSETFROM:+0100
TZOFFSETTO:+0000
TZNAME:GMT
DTSTART:20221030T010000
END:STANDARD
END:VTIMEZONE
BEGIN:VEVENT
DTSTART;TZID=Europe/London:20210402T193000
DTEND;TZID=Europe/London:20210402T201500
DTSTAMP:20260423T033421
CREATED:20210315T163700Z
LAST-MODIFIED:20210321T105529Z
UID:8044-1617391800-1617394500@christchurchpettswood.org.uk
SUMMARY:Good Friday Tenebrae service
DESCRIPTION:Join us for a series of Easter services led by our Minister\, Rev Nadene Snyman. They will be held on Zoom but also available on our YouTube Channel https://youtube.com/c/ChristChurchPettsWood  \nOur Good Friday service starts at 7.30pm on 2nd of April and will be in the Tenebrae style\, with a series of readings from the bible of the story leading upto Good Friday\, with a calm and thought-filled conclusion as we grapple with the amazingness of the sacrifice made to save us all.
URL:https://christchurchpettswood.org.uk/event/good-friday-tenebrae-service/
CATEGORIES:Church Events
ATTACH;FMTTYPE=image/png:https://christchurchpettswood.org.uk/wp-content/uploads/2021/03/Tenebrae-Advert.png
END:VEVENT
END:VCALENDAR