BEGIN:VCALENDAR
VERSION:2.0
PRODID:-//Christ Church United Reformed Church, Petts Wood - ECPv6.15.20//NONSGML v1.0//EN
CALSCALE:GREGORIAN
METHOD:PUBLISH
X-ORIGINAL-URL:https://christchurchpettswood.org.uk
X-WR-CALDESC:Events for Christ Church United Reformed Church, Petts Wood
REFRESH-INTERVAL;VALUE=DURATION:PT1H
X-Robots-Tag:noindex
X-PUBLISHED-TTL:PT1H
BEGIN:VTIMEZONE
TZID:Europe/London
BEGIN:DAYLIGHT
TZOFFSETFROM:+0000
TZOFFSETTO:+0100
TZNAME:BST
DTSTART:20200329T010000
END:DAYLIGHT
BEGIN:STANDARD
TZOFFSETFROM:+0100
TZOFFSETTO:+0000
TZNAME:GMT
DTSTART:20201025T010000
END:STANDARD
BEGIN:DAYLIGHT
TZOFFSETFROM:+0000
TZOFFSETTO:+0100
TZNAME:BST
DTSTART:20210328T010000
END:DAYLIGHT
BEGIN:STANDARD
TZOFFSETFROM:+0100
TZOFFSETTO:+0000
TZNAME:GMT
DTSTART:20211031T010000
END:STANDARD
BEGIN:DAYLIGHT
TZOFFSETFROM:+0000
TZOFFSETTO:+0100
TZNAME:BST
DTSTART:20220327T010000
END:DAYLIGHT
BEGIN:STANDARD
TZOFFSETFROM:+0100
TZOFFSETTO:+0000
TZNAME:GMT
DTSTART:20221030T010000
END:STANDARD
END:VTIMEZONE
BEGIN:VEVENT
DTSTART;TZID=Europe/London:20210328T103000
DTEND;TZID=Europe/London:20210328T111500
DTSTAMP:20260423T034115
CREATED:20210315T163100Z
LAST-MODIFIED:20210315T163100Z
UID:8040-1616927400-1616930100@christchurchpettswood.org.uk
SUMMARY:Palm Sunday Worship
DESCRIPTION:Join us for a series of Easter services led by our Minister\, Rev Nadene Snyman. They will be held on Zoom but also available on our YouTube Channel https://youtube.com/c/ChristChurchPettsWood 
URL:https://christchurchpettswood.org.uk/event/palm-sunday-worship/
CATEGORIES:Church Events
ATTACH;FMTTYPE=image/png:https://christchurchpettswood.org.uk/wp-content/uploads/2021/03/image0.png
END:VEVENT
BEGIN:VEVENT
DTSTART;TZID=Europe/London:20210328T160000
DTEND;TZID=Europe/London:20210328T164500
DTSTAMP:20260423T034115
CREATED:20210222T203002Z
LAST-MODIFIED:20210222T203021Z
UID:7046-1616947200-1616949900@christchurchpettswood.org.uk
SUMMARY:Messy Palm Sunday
DESCRIPTION:Everyone is very welcome to join us for our Messy Church Palm Sunday Zoom which is being on Sunday 28th March at 4pm. All you need to bring is a magazine/newspaper\, sellotape & some scissors! \nThis service will not be streamed online or recorded so completely limited to families that have a link. We look forward to seeing you then! Please email welcome@ccpw.org.uk to get the zoom link details.
URL:https://christchurchpettswood.org.uk/event/messy-palm-sunday/
CATEGORIES:Children & Youth,Church Events
ATTACH;FMTTYPE=image/jpeg:https://christchurchpettswood.org.uk/wp-content/uploads/2021/02/MessyPalmSunday.jpg
END:VEVENT
END:VCALENDAR