BEGIN:VCALENDAR
VERSION:2.0
PRODID:-//Christ Church United Reformed Church, Petts Wood - ECPv6.15.20//NONSGML v1.0//EN
CALSCALE:GREGORIAN
METHOD:PUBLISH
X-WR-CALNAME:Christ Church United Reformed Church, Petts Wood
X-ORIGINAL-URL:https://christchurchpettswood.org.uk
X-WR-CALDESC:Events for Christ Church United Reformed Church, Petts Wood
REFRESH-INTERVAL;VALUE=DURATION:PT1H
X-Robots-Tag:noindex
X-PUBLISHED-TTL:PT1H
BEGIN:VTIMEZONE
TZID:Europe/London
BEGIN:DAYLIGHT
TZOFFSETFROM:+0000
TZOFFSETTO:+0100
TZNAME:BST
DTSTART:20200329T010000
END:DAYLIGHT
BEGIN:STANDARD
TZOFFSETFROM:+0100
TZOFFSETTO:+0000
TZNAME:GMT
DTSTART:20201025T010000
END:STANDARD
BEGIN:DAYLIGHT
TZOFFSETFROM:+0000
TZOFFSETTO:+0100
TZNAME:BST
DTSTART:20210328T010000
END:DAYLIGHT
BEGIN:STANDARD
TZOFFSETFROM:+0100
TZOFFSETTO:+0000
TZNAME:GMT
DTSTART:20211031T010000
END:STANDARD
BEGIN:DAYLIGHT
TZOFFSETFROM:+0000
TZOFFSETTO:+0100
TZNAME:BST
DTSTART:20220327T010000
END:DAYLIGHT
BEGIN:STANDARD
TZOFFSETFROM:+0100
TZOFFSETTO:+0000
TZNAME:GMT
DTSTART:20221030T010000
END:STANDARD
END:VTIMEZONE
BEGIN:VEVENT
DTSTART;TZID=Europe/London:20210314T103000
DTEND;TZID=Europe/London:20210314T111500
DTSTAMP:20260423T021928
CREATED:20210308T194044Z
LAST-MODIFIED:20210308T194044Z
UID:8010-1615717800-1615720500@christchurchpettswood.org.uk
SUMMARY:Mothering Sunday & Lent Family Worship
DESCRIPTION:Mothering Sunday 14th March 2021 10.30am led by Our Minister via Zoom & YouTube \nCall to worship & welcome                     Nadene \nOpening Prayer                                 Poole family \nLord’s Prayer                             Church of Youth \nHymn: Shine Jesus Shine \nNotices                                                               Kat \nJohn 3: 14-21                                          Allison M \nSermon                                                      Nadene \nHymn: We are marching in the light of God \nPrayers for the World                                    Bill B \nHymn: Walk in the light \nBlessing & Grace                                     Nadene
URL:https://christchurchpettswood.org.uk/event/mothering-sunday-lent-family-worship/
CATEGORIES:Church Events
ATTACH;FMTTYPE=image/png:https://christchurchpettswood.org.uk/wp-content/uploads/2021/03/YouTube-Thumbnail-1.png
END:VEVENT
END:VCALENDAR