BEGIN:VCALENDAR
VERSION:2.0
PRODID:-//Christ Church United Reformed Church, Petts Wood - ECPv6.15.20//NONSGML v1.0//EN
CALSCALE:GREGORIAN
METHOD:PUBLISH
X-WR-CALNAME:Christ Church United Reformed Church, Petts Wood
X-ORIGINAL-URL:https://christchurchpettswood.org.uk
X-WR-CALDESC:Events for Christ Church United Reformed Church, Petts Wood
REFRESH-INTERVAL;VALUE=DURATION:PT1H
X-Robots-Tag:noindex
X-PUBLISHED-TTL:PT1H
BEGIN:VTIMEZONE
TZID:Europe/London
BEGIN:DAYLIGHT
TZOFFSETFROM:+0000
TZOFFSETTO:+0100
TZNAME:BST
DTSTART:20200329T010000
END:DAYLIGHT
BEGIN:STANDARD
TZOFFSETFROM:+0100
TZOFFSETTO:+0000
TZNAME:GMT
DTSTART:20201025T010000
END:STANDARD
BEGIN:DAYLIGHT
TZOFFSETFROM:+0000
TZOFFSETTO:+0100
TZNAME:BST
DTSTART:20210328T010000
END:DAYLIGHT
BEGIN:STANDARD
TZOFFSETFROM:+0100
TZOFFSETTO:+0000
TZNAME:GMT
DTSTART:20211031T010000
END:STANDARD
BEGIN:DAYLIGHT
TZOFFSETFROM:+0000
TZOFFSETTO:+0100
TZNAME:BST
DTSTART:20220327T010000
END:DAYLIGHT
BEGIN:STANDARD
TZOFFSETFROM:+0100
TZOFFSETTO:+0000
TZNAME:GMT
DTSTART:20221030T010000
END:STANDARD
END:VTIMEZONE
BEGIN:VEVENT
DTSTART;TZID=Europe/London:20210228T103000
DTEND;TZID=Europe/London:20210228T111500
DTSTAMP:20260423T045018
CREATED:20210222T202031Z
LAST-MODIFIED:20210222T202031Z
UID:7044-1614508200-1614510900@christchurchpettswood.org.uk
SUMMARY:Fairtrade Sunday Family Worship
DESCRIPTION:Join us for this service on Climate\, Fairtrade and You\, @ 10.30am on YouTube \nCall to worship \nWelcome \n1st Hymn I Dream of a Church \n1st Reading: Micah 6 various vv. \n2nd Reading: Matthew 5: 43-48 \nPrayer \n2nd Hymn: God the Maker of the Heavens (tune: What a Friend we have in Jesus) \nSermon: DOING Justice Revd Dr Kevin Snyman \nSilent Reflection… \nIntercessory Prayers Anna Jane Evans \nFinal Hymn: I love the Sun © Gwen F. Smith SCM-Canterbury Press Ltd.(Admin. Hope Publishing Co.) \nBenediction \nNote: unless otherwise indicated\, all material is available to use and share under the Creative Commons 4.0 attribution licence
URL:https://christchurchpettswood.org.uk/event/fairtrade-sunday-family-worship/
CATEGORIES:Church Events
ATTACH;FMTTYPE=image/png:https://christchurchpettswood.org.uk/wp-content/uploads/2021/02/Thumbnail.png
END:VEVENT
END:VCALENDAR