BEGIN:VCALENDAR
VERSION:2.0
PRODID:-//Christ Church United Reformed Church, Petts Wood - ECPv6.15.20//NONSGML v1.0//EN
CALSCALE:GREGORIAN
METHOD:PUBLISH
X-WR-CALNAME:Christ Church United Reformed Church, Petts Wood
X-ORIGINAL-URL:https://christchurchpettswood.org.uk
X-WR-CALDESC:Events for Christ Church United Reformed Church, Petts Wood
REFRESH-INTERVAL;VALUE=DURATION:PT1H
X-Robots-Tag:noindex
X-PUBLISHED-TTL:PT1H
BEGIN:VTIMEZONE
TZID:Europe/London
BEGIN:DAYLIGHT
TZOFFSETFROM:+0000
TZOFFSETTO:+0100
TZNAME:BST
DTSTART:20200329T010000
END:DAYLIGHT
BEGIN:STANDARD
TZOFFSETFROM:+0100
TZOFFSETTO:+0000
TZNAME:GMT
DTSTART:20201025T010000
END:STANDARD
BEGIN:DAYLIGHT
TZOFFSETFROM:+0000
TZOFFSETTO:+0100
TZNAME:BST
DTSTART:20210328T010000
END:DAYLIGHT
BEGIN:STANDARD
TZOFFSETFROM:+0100
TZOFFSETTO:+0000
TZNAME:GMT
DTSTART:20211031T010000
END:STANDARD
BEGIN:DAYLIGHT
TZOFFSETFROM:+0000
TZOFFSETTO:+0100
TZNAME:BST
DTSTART:20220327T010000
END:DAYLIGHT
BEGIN:STANDARD
TZOFFSETFROM:+0100
TZOFFSETTO:+0000
TZNAME:GMT
DTSTART:20221030T010000
END:STANDARD
END:VTIMEZONE
BEGIN:VEVENT
DTSTART;TZID=Europe/London:20210214T103000
DTEND;TZID=Europe/London:20210214T111500
DTSTAMP:20260423T045018
CREATED:20210209T203622Z
LAST-MODIFIED:20210209T204009Z
UID:6993-1613298600-1613301300@christchurchpettswood.org.uk
SUMMARY:Sunday family worship
DESCRIPTION:Family Worship on Sunday 14th February 10.30am led by Our Minister \nYouTube \n  \nCall to worship & welcome                     Nadene \nOpening Prayer                                                Izzy \nLord’s Prayer                             Church of Youth \nHymn: Breathe on me breath of God \nNotices                                                               Kat \n2 Kings 2: 7-12                                           John R \nMark 9: 2-9                                                     Kerry \nSermon                                                      Nadene \nChoir: O Love that wilt not let me go \nPrayers for the World                              Martin F \nHymn: Be Thou My vision \nBlessing & Grace                                     Nadene \n 
URL:https://christchurchpettswood.org.uk/event/sunday-family-worship-18/
CATEGORIES:Church Events
ATTACH;FMTTYPE=image/png:https://christchurchpettswood.org.uk/wp-content/uploads/2021/02/14th-Advert.png
END:VEVENT
END:VCALENDAR