BEGIN:VCALENDAR
VERSION:2.0
PRODID:-//Christ Church United Reformed Church, Petts Wood - ECPv6.15.20//NONSGML v1.0//EN
CALSCALE:GREGORIAN
METHOD:PUBLISH
X-WR-CALNAME:Christ Church United Reformed Church, Petts Wood
X-ORIGINAL-URL:https://christchurchpettswood.org.uk
X-WR-CALDESC:Events for Christ Church United Reformed Church, Petts Wood
REFRESH-INTERVAL;VALUE=DURATION:PT1H
X-Robots-Tag:noindex
X-PUBLISHED-TTL:PT1H
BEGIN:VTIMEZONE
TZID:Europe/London
BEGIN:DAYLIGHT
TZOFFSETFROM:+0000
TZOFFSETTO:+0100
TZNAME:BST
DTSTART:20190331T010000
END:DAYLIGHT
BEGIN:STANDARD
TZOFFSETFROM:+0100
TZOFFSETTO:+0000
TZNAME:GMT
DTSTART:20191027T010000
END:STANDARD
BEGIN:DAYLIGHT
TZOFFSETFROM:+0000
TZOFFSETTO:+0100
TZNAME:BST
DTSTART:20200329T010000
END:DAYLIGHT
BEGIN:STANDARD
TZOFFSETFROM:+0100
TZOFFSETTO:+0000
TZNAME:GMT
DTSTART:20201025T010000
END:STANDARD
BEGIN:DAYLIGHT
TZOFFSETFROM:+0000
TZOFFSETTO:+0100
TZNAME:BST
DTSTART:20210328T010000
END:DAYLIGHT
BEGIN:STANDARD
TZOFFSETFROM:+0100
TZOFFSETTO:+0000
TZNAME:GMT
DTSTART:20211031T010000
END:STANDARD
END:VTIMEZONE
BEGIN:VEVENT
DTSTART;TZID=Europe/London:20201129T103000
DTEND;TZID=Europe/London:20201129T111500
DTSTAMP:20260423T075214
CREATED:20201125T185424Z
LAST-MODIFIED:20201125T201614Z
UID:6590-1606645800-1606648500@christchurchpettswood.org.uk
SUMMARY:First Sunday in Advent
DESCRIPTION:Join us on Zoom (link to be shared via email or messasge us here) or YouTube. Our service is being led by Mr Martin Fosten on the theme of Waiting in the Dark.\n\nIf you have one to hand\, have a candle and match/lighter ready to join in with lighting the first candle of advent.
URL:https://christchurchpettswood.org.uk/event/first-sunday-in-advent/
CATEGORIES:Church Events
ATTACH;FMTTYPE=image/png:https://christchurchpettswood.org.uk/wp-content/uploads/2020/11/Advert-logo-for-29th.png
END:VEVENT
END:VCALENDAR