BEGIN:VCALENDAR
VERSION:2.0
PRODID:-//Christ Church United Reformed Church, Petts Wood - ECPv6.15.20//NONSGML v1.0//EN
CALSCALE:GREGORIAN
METHOD:PUBLISH
X-ORIGINAL-URL:https://christchurchpettswood.org.uk
X-WR-CALDESC:Events for Christ Church United Reformed Church, Petts Wood
REFRESH-INTERVAL;VALUE=DURATION:PT1H
X-Robots-Tag:noindex
X-PUBLISHED-TTL:PT1H
BEGIN:VTIMEZONE
TZID:Europe/London
BEGIN:DAYLIGHT
TZOFFSETFROM:+0000
TZOFFSETTO:+0100
TZNAME:BST
DTSTART:20190331T010000
END:DAYLIGHT
BEGIN:STANDARD
TZOFFSETFROM:+0100
TZOFFSETTO:+0000
TZNAME:GMT
DTSTART:20191027T010000
END:STANDARD
BEGIN:DAYLIGHT
TZOFFSETFROM:+0000
TZOFFSETTO:+0100
TZNAME:BST
DTSTART:20200329T010000
END:DAYLIGHT
BEGIN:STANDARD
TZOFFSETFROM:+0100
TZOFFSETTO:+0000
TZNAME:GMT
DTSTART:20201025T010000
END:STANDARD
BEGIN:DAYLIGHT
TZOFFSETFROM:+0000
TZOFFSETTO:+0100
TZNAME:BST
DTSTART:20210328T010000
END:DAYLIGHT
BEGIN:STANDARD
TZOFFSETFROM:+0100
TZOFFSETTO:+0000
TZNAME:GMT
DTSTART:20211031T010000
END:STANDARD
END:VTIMEZONE
BEGIN:VEVENT
DTSTART;TZID=Europe/London:20200517T103000
DTEND;TZID=Europe/London:20200517T111500
DTSTAMP:20260424T041220
CREATED:20200514T171708Z
LAST-MODIFIED:20200515T164325Z
UID:5987-1589711400-1589714100@christchurchpettswood.org.uk
SUMMARY:Sunday Worship - love one another
DESCRIPTION:Join us for Sunday Worship on the theme of Loving Jesus means loving others. \nThe link will be sent via email & if you would like to be sent the link please send us a message so that we can add you to the distribution list. We also have a telephone number that people can dial in if you do not have access to Zoom or YouTube. \nThe service will later be available on your YouTube channel https://www.youtube.com/channel/UC46AiOiiBFmThwhOLVeow6A
URL:https://christchurchpettswood.org.uk/event/sunday-worship-love-one-another/
CATEGORIES:Church Events
ATTACH;FMTTYPE=image/png:https://christchurchpettswood.org.uk/wp-content/uploads/2020/05/AdvertisingYouTube-front-page.png
END:VEVENT
END:VCALENDAR