BEGIN:VCALENDAR
VERSION:2.0
PRODID:-//Christ Church United Reformed Church, Petts Wood - ECPv6.15.20//NONSGML v1.0//EN
CALSCALE:GREGORIAN
METHOD:PUBLISH
X-ORIGINAL-URL:https://christchurchpettswood.org.uk
X-WR-CALDESC:Events for Christ Church United Reformed Church, Petts Wood
REFRESH-INTERVAL;VALUE=DURATION:PT1H
X-Robots-Tag:noindex
X-PUBLISHED-TTL:PT1H
BEGIN:VTIMEZONE
TZID:Europe/London
BEGIN:DAYLIGHT
TZOFFSETFROM:+0000
TZOFFSETTO:+0100
TZNAME:BST
DTSTART:20190331T010000
END:DAYLIGHT
BEGIN:STANDARD
TZOFFSETFROM:+0100
TZOFFSETTO:+0000
TZNAME:GMT
DTSTART:20191027T010000
END:STANDARD
BEGIN:DAYLIGHT
TZOFFSETFROM:+0000
TZOFFSETTO:+0100
TZNAME:BST
DTSTART:20200329T010000
END:DAYLIGHT
BEGIN:STANDARD
TZOFFSETFROM:+0100
TZOFFSETTO:+0000
TZNAME:GMT
DTSTART:20201025T010000
END:STANDARD
BEGIN:DAYLIGHT
TZOFFSETFROM:+0000
TZOFFSETTO:+0100
TZNAME:BST
DTSTART:20210328T010000
END:DAYLIGHT
BEGIN:STANDARD
TZOFFSETFROM:+0100
TZOFFSETTO:+0000
TZNAME:GMT
DTSTART:20211031T010000
END:STANDARD
END:VTIMEZONE
BEGIN:VEVENT
DTSTART;TZID=Europe/London:20200503T103000
DTEND;TZID=Europe/London:20200503T113000
DTSTAMP:20260424T040416
CREATED:20200427T172541Z
LAST-MODIFIED:20200427T172541Z
UID:5945-1588501800-1588505400@christchurchpettswood.org.uk
SUMMARY:Family service with Holy Communion (via Zoom)
DESCRIPTION:We will be holding our service this Sunday\, 3rd of May via Zoom. \n\n\nPlease message us for a link if you are not on our usual mailing list.\n\n\n \n\n\nJoin from 10am onwards (to allow for any technical difficulties and to catch-up with everyone) with the service due to start at 10.30. \n\n\n \n\n\nPlease have with you some bread and wine (or equivalents) if you would like to take part in the Communion element of the service. \n\n\n \n\n\nWe will hopefully be streaming the service live on YouTube as well. We will also record the service so that we can make it into a clip for YouTube. If you do not want to be ‘filmed’ but do want to participate then you can join the service using audio only and not video. This will enable you can hear and see everyone but we won’t be able to see you.\n\n\n \n\n\nDuring the service we have the ability to mute everyone\, which we will do for the service. This means you will not have to worry about normal house noises or the children chatting. We have the ability to unmute individuals who will be involved in the service. So please do not worry about home noises during the service\, this will be no problem.
URL:https://christchurchpettswood.org.uk/event/family-service-with-holy-communion-via-zoom/
CATEGORIES:Church Events
ATTACH;FMTTYPE=image/jpeg:https://christchurchpettswood.org.uk/wp-content/uploads/2019/04/cup-and-cross.jpg
END:VEVENT
END:VCALENDAR